BEGIN:VCALENDAR
VERSION:2.0
PRODID:-//The Registry Theatre - ECPv6.15.20//NONSGML v1.0//EN
CALSCALE:GREGORIAN
METHOD:PUBLISH
X-ORIGINAL-URL:https://registrytheatre.com
X-WR-CALDESC:Events for The Registry Theatre
REFRESH-INTERVAL;VALUE=DURATION:PT1H
X-Robots-Tag:noindex
X-PUBLISHED-TTL:PT1H
BEGIN:VTIMEZONE
TZID:America/Toronto
BEGIN:DAYLIGHT
TZOFFSETFROM:-0500
TZOFFSETTO:-0400
TZNAME:EDT
DTSTART:20250309T070000
END:DAYLIGHT
BEGIN:STANDARD
TZOFFSETFROM:-0400
TZOFFSETTO:-0500
TZNAME:EST
DTSTART:20251102T060000
END:STANDARD
BEGIN:DAYLIGHT
TZOFFSETFROM:-0500
TZOFFSETTO:-0400
TZNAME:EDT
DTSTART:20260308T070000
END:DAYLIGHT
BEGIN:STANDARD
TZOFFSETFROM:-0400
TZOFFSETTO:-0500
TZNAME:EST
DTSTART:20261101T060000
END:STANDARD
BEGIN:DAYLIGHT
TZOFFSETFROM:-0500
TZOFFSETTO:-0400
TZNAME:EDT
DTSTART:20270314T070000
END:DAYLIGHT
BEGIN:STANDARD
TZOFFSETFROM:-0400
TZOFFSETTO:-0500
TZNAME:EST
DTSTART:20271107T060000
END:STANDARD
END:VTIMEZONE
BEGIN:VEVENT
DTSTART;TZID=America/Toronto:20260531T150000
DTEND;TZID=America/Toronto:20260531T163000
DTSTAMP:20260421T140840
CREATED:20251029T191309Z
LAST-MODIFIED:20260417T151357Z
UID:10001005-1780239600-1780245000@registrytheatre.com
SUMMARY:GREEN GABLES SING-A-LONG FUNDRAISER
DESCRIPTION:PRESENTED BY: GREEN GABLES UKULELES & FRIENDS\n\n\n\n\n\n\n\n\n\nJoin Green Gables Ukuleles & Friends for their fifth community sing-a-long/play-a-long to raise funds for the Registry Theatre! \n\n\n\nTickets: Pay-What-You-Can at the Door
URL:https://registrytheatre.com/event/green-gables-singalong-fundraiser-4/
CATEGORIES:Registry Presents Events
ATTACH;FMTTYPE=image/jpeg:https://registrytheatre.com/wp-content/uploads/2025/10/Green-Gables-Ukuleles-Friends-2025-photo-scaled-0DL6Rz.jpg
END:VEVENT
END:VCALENDAR