BEGIN:VCALENDAR
VERSION:2.0
PRODID:-//The Registry Theatre - ECPv6.15.20//NONSGML v1.0//EN
CALSCALE:GREGORIAN
METHOD:PUBLISH
X-WR-CALNAME:The Registry Theatre
X-ORIGINAL-URL:https://registrytheatre.com
X-WR-CALDESC:Events for The Registry Theatre
REFRESH-INTERVAL;VALUE=DURATION:PT1H
X-Robots-Tag:noindex
X-PUBLISHED-TTL:PT1H
BEGIN:VTIMEZONE
TZID:America/Toronto
BEGIN:DAYLIGHT
TZOFFSETFROM:-0500
TZOFFSETTO:-0400
TZNAME:EDT
DTSTART:20250309T070000
END:DAYLIGHT
BEGIN:STANDARD
TZOFFSETFROM:-0400
TZOFFSETTO:-0500
TZNAME:EST
DTSTART:20251102T060000
END:STANDARD
BEGIN:DAYLIGHT
TZOFFSETFROM:-0500
TZOFFSETTO:-0400
TZNAME:EDT
DTSTART:20260308T070000
END:DAYLIGHT
BEGIN:STANDARD
TZOFFSETFROM:-0400
TZOFFSETTO:-0500
TZNAME:EST
DTSTART:20261101T060000
END:STANDARD
BEGIN:DAYLIGHT
TZOFFSETFROM:-0500
TZOFFSETTO:-0400
TZNAME:EDT
DTSTART:20270314T070000
END:DAYLIGHT
BEGIN:STANDARD
TZOFFSETFROM:-0400
TZOFFSETTO:-0500
TZNAME:EST
DTSTART:20271107T060000
END:STANDARD
END:VTIMEZONE
BEGIN:VEVENT
DTSTART;TZID=America/Toronto:20260521T200000
DTEND;TZID=America/Toronto:20260521T220000
DTSTAMP:20260421T160149
CREATED:20251029T191040Z
LAST-MODIFIED:20251129T185510Z
UID:10000983-1779393600-1779400800@registrytheatre.com
SUMMARY:DOCKS OF NEW YORK (1928)
DESCRIPTION:VOC SILENT FILM HARMONIC\n\n\n\n\n\nJosef von Sternberg’s storied career stretched from the silent era to talkies. One of his favourite actors\, George Bancroft\, plays a ship’s stoker whose life changes forever when he saves a woman from drowning herself. \n\n\n\nTickets: $20 in advance\, $12 at the door with Food Bank donation \n\n\n\n\n\n\n\n\n\nFor event information\, please contact:
URL:https://registrytheatre.com/event/docks-of-new-york-1928/
CATEGORIES:Registry Presents Events,VOC Silent Film
ATTACH;FMTTYPE=image/jpeg:https://registrytheatre.com/wp-content/uploads/2025/10/Docks-of-New-York-VOC-25-26-6Zc8rE.jpg
END:VEVENT
BEGIN:VEVENT
DTSTART;TZID=America/Toronto:20260522T193000
DTEND;TZID=America/Toronto:20260522T213000
DTSTAMP:20260421T160149
CREATED:20251029T191039Z
LAST-MODIFIED:20260226T173408Z
UID:10000979-1779478200-1779485400@registrytheatre.com
SUMMARY:CALL & RESPONSE
DESCRIPTION:POETRY & MUSIC @ THE REGISTRY\n\n\n\nONE NIGHT ONLY: LIVE @ THE REGISTRY\n\n\n\n\n\n\n\n\n\nThe Registry’s Karl Kessler and Andy Macpherson bring poets and musicians to the stage for a magical evening where poetry and music swirl together in the harmony of call and response\, moving through the air like dancers in love. \n\n\n\nTickets: $30 \n\n\n\n\n\n\nSeries Sponsor\n\n\n\n\n\n\n\n\n\nWith Support From\n\n\n\n\n\n\n\n\n\n\n\n\nFor event information\, please contact:
URL:https://registrytheatre.com/event/call-response/
CATEGORIES:One Night Only
ATTACH;FMTTYPE=image/jpeg:https://registrytheatre.com/wp-content/uploads/2025/10/Karl-Kessler-Andy-Macpherson-photo-ONO-25-26-1024x1024-1.jpg
END:VEVENT
BEGIN:VEVENT
DTSTART;TZID=America/Toronto:20260523T140000
DTEND;TZID=America/Toronto:20260523T160000
DTSTAMP:20260421T160149
CREATED:20251029T191309Z
LAST-MODIFIED:20251129T190007Z
UID:10000998-1779544800-1779552000@registrytheatre.com
SUMMARY:JAZZ CONNECTION
DESCRIPTION:JAZZ @ THE REGISTRY\n\n\n\nPART OF THE SPRING BIG BAND JAZZ WEEKEND\n\n\n\n\n\n\n\nALL THAT BIG BAND JAZZ\n\n\n\n\n\nMusic director Simon Wheeldon and the Hamilton based big band pack a punch with traditional and contemporary big band arrangements. \n\n\n\nTickets: $40 \n\n\n\n\n\n\n\n\n\nFor event information\, please contact:
URL:https://registrytheatre.com/event/jazz-connection/
CATEGORIES:Jazz,Registry Presents Events
ATTACH;FMTTYPE=image/jpeg:https://registrytheatre.com/wp-content/uploads/2025/10/Jazz-Connection-Big-Band2-JATR-26-1024x769-1.jpeg
END:VEVENT
BEGIN:VEVENT
DTSTART;TZID=America/Toronto:20260523T200000
DTEND;TZID=America/Toronto:20260523T220000
DTSTAMP:20260421T160149
CREATED:20251029T191309Z
LAST-MODIFIED:20251129T190210Z
UID:10000999-1779566400-1779573600@registrytheatre.com
SUMMARY:ROBIN JESSOME
DESCRIPTION:JAZZ @ THE REGISTRY\n\n\n\nPART OF THE SPRING BIG BAND JAZZ WEEKEND\n\n\n\n\n\n\n\nBIRTH OF THE COOL\n\n\n\n\n\nRobin and his specially assembled all-star big band deliver the seminal Miles Davis album Birth of the Cool. \n\n\n\nTickets: $40 \n\n\n\n\n\n\n\n\n\nFor event information\, please contact:
URL:https://registrytheatre.com/event/robin-jessome/
CATEGORIES:Jazz,Registry Presents Events
ATTACH;FMTTYPE=image/jpeg:https://registrytheatre.com/wp-content/uploads/2025/10/Robin-Jessome-JATR-26-683x1024-1.jpg
END:VEVENT
BEGIN:VEVENT
DTSTART;TZID=America/Toronto:20260524T140000
DTEND;TZID=America/Toronto:20260524T160000
DTSTAMP:20260421T160149
CREATED:20251029T191309Z
LAST-MODIFIED:20251129T190428Z
UID:10001000-1779631200-1779638400@registrytheatre.com
SUMMARY:JONTUE ELAN
DESCRIPTION:JAZZ @ THE REGISTRY\n\n\n\nPART OF THE SPRING BIG BAND JAZZ WEEKEND\n\n\n\n\n\n\n\nSPECIAL GUESTS: BIG BAND THEORY\n\n\n\n\n\nJontue’s soulful vocals will delight the audience with renditions of songs of the greatest jazz singers\, and backed by the region’s premier big band. \n\n\n\nTickets: $40 \n\n\n\n\n\n\n\n\n\nFor event information\, please contact:
URL:https://registrytheatre.com/event/jontue-elan/
CATEGORIES:Jazz,Registry Presents Events
ATTACH;FMTTYPE=image/jpeg:https://registrytheatre.com/wp-content/uploads/2025/10/Jontue-Elan-JATR-26-HbAaxQ.jpg
END:VEVENT
END:VCALENDAR