BEGIN:VCALENDAR
VERSION:2.0
PRODID:-//The Registry Theatre - ECPv6.15.20//NONSGML v1.0//EN
CALSCALE:GREGORIAN
METHOD:PUBLISH
X-ORIGINAL-URL:https://registrytheatre.com
X-WR-CALDESC:Events for The Registry Theatre
REFRESH-INTERVAL;VALUE=DURATION:PT1H
X-Robots-Tag:noindex
X-PUBLISHED-TTL:PT1H
BEGIN:VTIMEZONE
TZID:America/Toronto
BEGIN:DAYLIGHT
TZOFFSETFROM:-0500
TZOFFSETTO:-0400
TZNAME:EDT
DTSTART:20250309T070000
END:DAYLIGHT
BEGIN:STANDARD
TZOFFSETFROM:-0400
TZOFFSETTO:-0500
TZNAME:EST
DTSTART:20251102T060000
END:STANDARD
BEGIN:DAYLIGHT
TZOFFSETFROM:-0500
TZOFFSETTO:-0400
TZNAME:EDT
DTSTART:20260308T070000
END:DAYLIGHT
BEGIN:STANDARD
TZOFFSETFROM:-0400
TZOFFSETTO:-0500
TZNAME:EST
DTSTART:20261101T060000
END:STANDARD
BEGIN:DAYLIGHT
TZOFFSETFROM:-0500
TZOFFSETTO:-0400
TZNAME:EDT
DTSTART:20270314T070000
END:DAYLIGHT
BEGIN:STANDARD
TZOFFSETFROM:-0400
TZOFFSETTO:-0500
TZNAME:EST
DTSTART:20271107T060000
END:STANDARD
END:VTIMEZONE
BEGIN:VEVENT
DTSTART;TZID=America/Toronto:20260408T193000
DTEND;TZID=America/Toronto:20260408T220000
DTSTAMP:20260421T113830
CREATED:20260211T031247Z
LAST-MODIFIED:20260211T031251Z
UID:10001061-1775676600-1775685600@registrytheatre.com
SUMMARY:The Songs of Sheryl Crow and Stevie Nicks
DESCRIPTION:PRESENTED BY: Classic Troubadour Productions\n\n\n\n\n\n\n\n\n\nExperience the magic of two rock icons in one unforgettable night! Jacob Moon and Classic Troubadours celebrate the timeless hits of Sheryl Crow and Stevie Nicks\, featuring powerful performances of classics like “If It Makes You Happy\,” “Everyday Is a Winding Road\,” “Edge of Seventeen\,” and “Rhiannon.” With soaring vocals\, a dynamic live band (featuring an all-star local band including Alex Whorms\, Melissa Marchese and Annette Haas)\, and the soulful energy of these legendary artists\, this show is a must-see for fans of female-driven rock and roll. Relive the music that defined a generation! \n\n\n\nTickets $48.44 \n\n\n\n\nTickets\n\n\n\n\nFor event information\, please contact:
URL:https://registrytheatre.com/event/the-songs-of-sheryl-crow-and-stevie-nicks/
CATEGORIES:Rental Events
ATTACH;FMTTYPE=image/jpeg:https://registrytheatre.com/wp-content/uploads/2026/02/SCSN-Empire-Color-Shot-sm-scaled.jpg
END:VEVENT
BEGIN:VEVENT
DTSTART;TZID=America/Toronto:20260410T200000
DTEND;TZID=America/Toronto:20260410T220000
DTSTAMP:20260421T113830
CREATED:20251029T191309Z
LAST-MODIFIED:20251129T183517Z
UID:10000997-1775851200-1775858400@registrytheatre.com
SUMMARY:PAUL STOUFFER
DESCRIPTION:JAZZ @ THE REGISTRY\n\n\n\n\n\n\n\nPAUL STOUFFER PLAYS HERBIE HANCOCK\n\n\n\n\n\n“Music has the power to transcend borders\, foster dialogue\, spark joy and hope.” – Herbie Hancock \n\n\n\nPaul and his great band present a concert and multi-media celebration of the legendary jazz musician\, and composer. \n\n\n\nTickets: $35 \n\n\n\n\n\n\n\n\n\nFor event information\, please contact:
URL:https://registrytheatre.com/event/paul-stouffer/
CATEGORIES:Jazz,Registry Presents Events
ATTACH;FMTTYPE=image/jpeg:https://registrytheatre.com/wp-content/uploads/2025/10/Paul-Stouffer-BW2-Jazz-25-26-1024x1022-1.jpg
END:VEVENT
BEGIN:VEVENT
DTSTART;TZID=America/Toronto:20260411T200000
DTEND;TZID=America/Toronto:20260411T223000
DTSTAMP:20260421T113830
CREATED:20251029T191309Z
LAST-MODIFIED:20260330T175907Z
UID:10000989-1775937600-1775946600@registrytheatre.com
SUMMARY:DAN BEACOCK & LOCAL HEROES with Special Guests - the OCD Horns
DESCRIPTION:HOMEGROWN @ THE REGISTRY\n\n\n\n\n\n\n\n\n\nDan Beacock\, Peter Beacock\, Duncan McLennan & Tom Nagy\, plus the OCD Horns. Featuring hits and deep-cuts from a powerhouse band with a thick groove and sonic presence that will leave you wanting more!From Chicago and Blood Sweat & Tears\, to The Band\, Lighthouse\, and more. \n\n\n\nTickets: $40 \n\n\n\n\n\n\nPresenting Sponsor\n\n\n\n\n\n\n\n\n\n\n\n\nFor event information\, please contact:
URL:https://registrytheatre.com/event/dan-beacock-local-heros-special-guests-the-ocd-horns/
CATEGORIES:Homegrown,Registry Presents Events
ATTACH;FMTTYPE=image/png:https://registrytheatre.com/wp-content/uploads/2025/10/Dan-Beacock-kgTW3P.png
END:VEVENT
BEGIN:VEVENT
DTSTART;TZID=America/Toronto:20260412T100000
DTEND;TZID=America/Toronto:20260412T170000
DTSTAMP:20260421T113830
CREATED:20260312T140645Z
LAST-MODIFIED:20260312T140915Z
UID:10001070-1775988000-1776013200@registrytheatre.com
SUMMARY:AUDITIONS FOR: Rachel Carson\,
DESCRIPTION:Presented by JM Drama Alumni\, written by local playwright Steven Jackson.\n\n\n\n\n\n\n\n\n\nJM Drama’s summer 2026 production\, Rachel Carson\, written by local playwright Steven Jackson will be having open auditions at The Registry Theatre on April 12\, 14 & 16. \n\n\n\nABOUT THE SHOW: In 1958\, after numerous awards for her books\, Rachel Carson settled into a life of observing nature with her adopted great nephew\, Roger and her neighbour\, Dorothy. The simple life she wanted though became a race against time as she began work on the greatest environmental book of all time. She just didn’t realize how great the challenge would be and just how much time she would have to write it. \n\n\n\nCASTING FOR SEVERAL ROLES:We are casting four (4) actors:Rachel – female identifying – age played from 50 – 55 years oldRoger – male identifying – age played from 10 – 15 years oldDorothy – female identifying – age played from 52 – 57 years oldPaul – male identifying – age played from 48 – 53 years old \n\n\n\nEveryone is welcome to audition regardless of your current age\, gender\, race or ethnic identity.
URL:https://registrytheatre.com/event/auditions-for-rachel-carson/2026-04-12/
ATTACH;FMTTYPE=image/jpeg:https://registrytheatre.com/wp-content/uploads/2026/03/Audition-Notice-Rachel-Carson.jpg
END:VEVENT
END:VCALENDAR