BEGIN:VCALENDAR
VERSION:2.0
PRODID:-//The Registry Theatre - ECPv6.15.20//NONSGML v1.0//EN
CALSCALE:GREGORIAN
METHOD:PUBLISH
X-ORIGINAL-URL:https://registrytheatre.com
X-WR-CALDESC:Events for The Registry Theatre
REFRESH-INTERVAL;VALUE=DURATION:PT1H
X-Robots-Tag:noindex
X-PUBLISHED-TTL:PT1H
BEGIN:VTIMEZONE
TZID:America/Toronto
BEGIN:DAYLIGHT
TZOFFSETFROM:-0500
TZOFFSETTO:-0400
TZNAME:EDT
DTSTART:20250309T070000
END:DAYLIGHT
BEGIN:STANDARD
TZOFFSETFROM:-0400
TZOFFSETTO:-0500
TZNAME:EST
DTSTART:20251102T060000
END:STANDARD
BEGIN:DAYLIGHT
TZOFFSETFROM:-0500
TZOFFSETTO:-0400
TZNAME:EDT
DTSTART:20260308T070000
END:DAYLIGHT
BEGIN:STANDARD
TZOFFSETFROM:-0400
TZOFFSETTO:-0500
TZNAME:EST
DTSTART:20261101T060000
END:STANDARD
BEGIN:DAYLIGHT
TZOFFSETFROM:-0500
TZOFFSETTO:-0400
TZNAME:EDT
DTSTART:20270314T070000
END:DAYLIGHT
BEGIN:STANDARD
TZOFFSETFROM:-0400
TZOFFSETTO:-0500
TZNAME:EST
DTSTART:20271107T060000
END:STANDARD
END:VTIMEZONE
BEGIN:VEVENT
DTSTART;TZID=America/Toronto:20260403T190000
DTEND;TZID=America/Toronto:20260403T210000
DTSTAMP:20260421T130336
CREATED:20260325T212311Z
LAST-MODIFIED:20260325T212320Z
UID:10001082-1775242800-1775250000@registrytheatre.com
SUMMARY:Charlie and the Chocolate Factory: The Broadway Musical
DESCRIPTION:Presented by Playful Fox Productions \n\n\n\n\n\n\n\n\n\nAfter their highly praised production last year at The Sanderson Centre\, Playful Fox Productions invites you to enter a world of Pure Imagination with Charlie and the Chocolate Factory – The Broadway Musical!  \n\n\n\nWorld Famous Candy-Man Willy Wonka comes to The Registry Theatre in this tasty Broadway/West End musical based on the famous novel and hit movie. Join Wonka\, young Charlie Bucket\, and four other golden ticket winners as they embark on a lifechanging journey through Wonka’s world of pure imagination including Oompa Loompas\, chocolate waterfalls\, nutty squirrels and the great glass elevator. Licensed with permission by MTI. \n\n\n\nTickets: $25 – $40Concessions will be available for cash only. Tickets may be purchased at the door with credit or cash. \n\n\n\n\n\nWho to contact for event info and inquiries:
URL:https://registrytheatre.com/event/charlie-and-the-chocolate-factory-the-broadway-musical/2026-04-03/
CATEGORIES:Rental Events
ATTACH;FMTTYPE=image/jpeg:https://registrytheatre.com/wp-content/uploads/2026/03/Charlie2026Main_Poster1-Marissa-Wilson.jpg
END:VEVENT
BEGIN:VEVENT
DTSTART;TZID=America/Toronto:20260404T140000
DTEND;TZID=America/Toronto:20260404T160000
DTSTAMP:20260421T130336
CREATED:20260325T212311Z
LAST-MODIFIED:20260325T212320Z
UID:10001083-1775311200-1775318400@registrytheatre.com
SUMMARY:Charlie and the Chocolate Factory: The Broadway Musical
DESCRIPTION:Presented by Playful Fox Productions \n\n\n\n\n\n\n\n\n\nAfter their highly praised production last year at The Sanderson Centre\, Playful Fox Productions invites you to enter a world of Pure Imagination with Charlie and the Chocolate Factory – The Broadway Musical!  \n\n\n\nWorld Famous Candy-Man Willy Wonka comes to The Registry Theatre in this tasty Broadway/West End musical based on the famous novel and hit movie. Join Wonka\, young Charlie Bucket\, and four other golden ticket winners as they embark on a lifechanging journey through Wonka’s world of pure imagination including Oompa Loompas\, chocolate waterfalls\, nutty squirrels and the great glass elevator. Licensed with permission by MTI. \n\n\n\nTickets: $25 – $40Concessions will be available for cash only. Tickets may be purchased at the door with credit or cash. \n\n\n\n\n\nWho to contact for event info and inquiries:
URL:https://registrytheatre.com/event/charlie-and-the-chocolate-factory-the-broadway-musical/2026-04-04/1/
CATEGORIES:Rental Events
ATTACH;FMTTYPE=image/jpeg:https://registrytheatre.com/wp-content/uploads/2026/03/Charlie2026Main_Poster1-Marissa-Wilson.jpg
END:VEVENT
BEGIN:VEVENT
DTSTART;TZID=America/Toronto:20260404T190000
DTEND;TZID=America/Toronto:20260404T210000
DTSTAMP:20260421T130336
CREATED:20260325T212311Z
LAST-MODIFIED:20260325T212320Z
UID:10001084-1775329200-1775336400@registrytheatre.com
SUMMARY:Charlie and the Chocolate Factory: The Broadway Musical
DESCRIPTION:Presented by Playful Fox Productions \n\n\n\n\n\n\n\n\n\nAfter their highly praised production last year at The Sanderson Centre\, Playful Fox Productions invites you to enter a world of Pure Imagination with Charlie and the Chocolate Factory – The Broadway Musical!  \n\n\n\nWorld Famous Candy-Man Willy Wonka comes to The Registry Theatre in this tasty Broadway/West End musical based on the famous novel and hit movie. Join Wonka\, young Charlie Bucket\, and four other golden ticket winners as they embark on a lifechanging journey through Wonka’s world of pure imagination including Oompa Loompas\, chocolate waterfalls\, nutty squirrels and the great glass elevator. Licensed with permission by MTI. \n\n\n\nTickets: $25 – $40Concessions will be available for cash only. Tickets may be purchased at the door with credit or cash. \n\n\n\n\n\nWho to contact for event info and inquiries:
URL:https://registrytheatre.com/event/charlie-and-the-chocolate-factory-the-broadway-musical/2026-04-04/2/
CATEGORIES:Rental Events
ATTACH;FMTTYPE=image/jpeg:https://registrytheatre.com/wp-content/uploads/2026/03/Charlie2026Main_Poster1-Marissa-Wilson.jpg
END:VEVENT
END:VCALENDAR