BEGIN:VCALENDAR
VERSION:2.0
PRODID:-//The Registry Theatre - ECPv6.15.20//NONSGML v1.0//EN
CALSCALE:GREGORIAN
METHOD:PUBLISH
X-ORIGINAL-URL:https://registrytheatre.com
X-WR-CALDESC:Events for The Registry Theatre
REFRESH-INTERVAL;VALUE=DURATION:PT1H
X-Robots-Tag:noindex
X-PUBLISHED-TTL:PT1H
BEGIN:VTIMEZONE
TZID:America/Toronto
BEGIN:DAYLIGHT
TZOFFSETFROM:-0500
TZOFFSETTO:-0400
TZNAME:EDT
DTSTART:20250309T070000
END:DAYLIGHT
BEGIN:STANDARD
TZOFFSETFROM:-0400
TZOFFSETTO:-0500
TZNAME:EST
DTSTART:20251102T060000
END:STANDARD
BEGIN:DAYLIGHT
TZOFFSETFROM:-0500
TZOFFSETTO:-0400
TZNAME:EDT
DTSTART:20260308T070000
END:DAYLIGHT
BEGIN:STANDARD
TZOFFSETFROM:-0400
TZOFFSETTO:-0500
TZNAME:EST
DTSTART:20261101T060000
END:STANDARD
BEGIN:DAYLIGHT
TZOFFSETFROM:-0500
TZOFFSETTO:-0400
TZNAME:EDT
DTSTART:20270314T070000
END:DAYLIGHT
BEGIN:STANDARD
TZOFFSETFROM:-0400
TZOFFSETTO:-0500
TZNAME:EST
DTSTART:20271107T060000
END:STANDARD
END:VTIMEZONE
BEGIN:VEVENT
DTSTART;TZID=America/Toronto:20260211T183000
DTEND;TZID=America/Toronto:20260211T203000
DTSTAMP:20260419T125755
CREATED:20260126T192819Z
LAST-MODIFIED:20260126T192825Z
UID:10001050-1770834600-1770841800@registrytheatre.com
SUMMARY:PETER & THE WOLF
DESCRIPTION:Presented by Carousel Dance Company\n\n\n\n\n\n\n\n\n\n\n\n\n\n\n\nJoin us for a performance of Peter & the Wolf! \n\n\n\nTICKETS: $25 adult or $15 child – HST added to all ticket prices *anyone who has purchased a ticket to KW Chamber Orchestra’s Peter & the Wolf on Feb 8th receives $10 off ticket price (applies to adult ticket prices only). Show proof of your Chamber Orchestra ticket purchase to get the deal.Tickets can be purchased at Carousel Dance Centre – 550-D7 Parkside Drive or at the door by cash or e-transfer \n\n\n\n\n\nPresented by:
URL:https://registrytheatre.com/event/peter-the-wolf/
CATEGORIES:Rental Events
ATTACH;FMTTYPE=image/png:https://registrytheatre.com/wp-content/uploads/2026/01/Your-poster-image-is-ready-now.-Heidi-Churchill.png
END:VEVENT
BEGIN:VEVENT
DTSTART;TZID=America/Toronto:20260213T200000
DTEND;TZID=America/Toronto:20260213T223000
DTSTAMP:20260419T125755
CREATED:20251029T191309Z
LAST-MODIFIED:20260119T194048Z
UID:10000988-1771012800-1771021800@registrytheatre.com
SUMMARY:BENJAMIN ROLLO: Great Canadian Singer-Songwriters Vol. IX
DESCRIPTION:HOMEGROWN @ THE REGISTRY\n\n\n\n\n\n\n\n\n\nBen warms up a winter night with his annual Registry concert featuring Canada’s finest singer-songwriters\, and special guests. \n\n\n\nTickets: $40 \n\n\n\n\n\n\n\n\n\n\nPresenting Sponsor\n\n\n\n\n\n\n\n\n\n\n\n\nFor event information\, please contact:
URL:https://registrytheatre.com/event/benjamin-rollo-great-canadian-singer-songwriters-vol-ix/
CATEGORIES:Homegrown,Registry Presents Events
ATTACH;FMTTYPE=image/jpeg:https://registrytheatre.com/wp-content/uploads/2025/10/Ben-Rollo-Home-Grown-25-26-Fx6g0K.jpg
END:VEVENT
BEGIN:VEVENT
DTSTART;TZID=America/Toronto:20260214T200000
DTEND;TZID=America/Toronto:20260214T220000
DTSTAMP:20260419T125755
CREATED:20251029T191039Z
LAST-MODIFIED:20251129T174355Z
UID:10000978-1771099200-1771106400@registrytheatre.com
SUMMARY:ERROL BLACKWOOD & INJAH BAND
DESCRIPTION:ONE NIGHT ONLY: LIVE @ THE REGISTRY\n\n\n\n\n\n\n\nBLACK HISTORY MONTH CONCERT\n\n\n\n\n\nFrom the hills of Jamaica\, to K-W’s godfather of Reggae\, Errol digs into the songs that gave Reggae its wings\, plus Messenjah\, and his solo albums. An evening through the heartbeat of Reggae\, and its message of love\, and peace. \n\n\n\nTickets: $35 \n\n\n\n\n\n\n\n\n\n\nSeries Sponsor\n\n\n\n\n\n\n\n\n\n\n\n\nFor event information\, please contact:
URL:https://registrytheatre.com/event/errol-blackwood-injah-band/
CATEGORIES:One Night Only
ATTACH;FMTTYPE=image/jpeg:https://registrytheatre.com/wp-content/uploads/2025/10/Errol-Blackwood-ONO-25-26-1024x768-1.jpeg
END:VEVENT
BEGIN:VEVENT
DTSTART;TZID=America/Toronto:20260215T150000
DTEND;TZID=America/Toronto:20260215T170000
DTSTAMP:20260419T125755
CREATED:20251029T191039Z
LAST-MODIFIED:20251130T020335Z
UID:10000975-1771167600-1771174800@registrytheatre.com
SUMMARY:VALTCHEV & TCHEKORATOVA
DESCRIPTION:CLASSICS @ THE REGISTRY\n\n\n\nPRESENTED BY K-W CHAMBER MUSIC SOCIETY\n\n\n\n\n\n\n\n\n\nEAST OF BUDAPEST\n\n\n\nSince their debut at Carnegie Hall\, violinist Georgy Valtchev and pianist Lora Tchekoratova have enchanted audiences around the world. The program East of Budapest features composers from their native Bulgaria\, as well as Romania\, Moldova and Albania. A variety that promises to excite and delight. \n\n\n\nTickets: $35\, $10 Student/Equity Lens \n\n\n\n\n\n\n\n\n\n\nSeries Sponsor\n\n\n\n\n\n\n\n\n\n\n\n\nFor event information\, please contact:
URL:https://registrytheatre.com/event/valtchev-tchekoratova/
CATEGORIES:Classics,Registry Presents Events
ATTACH;FMTTYPE=image/jpeg:https://registrytheatre.com/wp-content/uploads/2025/10/Valtchev-Tchekoratova-for-Classics-ad-25-26-1024x576-1.jpg
END:VEVENT
END:VCALENDAR