BEGIN:VCALENDAR
VERSION:2.0
PRODID:-//The Registry Theatre - ECPv6.15.20//NONSGML v1.0//EN
CALSCALE:GREGORIAN
METHOD:PUBLISH
X-WR-CALNAME:The Registry Theatre
X-ORIGINAL-URL:https://registrytheatre.com
X-WR-CALDESC:Events for The Registry Theatre
REFRESH-INTERVAL;VALUE=DURATION:PT1H
X-Robots-Tag:noindex
X-PUBLISHED-TTL:PT1H
BEGIN:VTIMEZONE
TZID:America/Toronto
BEGIN:DAYLIGHT
TZOFFSETFROM:-0500
TZOFFSETTO:-0400
TZNAME:EDT
DTSTART:20250309T070000
END:DAYLIGHT
BEGIN:STANDARD
TZOFFSETFROM:-0400
TZOFFSETTO:-0500
TZNAME:EST
DTSTART:20251102T060000
END:STANDARD
BEGIN:DAYLIGHT
TZOFFSETFROM:-0500
TZOFFSETTO:-0400
TZNAME:EDT
DTSTART:20260308T070000
END:DAYLIGHT
BEGIN:STANDARD
TZOFFSETFROM:-0400
TZOFFSETTO:-0500
TZNAME:EST
DTSTART:20261101T060000
END:STANDARD
BEGIN:DAYLIGHT
TZOFFSETFROM:-0500
TZOFFSETTO:-0400
TZNAME:EDT
DTSTART:20270314T070000
END:DAYLIGHT
BEGIN:STANDARD
TZOFFSETFROM:-0400
TZOFFSETTO:-0500
TZNAME:EST
DTSTART:20271107T060000
END:STANDARD
END:VTIMEZONE
BEGIN:VEVENT
DTSTART;TZID=America/Toronto:20260202T193000
DTEND;TZID=America/Toronto:20260202T210000
DTSTAMP:20260419T113042
CREATED:20251210T185108Z
LAST-MODIFIED:20260106T212446Z
UID:10001033-1770060600-1770066000@registrytheatre.com
SUMMARY:Mafa Dance Village and Tiger Princess Dance Projects
DESCRIPTION:ft. Sam Nabi and Bboy NLiteN of KW Breakers\n\n\n\nPresented by Dance @ The Registry\, in partnership with the IBPOC Artists Touring Network: From Words to Action \n\n\n\n\n\n\n\n\n\n\nMafa Dance Village operates within a diasporic framework\, rooted in South African cultural heritage and grounded in the artistic ecology of Toronto. The work draws from African spiritual traditions and contemporary dance practices\, resonating with African\, Afro-Caribbean\, and Indigenous communities through themes of healing\, ancestry\, and embodied knowledge. \n\n\n\n\n\n\n\n\n\nAll that is between is a contemporary dance work that explores how we exist together — and apart. Through powerful\, wordless storytelling\, six performers reveal the subtle ways bodies hold memory\, connection\, longing\, and isolation. Created by choreographer Yvonne Ng (tiger princess dance projects)\, the work invites audiences into an intimate\, poetic world where movement becomes its own language. \n\n\n\nFeaturing performers Morgyn Aronyk-Schell\, Johanna Bergfelt\, Amelia Brown\, Charlotte Cain\, and Sierra Chin Sawdy \n\n\n\nOriginal music by Nick Storring • Lighting design by Arun Srinivasan \n\n\n\nIdeal for audiences who enjoy contemporary dance\, thoughtful performance\, and visually poetic storytelling. \n\n\n\nAbout the ArtistYvonne Ng | 黄碧琬 (B.F.A.\, M.A.) is a Singapore-born\, Peranakan Chinese choreographer and the founder and artistic director of princess productions\, home to tiger princess dance projects and the biennial dance: made in canada / fait au canada Festival. Trailer Photo by Marlowe Porter. \n\n\n\n\n\n\n\n\n\nSam Nabi is a hip-hop MC who leans into poetic curiosity\, vulnerability\, improvisation and risk. Whether probing universal questions or the inner workings of his own mind\, Sam seeks to reflect deeply while making space to move your body. \n\n\n\n\n\n\n\nBboy NLiteN is a breaker from KW. He has been breaking for several years. He is the co-founder of the crew “KW Breakers”\, “KWB” for short. Together with his crew\, he travels all over Ontario competing in breaking jams\, performing in shows\, engaging in community events\, hosting breaking workshops\, and much more. \n\n\n\n\n\n\n$25 General Admission$15 Student / Senior / Arts Worker \n\n\n\n\n\n\n\n\n\nSeries Sponsor
URL:https://registrytheatre.com/event/mafa-tiger-princess/
CATEGORIES:Dance,Registry Presents Events
ATTACH;FMTTYPE=image/webp:https://registrytheatre.com/wp-content/uploads/2025/12/Mafa-Dance-Projects_BRUCE-ZINGER.webp
ORGANIZER;CN="The Registry Theatre Presents":MAILTO:info@registrytheatre.com
END:VEVENT
BEGIN:VEVENT
DTSTART;TZID=America/Toronto:20260203T190000
DTEND;TZID=America/Toronto:20260203T210000
DTSTAMP:20260419T113042
CREATED:20260112T182040Z
LAST-MODIFIED:20260112T182044Z
UID:10001040-1770145200-1770152400@registrytheatre.com
SUMMARY:Mean Girls Jr.
DESCRIPTION:Presented by St. Dominic Savio CES \n\n\n\n\n\n\n\n\n\nMusical production of Mean Girls Jr. \n\n\n\nTickets $12\, Contact St. Dominic Savio school for tickets
URL:https://registrytheatre.com/event/mean-girls-jr/2026-02-03/
LOCATION:The Registry Theatre\, 122 Frederick Street\, Kitchener\, ON\, N2H 2L9\, Canada
CATEGORIES:Rental Events
ATTACH;FMTTYPE=image/jpeg:https://registrytheatre.com/wp-content/uploads/2026/01/mean_girls_jr_billing-Ian-Coates.jpg
ORGANIZER;CN="St Dominic Savio School":MAILTO:ian.coates@wcdsb.ca
END:VEVENT
BEGIN:VEVENT
DTSTART;TZID=America/Toronto:20260204T190000
DTEND;TZID=America/Toronto:20260204T210000
DTSTAMP:20260419T113042
CREATED:20260112T182040Z
LAST-MODIFIED:20260112T182044Z
UID:10001041-1770231600-1770238800@registrytheatre.com
SUMMARY:Mean Girls Jr.
DESCRIPTION:Presented by St. Dominic Savio CES \n\n\n\n\n\n\n\n\n\nMusical production of Mean Girls Jr. \n\n\n\nTickets $12\, Contact St. Dominic Savio school for tickets
URL:https://registrytheatre.com/event/mean-girls-jr/2026-02-04/
LOCATION:The Registry Theatre\, 122 Frederick Street\, Kitchener\, ON\, N2H 2L9\, Canada
CATEGORIES:Rental Events
ATTACH;FMTTYPE=image/jpeg:https://registrytheatre.com/wp-content/uploads/2026/01/mean_girls_jr_billing-Ian-Coates.jpg
ORGANIZER;CN="St Dominic Savio School":MAILTO:ian.coates@wcdsb.ca
END:VEVENT
BEGIN:VEVENT
DTSTART;TZID=America/Toronto:20260205T190000
DTEND;TZID=America/Toronto:20260205T210000
DTSTAMP:20260419T113042
CREATED:20260112T182040Z
LAST-MODIFIED:20260112T182044Z
UID:10001042-1770318000-1770325200@registrytheatre.com
SUMMARY:Mean Girls Jr.
DESCRIPTION:Presented by St. Dominic Savio CES \n\n\n\n\n\n\n\n\n\nMusical production of Mean Girls Jr. \n\n\n\nTickets $12\, Contact St. Dominic Savio school for tickets
URL:https://registrytheatre.com/event/mean-girls-jr/2026-02-05/
LOCATION:The Registry Theatre\, 122 Frederick Street\, Kitchener\, ON\, N2H 2L9\, Canada
CATEGORIES:Rental Events
ATTACH;FMTTYPE=image/jpeg:https://registrytheatre.com/wp-content/uploads/2026/01/mean_girls_jr_billing-Ian-Coates.jpg
ORGANIZER;CN="St Dominic Savio School":MAILTO:ian.coates@wcdsb.ca
END:VEVENT
BEGIN:VEVENT
DTSTART;TZID=America/Toronto:20260206T200000
DTEND;TZID=America/Toronto:20260206T220000
DTSTAMP:20260419T113042
CREATED:20251029T191309Z
LAST-MODIFIED:20251129T173429Z
UID:10000993-1770408000-1770415200@registrytheatre.com
SUMMARY:LARRY LARSON’S JAZZ GUYS
DESCRIPTION:JAZZ @ THE REGISTRY\n\n\n\nPART OF THE WINTER JAZZ WEEKEND\n\n\n\n\n\n\n\nTHE ANNUAL REGISTRY CONCERT\n\n\n\n\n\nThe season opening tradition continues. Trumpet virtuoso\, and Registry favourite\, Larry and his Guys return with more great cool jazz. \n\n\n\nTickets: $35 \n\n\n\n\n\n\n\n\n\nFor event information\, please contact:
URL:https://registrytheatre.com/event/larry-larsons-jazz-guys-4/
CATEGORIES:Jazz,Registry Presents Events
ATTACH;FMTTYPE=image/jpeg:https://registrytheatre.com/wp-content/uploads/2025/10/Larry-Larson-JATR-25-photo-Mathew-McCarthy-1024x672-1.jpg
END:VEVENT
BEGIN:VEVENT
DTSTART;TZID=America/Toronto:20260207T150000
DTEND;TZID=America/Toronto:20260207T170000
DTSTAMP:20260419T113042
CREATED:20251129T164550Z
LAST-MODIFIED:20260107T200237Z
UID:10000994-1770476400-1770483600@registrytheatre.com
SUMMARY:DAVE THOMPSON
DESCRIPTION:JAZZ @ THE REGISTRY\n\n\n\nPART OF THE WINTER JAZZ WEEKEND\n\n\n\n\n\n\n\nJAZZ IN THE ROUND\n\n\n\n\n\nAn immersive experience with the guitar virtuoso. Sit on stage and up close. Intimate limited seating of only 40 tickets per show. \n\n\n\nTickets: $50 \n\n\n\n\n\n\n\n\n\nFor event information\, please contact:
URL:https://registrytheatre.com/event/dave-thompson-3/
CATEGORIES:Jazz,Registry Presents Events
ATTACH;FMTTYPE=image/jpeg:https://registrytheatre.com/wp-content/uploads/2025/10/Dave-Thompson-JATR-26.jpg
END:VEVENT
BEGIN:VEVENT
DTSTART;TZID=America/Toronto:20260207T200000
DTEND;TZID=America/Toronto:20260207T220000
DTSTAMP:20260419T113042
CREATED:20251029T191309Z
LAST-MODIFIED:20260107T200307Z
UID:10001022-1770494400-1770501600@registrytheatre.com
SUMMARY:DAVE THOMPSON
DESCRIPTION:JAZZ @ THE REGISTRY\n\n\n\nPART OF THE WINTER JAZZ WEEKEND\n\n\n\n\n\n\n\nJAZZ IN THE ROUND\n\n\n\n\n\nAn immersive experience with the guitar virtuoso. Sit on stage and up close. Intimate limited seating of only 40 tickets per show. \n\n\n\nTickets: $50 \n\n\n\n\n\n\n\n\n\nFor event information\, please contact:
URL:https://registrytheatre.com/event/dave-thompson/
CATEGORIES:Jazz,Registry Presents Events
ATTACH;FMTTYPE=image/jpeg:https://registrytheatre.com/wp-content/uploads/2025/10/Dave-Thompson-JATR-26.jpg
END:VEVENT
END:VCALENDAR