BEGIN:VCALENDAR
VERSION:2.0
PRODID:-//The Registry Theatre - ECPv6.15.20//NONSGML v1.0//EN
CALSCALE:GREGORIAN
METHOD:PUBLISH
X-WR-CALNAME:The Registry Theatre
X-ORIGINAL-URL:https://registrytheatre.com
X-WR-CALDESC:Events for The Registry Theatre
REFRESH-INTERVAL;VALUE=DURATION:PT1H
X-Robots-Tag:noindex
X-PUBLISHED-TTL:PT1H
BEGIN:VTIMEZONE
TZID:America/Toronto
BEGIN:DAYLIGHT
TZOFFSETFROM:-0500
TZOFFSETTO:-0400
TZNAME:EDT
DTSTART:20250309T070000
END:DAYLIGHT
BEGIN:STANDARD
TZOFFSETFROM:-0400
TZOFFSETTO:-0500
TZNAME:EST
DTSTART:20251102T060000
END:STANDARD
BEGIN:DAYLIGHT
TZOFFSETFROM:-0500
TZOFFSETTO:-0400
TZNAME:EDT
DTSTART:20260308T070000
END:DAYLIGHT
BEGIN:STANDARD
TZOFFSETFROM:-0400
TZOFFSETTO:-0500
TZNAME:EST
DTSTART:20261101T060000
END:STANDARD
BEGIN:DAYLIGHT
TZOFFSETFROM:-0500
TZOFFSETTO:-0400
TZNAME:EDT
DTSTART:20270314T070000
END:DAYLIGHT
BEGIN:STANDARD
TZOFFSETFROM:-0400
TZOFFSETTO:-0500
TZNAME:EST
DTSTART:20271107T060000
END:STANDARD
END:VTIMEZONE
BEGIN:VEVENT
DTSTART;TZID=America/Toronto:20260127T193000
DTEND;TZID=America/Toronto:20260127T210000
DTSTAMP:20260419T095734
CREATED:20251210T182756Z
LAST-MODIFIED:20251219T193227Z
UID:10001032-1769542200-1769547600@registrytheatre.com
SUMMARY:Sashar Zariff Dance and Anto Chan/Ranganathan Rajah
DESCRIPTION:ft. R. K. Gandhi and Amrit Phull\n\n\n\nPresented by Dance @ The Registry\, in partnership with the IBPOC Artists Touring Network: From Words to Action \n\n\n\n\n\n\n\n\n\n\nFor nearly four decades\, Sashar Zarif Dance Theatre has carried its work across more than forty countries\, moving with the people\, places\, and stories that shape its journey. The company engages diverse publics through research\, residencies\, collaborations\, creation\, and performance. \n\n\n\n\n\n\n\nConfronting the human struggle of hypocrisy\, Anto and Ranganathan combine poetry\, movement\, and the In-between to challenge the audience’s perception of self. Art & Design\, Spirituality & Religion\, Love & Romance\, within the pains of human limitation\, this performance intentionally brings both endless and limiting elements to engage with the dichotomy of contraction and expansion. \n\n\n\n\n\n\n\nRavi K. Gandhi is a Canadian-Indian poet\, writer\, breathwork facilitator and educator\, living in Guelph Ontario. He regularly performs and speaks about the power of poetry in front of audiences. \n\n\n\n\n\n\n\nAmrit Phull is a Kathak performer and instructor at M-DO Kathak Toronto. She is a student of Joanna De Souza\, disciple of Pandit Chitresh Das\, through the Ali Akbar College of Music tradition\, and has presented work across Canada and India. Through the teachings gifted to her\, Kathak represents an ever-deepening space in which she explores her body as an instrument for sound and story.  \n\n\n\n\n\n\n$25 General Admission$15 Student / Senior / Arts Worker \n\n\n\n\n\n\n\n\n\nSeries Sponsor
URL:https://registrytheatre.com/event/zariff-chan/
CATEGORIES:Dance,Registry Presents Events
ATTACH;FMTTYPE=image/jpeg:https://registrytheatre.com/wp-content/uploads/2025/12/Sashar-Zarif-MANUEL-GARCIA-scaled.jpg
ORGANIZER;CN="The Registry Theatre Presents":MAILTO:info@registrytheatre.com
END:VEVENT
BEGIN:VEVENT
DTSTART;TZID=America/Toronto:20260131T183000
DTEND;TZID=America/Toronto:20260131T203000
DTSTAMP:20260419T095734
CREATED:20260112T181259Z
LAST-MODIFIED:20260123T162628Z
UID:10001039-1769884200-1769891400@registrytheatre.com
SUMMARY:INTERSECTIONS
DESCRIPTION:Presented by Rhapsody Dance Project and Wilfrid Laurier Faculty of Music Composition Students\n\n\n\n\n\n\n\n\n\nIntersections: where sound learns to move\, when rhythm breathes\, the shape of sound.  \n\n\n\nIntersections is a new collaborative showcase bringing together movement and music in an exciting exploration of creative exchange.  \n\n\n\nThe performance highlights original student compositions created by students from Wilfrid Laurier University’s Composition program\, ending with a unique piece composed for dance from Laurier’s Music: Collaboration\, Curation\, and Creative Performance stream. Through close artistic partnership\, dancers and musicians intersect to transform new works into a dynamic\, interdisciplinary experience – celebrating student voices\, innovation\, and the power of collaboration across art forms.Adults: $25Seniors/Students: $20 \n\n\n\n\n\n \n\n\n\nFor More Info:
URL:https://registrytheatre.com/event/intersections/
CATEGORIES:Rental Events
ATTACH;FMTTYPE=image/jpeg:https://registrytheatre.com/wp-content/uploads/2026/01/Show-Poster-IG-scaled.jpg
END:VEVENT
END:VCALENDAR