BEGIN:VCALENDAR
VERSION:2.0
PRODID:-//The Registry Theatre - ECPv6.15.20//NONSGML v1.0//EN
CALSCALE:GREGORIAN
METHOD:PUBLISH
X-WR-CALNAME:The Registry Theatre
X-ORIGINAL-URL:https://registrytheatre.com
X-WR-CALDESC:Events for The Registry Theatre
REFRESH-INTERVAL;VALUE=DURATION:PT1H
X-Robots-Tag:noindex
X-PUBLISHED-TTL:PT1H
BEGIN:VTIMEZONE
TZID:America/Toronto
BEGIN:DAYLIGHT
TZOFFSETFROM:-0500
TZOFFSETTO:-0400
TZNAME:EDT
DTSTART:20240310T070000
END:DAYLIGHT
BEGIN:STANDARD
TZOFFSETFROM:-0400
TZOFFSETTO:-0500
TZNAME:EST
DTSTART:20241103T060000
END:STANDARD
BEGIN:DAYLIGHT
TZOFFSETFROM:-0500
TZOFFSETTO:-0400
TZNAME:EDT
DTSTART:20250309T070000
END:DAYLIGHT
BEGIN:STANDARD
TZOFFSETFROM:-0400
TZOFFSETTO:-0500
TZNAME:EST
DTSTART:20251102T060000
END:STANDARD
BEGIN:DAYLIGHT
TZOFFSETFROM:-0500
TZOFFSETTO:-0400
TZNAME:EDT
DTSTART:20260308T070000
END:DAYLIGHT
BEGIN:STANDARD
TZOFFSETFROM:-0400
TZOFFSETTO:-0500
TZNAME:EST
DTSTART:20261101T060000
END:STANDARD
END:VTIMEZONE
BEGIN:VEVENT
DTSTART;TZID=America/Toronto:20251010T190000
DTEND;TZID=America/Toronto:20251010T210000
DTSTAMP:20260421T054646
CREATED:20251030T151116Z
LAST-MODIFIED:20251030T151116Z
UID:10001007-1760122800-1760130000@registrytheatre.com
SUMMARY:Joseph and the Amazing Technicolor Dreamcoat
DESCRIPTION:Presented by Playful Fox Productions \n\n\n\n\n\n\n\n\n\nOne of Andrew Lloyd Webber’s most popular musicals comes to The Registry Theatre from Playful Fox Productions! The biblical story of Joseph and his coat of many colors comes alive in the musical retelling. Joseph – the favorite son of Jacob — is blessed with vivid dreams that foretell the future. Sold into slavery by his jealous brothers\, Joseph endures a series of adventures which challenge him to his core. Soon he finds himself belonging to Potiphar\, whose wife makes advances toward Joseph and ultimately land him behind bars. However\, news of Joseph’s ability to interpret dreams sparks the interest of the Pharaoh. A truly timeless musical\, Joseph and the Amazing Technicolor Dreamcoat is set to a multitude of musical genres\, spanning from country-western and calypso to bubble-gum pop and rock and roll. A fun time for the whole family!Friday October 10 at 7 pm\,  Saturday October 11 at 2 pm\,  Saturday October 11 at 7 pm \n\n\n\nGeneral Admission – Adult $30.00 General Admission – Senior (60 plus)/Student (with ID) $28.00General Admission – Youth (12 and under) $25.00 Early Admission – Adult $35.00 Early Admission – Senior (60 plus)/Student (with ID) $33.00 Early Admission – Youth (12 and under) $30.00 \n\n\n\n\n\nWho to contact for event info and inquiries:
URL:https://registrytheatre.com/event/joseph-and-the-amazing-technicolor-dreamcoat/
CATEGORIES:Rental Events
END:VEVENT
END:VCALENDAR