BEGIN:VCALENDAR
VERSION:2.0
PRODID:-//The Registry Theatre - ECPv6.15.20//NONSGML v1.0//EN
CALSCALE:GREGORIAN
METHOD:PUBLISH
X-WR-CALNAME:The Registry Theatre
X-ORIGINAL-URL:https://registrytheatre.com
X-WR-CALDESC:Events for The Registry Theatre
REFRESH-INTERVAL;VALUE=DURATION:PT1H
X-Robots-Tag:noindex
X-PUBLISHED-TTL:PT1H
BEGIN:VTIMEZONE
TZID:America/Toronto
BEGIN:DAYLIGHT
TZOFFSETFROM:-0500
TZOFFSETTO:-0400
TZNAME:EDT
DTSTART:20240310T070000
END:DAYLIGHT
BEGIN:STANDARD
TZOFFSETFROM:-0400
TZOFFSETTO:-0500
TZNAME:EST
DTSTART:20241103T060000
END:STANDARD
BEGIN:DAYLIGHT
TZOFFSETFROM:-0500
TZOFFSETTO:-0400
TZNAME:EDT
DTSTART:20250309T070000
END:DAYLIGHT
BEGIN:STANDARD
TZOFFSETFROM:-0400
TZOFFSETTO:-0500
TZNAME:EST
DTSTART:20251102T060000
END:STANDARD
BEGIN:DAYLIGHT
TZOFFSETFROM:-0500
TZOFFSETTO:-0400
TZNAME:EDT
DTSTART:20260308T070000
END:DAYLIGHT
BEGIN:STANDARD
TZOFFSETFROM:-0400
TZOFFSETTO:-0500
TZNAME:EST
DTSTART:20261101T060000
END:STANDARD
END:VTIMEZONE
BEGIN:VEVENT
DTSTART;TZID=America/Toronto:20250920T190000
DTEND;TZID=America/Toronto:20250920T210000
DTSTAMP:20260421T054824
CREATED:20251029T191039Z
LAST-MODIFIED:20251029T191039Z
UID:10000973-1758394800-1758402000@registrytheatre.com
SUMMARY:JUST ONE NIGHT. A Celebration of the Timeless Music of Slowhand\, Eric Clapton
DESCRIPTION:PRESENTED BY: Dylan Wickens\n\n\n\n\n\n\n\n\n\nA ONE NIGHT ONLY groovy event.Revisiting the works of Eric Clapton through the decades of hit songs\, from Derek and the Dominos\, to Cream\, to his best work of the 80s 90s and more. \n\n\n\nPresented by an all star award winning band of Dylan Wickens\, Cheryl Lescom\, Christina Leroux\, Jack Pender\, Cassius Pereira\, Nick Barkley and Ryan Allen. Doors open 6pm. \n\n\n\nTickets: $35 plus fees
URL:https://registrytheatre.com/event/just-one-night-a-celebration-of-the-timeless-music-of-slowhand-eric-clapton/
CATEGORIES:Rental Events
END:VEVENT
END:VCALENDAR