BEGIN:VCALENDAR
VERSION:2.0
PRODID:-//The Registry Theatre - ECPv6.15.20//NONSGML v1.0//EN
CALSCALE:GREGORIAN
METHOD:PUBLISH
X-WR-CALNAME:The Registry Theatre
X-ORIGINAL-URL:https://registrytheatre.com
X-WR-CALDESC:Events for The Registry Theatre
REFRESH-INTERVAL;VALUE=DURATION:PT1H
X-Robots-Tag:noindex
X-PUBLISHED-TTL:PT1H
BEGIN:VTIMEZONE
TZID:America/Toronto
BEGIN:DAYLIGHT
TZOFFSETFROM:-0500
TZOFFSETTO:-0400
TZNAME:EDT
DTSTART:20240310T070000
END:DAYLIGHT
BEGIN:STANDARD
TZOFFSETFROM:-0400
TZOFFSETTO:-0500
TZNAME:EST
DTSTART:20241103T060000
END:STANDARD
BEGIN:DAYLIGHT
TZOFFSETFROM:-0500
TZOFFSETTO:-0400
TZNAME:EDT
DTSTART:20250309T070000
END:DAYLIGHT
BEGIN:STANDARD
TZOFFSETFROM:-0400
TZOFFSETTO:-0500
TZNAME:EST
DTSTART:20251102T060000
END:STANDARD
BEGIN:DAYLIGHT
TZOFFSETFROM:-0500
TZOFFSETTO:-0400
TZNAME:EDT
DTSTART:20260308T070000
END:DAYLIGHT
BEGIN:STANDARD
TZOFFSETFROM:-0400
TZOFFSETTO:-0500
TZNAME:EST
DTSTART:20261101T060000
END:STANDARD
END:VTIMEZONE
BEGIN:VEVENT
DTSTART;TZID=America/Toronto:20250905T193000
DTEND;TZID=America/Toronto:20250905T220000
DTSTAMP:20260419T080851
CREATED:20250428T144924Z
LAST-MODIFIED:20251029T185504Z
UID:10000668-1757100600-1757109600@registrytheatre.com
SUMMARY:MIKE RITA - BIG in Little Portugal
DESCRIPTION:Presented by Grand Wave Entertainment \n\n\n\n\n\n\n\n\n\nMike Rita is an award-winning comedian from Toronto\, known for his relatable storytelling and sharp humour. Drawing inspiration from his Portuguese heritage\, Mike’s comedy explores themes of family dynamics\, cultural identity\, and everyday life experiences solidifying his status as a ‘must-see’ performer.  \n\n\n\nThis award-winning comedian has made numerous appearances at the prestigious Just For Laughs festival and notably became the first comic to host a 420 show at the JFL Toronto. In 2024\, he was honoured by the president of Portugal as one of the 70 most significant Portuguese Canadians of the past 70 years\, highlighting his impact and influence.  \n\n\n\nHis albums\, “Pot Comic” and “Child of the 90s\,” have earned him the title “Voice of a Generation” for their humorous and timeless perspectives on life. Additionally\, his comedy special “Live in Toronto” is celebrated by many as one of the best to have come out of Canada in recent years\, showcasing his unique ability to blend humour with heartfelt storytelling. \n\n\n\nTickets: $40 ($45.20 w/ taxes) (16+) \n\n\n\n\n\n\n\n\n\nWho to contact for event info and inquiries:
URL:https://registrytheatre.com/event/mike-rita-big-in-little-portugal/
LOCATION:The Registry Theatre\, 122 Frederick Street\, Kitchener\, ON\, N2H 2L9\, Canada
CATEGORIES:Rental Events
ATTACH;FMTTYPE=image/jpeg:https://registrytheatre.com/wp-content/uploads/2025/10/Mike-Rita-1080x1080px-Morgan-Flood-KoGc4w.jpg
ORGANIZER;CN="Grand Wave Entertainment":MAILTO:morgan@grandwaveentertainment.com
END:VEVENT
BEGIN:VEVENT
DTSTART;TZID=America/Toronto:20250906T200000
DTEND;TZID=America/Toronto:20250906T220000
DTSTAMP:20260419T080851
CREATED:20250321T191531Z
LAST-MODIFIED:20251103T184930Z
UID:10000646-1757188800-1757196000@registrytheatre.com
SUMMARY:The AC/DC ERAS Tribute
DESCRIPTION:Presented by Peripheral Stage Promotions \n\n\n\n\n\n\n\n\n\nAC/DC ERAS is a high-voltage rock spectacle that brings the full power of AC/DC to life. With a setlist spanning the band’s most legendary eras\, this powerhouse act delivers the ULTIMATE AC/DC experience.  \n\n\n\nBrothers Jordan and Brock Demarce channel the same fire that fueled Angus and Malcolm Young\, driving an explosive performance. Jordan’s searing guitar solos and boundless energy light up the stage\, while Brock holds it all together with relentless\, hard-hitting grooves.  \n\n\n\nAt the mic\, Kyle Dame commands the stage with powerhouse vocals\, seamlessly shifting from Bon Scott’s rebellious swagger to Brian Johnson’s stadium-shaking grit.  \n\n\n\nThis isn’t just a tribute. It’s a full-throttle celebration of rock’s greatest legacy.  \n\n\n\nLoud. Raw. Unrelenting. This is AC/DC ERAS! \n\n\n\nTickets: $50
URL:https://registrytheatre.com/event/the-ac-dc-eras-tribute/
LOCATION:The Registry Theatre\, 122 Frederick Street\, Kitchener\, ON\, N2H 2L9\, Canada
CATEGORIES:Rental Events
ATTACH;FMTTYPE=image/jpeg:https://registrytheatre.com/wp-content/uploads/2025/03/event51224-Jordy-Demarce.jpeg
ORGANIZER;CN="Peripheral Stage Promotions":MAILTO:info@peripheralstagepromotions.ca
END:VEVENT
BEGIN:VEVENT
DTSTART;TZID=America/Toronto:20250906T200000
DTEND;TZID=America/Toronto:20250906T220000
DTSTAMP:20260419T080851
CREATED:20251029T185503Z
LAST-MODIFIED:20251029T185503Z
UID:10000940-1757188800-1757196000@registrytheatre.com
SUMMARY:CANCELLED - The AC/DC ERAS Tribute
DESCRIPTION:Presented by Peripheral Stage Promotions \n\n\n\n\n\n\n\n\n\nThis show has been cancelled. For questions regarding tickets or refunds\, please contact the presenter at info@peripheralstagepromotions.ca
URL:https://registrytheatre.com/event/cancelled-the-ac-dc-eras-tribute/
CATEGORIES:Rental Events
ATTACH;FMTTYPE=image/jpeg:https://registrytheatre.com/wp-content/uploads/2025/10/event51224-Jordy-Demarce-xdBMMs.jpg
END:VEVENT
END:VCALENDAR