BEGIN:VCALENDAR
VERSION:2.0
PRODID:-//The Registry Theatre - ECPv6.15.20//NONSGML v1.0//EN
CALSCALE:GREGORIAN
METHOD:PUBLISH
X-ORIGINAL-URL:https://registrytheatre.com
X-WR-CALDESC:Events for The Registry Theatre
REFRESH-INTERVAL;VALUE=DURATION:PT1H
X-Robots-Tag:noindex
X-PUBLISHED-TTL:PT1H
BEGIN:VTIMEZONE
TZID:America/Toronto
BEGIN:DAYLIGHT
TZOFFSETFROM:-0500
TZOFFSETTO:-0400
TZNAME:EDT
DTSTART:20240310T070000
END:DAYLIGHT
BEGIN:STANDARD
TZOFFSETFROM:-0400
TZOFFSETTO:-0500
TZNAME:EST
DTSTART:20241103T060000
END:STANDARD
BEGIN:DAYLIGHT
TZOFFSETFROM:-0500
TZOFFSETTO:-0400
TZNAME:EDT
DTSTART:20250309T070000
END:DAYLIGHT
BEGIN:STANDARD
TZOFFSETFROM:-0400
TZOFFSETTO:-0500
TZNAME:EST
DTSTART:20251102T060000
END:STANDARD
BEGIN:DAYLIGHT
TZOFFSETFROM:-0500
TZOFFSETTO:-0400
TZNAME:EDT
DTSTART:20260308T070000
END:DAYLIGHT
BEGIN:STANDARD
TZOFFSETFROM:-0400
TZOFFSETTO:-0500
TZNAME:EST
DTSTART:20261101T060000
END:STANDARD
END:VTIMEZONE
BEGIN:VEVENT
DTSTART;TZID=America/Toronto:20250731T193000
DTEND;TZID=America/Toronto:20250731T220000
DTSTAMP:20260419T123822
CREATED:20251029T185504Z
LAST-MODIFIED:20251029T185504Z
UID:10000942-1753990200-1753999200@registrytheatre.com
SUMMARY:Harvey
DESCRIPTION:Presented by JM Drama Alumni\n\n\n\n\n\n\n\n\n\nThe story of Elwood P. Dowd\, a friendly and eccentric man\, and his best friend\, an invisible six-foot-three-and-a-half-inch rabbit named Harvey. \n\n\n\nCAST \n\n\n\nMyrtle Mae Simmons – Johanna Chort \n\n\n\nVeta Louise Simmons – Michelle Salmon \n\n\n\nElwood P. Dowd – Mark Starratt \n\n\n\nMiss Johnson – Gabriele Tinnerello \n\n\n\nMrs. Ethel Chauvenet – Jill Skene \n\n\n\nDuane Wilson – Patrick Cooper \n\n\n\nRuth Kelly R.N. – Kay Hillyer \n\n\n\nLyman Sanderson M.D. – Ammar Abraham \n\n\n\nWilliam R. Chumley M.D. – David Terry \n\n\n\nBetty Chumley – Elizabeth Dietrich \n\n\n\nJudge Omar Gaffney – Don Bourgeois \n\n\n\nE. J. Lofgren – Ron VanDerZwaag \n\n\n\nJuly 31-August 2\, August 7-97:30 pm \n\n\n\nTickets \n\n\n\nGeneral Admission: $25 \n\n\n\nGenerous Admission: $40 (general admission + a bit more to support community theatre!)
URL:https://registrytheatre.com/event/harvey/
END:VEVENT
BEGIN:VEVENT
DTSTART;TZID=America/Toronto:20250731T193000
DTEND;TZID=America/Toronto:20250731T220000
DTSTAMP:20260419T123823
CREATED:20260312T145900Z
LAST-MODIFIED:20260312T145905Z
UID:10001077-1753990200-1753999200@registrytheatre.com
SUMMARY:RACHEL CARSON: Playreading and Information Night
DESCRIPTION:Presented by JM Drama Alumni\n\n\n\n\n\n\n\n\n\nJoin us for a reading of this year’s JM Drama production of “Rachel Carson” by Steven Elliott Jackson and get more information on the upcoming auditions and opportunities for designers and crew for the production. This is your first chance to hear the play and to consider helping out with the production this August. Hope to see you there! \n\n\n\nSynopsis: \n\n\n\nIn 1958\, after numerous awards for her books\, Rachel Carson settled into a life of observing nature with her adopted great nephew\, Roger and her neighbour\, Dorothy. The simple life she wanted though became a race against time as she began work on the greatest environmental book of all time. She just didn’t realize how great the challenge would be and just how much time she would have to write it.
URL:https://registrytheatre.com/event/rachel-carson-playreading-and-information-night/
ATTACH;FMTTYPE=image/png:https://registrytheatre.com/wp-content/uploads/2026/03/1000022721.png
END:VEVENT
END:VCALENDAR