BEGIN:VCALENDAR
VERSION:2.0
PRODID:-//The Registry Theatre - ECPv6.15.20//NONSGML v1.0//EN
CALSCALE:GREGORIAN
METHOD:PUBLISH
X-WR-CALNAME:The Registry Theatre
X-ORIGINAL-URL:https://registrytheatre.com
X-WR-CALDESC:Events for The Registry Theatre
REFRESH-INTERVAL;VALUE=DURATION:PT1H
X-Robots-Tag:noindex
X-PUBLISHED-TTL:PT1H
BEGIN:VTIMEZONE
TZID:America/Toronto
BEGIN:DAYLIGHT
TZOFFSETFROM:-0500
TZOFFSETTO:-0400
TZNAME:EDT
DTSTART:20240310T070000
END:DAYLIGHT
BEGIN:STANDARD
TZOFFSETFROM:-0400
TZOFFSETTO:-0500
TZNAME:EST
DTSTART:20241103T060000
END:STANDARD
BEGIN:DAYLIGHT
TZOFFSETFROM:-0500
TZOFFSETTO:-0400
TZNAME:EDT
DTSTART:20250309T070000
END:DAYLIGHT
BEGIN:STANDARD
TZOFFSETFROM:-0400
TZOFFSETTO:-0500
TZNAME:EST
DTSTART:20251102T060000
END:STANDARD
BEGIN:DAYLIGHT
TZOFFSETFROM:-0500
TZOFFSETTO:-0400
TZNAME:EDT
DTSTART:20260308T070000
END:DAYLIGHT
BEGIN:STANDARD
TZOFFSETFROM:-0400
TZOFFSETTO:-0500
TZNAME:EST
DTSTART:20261101T060000
END:STANDARD
END:VTIMEZONE
BEGIN:VEVENT
DTSTART;TZID=America/Toronto:20250719T140000
DTEND;TZID=America/Toronto:20250719T163000
DTSTAMP:20260419T110301
CREATED:20251029T191039Z
LAST-MODIFIED:20251029T191039Z
UID:10000968-1752933600-1752942600@registrytheatre.com
SUMMARY:THE DEEP CUT Film Festival
DESCRIPTION:Presented by David Briggs & Distant Field Productions \n\n\n\n\n\n\n\n\n\nThe Deep Cut Film Festival showcases the best short films on the festival circuit. See films from around the world and from your own backyard.  \n\n\n\nWe have an afternoon show and an evening show\, and both are different. No repeats here!  \n\n\n\nThis is an all-genre festival\, so expect to see drama\, comedy\, and some horror for good measure. The scarier stuff is in the evening show. Afternoon is pure drama / comedy.  \n\n\n\nThese films are not rated\, but we recommend 18 years and up. (some nudity) \n\n\n\nPay what you want at the door\, cash only (we can’t take debit or credit). See you there!2pm to 4:30\, and 7pm to 10pm
URL:https://registrytheatre.com/event/the-deep-cut-film-festival-2/
CATEGORIES:Rental Events
END:VEVENT
END:VCALENDAR