BEGIN:VCALENDAR
VERSION:2.0
PRODID:-//The Registry Theatre - ECPv6.15.20//NONSGML v1.0//EN
CALSCALE:GREGORIAN
METHOD:PUBLISH
X-ORIGINAL-URL:https://registrytheatre.com
X-WR-CALDESC:Events for The Registry Theatre
REFRESH-INTERVAL;VALUE=DURATION:PT1H
X-Robots-Tag:noindex
X-PUBLISHED-TTL:PT1H
BEGIN:VTIMEZONE
TZID:America/Toronto
BEGIN:DAYLIGHT
TZOFFSETFROM:-0500
TZOFFSETTO:-0400
TZNAME:EDT
DTSTART:20240310T070000
END:DAYLIGHT
BEGIN:STANDARD
TZOFFSETFROM:-0400
TZOFFSETTO:-0500
TZNAME:EST
DTSTART:20241103T060000
END:STANDARD
BEGIN:DAYLIGHT
TZOFFSETFROM:-0500
TZOFFSETTO:-0400
TZNAME:EDT
DTSTART:20250309T070000
END:DAYLIGHT
BEGIN:STANDARD
TZOFFSETFROM:-0400
TZOFFSETTO:-0500
TZNAME:EST
DTSTART:20251102T060000
END:STANDARD
BEGIN:DAYLIGHT
TZOFFSETFROM:-0500
TZOFFSETTO:-0400
TZNAME:EDT
DTSTART:20260308T070000
END:DAYLIGHT
BEGIN:STANDARD
TZOFFSETFROM:-0400
TZOFFSETTO:-0500
TZNAME:EST
DTSTART:20261101T060000
END:STANDARD
END:VTIMEZONE
BEGIN:VEVENT
DTSTART;TZID=America/Toronto:20250710T190000
DTEND;TZID=America/Toronto:20250710T210000
DTSTAMP:20260419T093429
CREATED:20251029T191039Z
LAST-MODIFIED:20251029T191039Z
UID:10000967-1752174000-1752181200@registrytheatre.com
SUMMARY:ALICE IN WONDERLAND
DESCRIPTION:Presented by Penny & Pound Theatre \n\n\n\n\n\n\n\n\n\nPenny & Pound’s 2024/2025 Junior and High School companies present ‘Alice in Wonderland’. \n\n\n\nThursday\, July 10th at 7:00 PM (pay-what-you-choose);Friday\, July 11th at 7:00 PM;Saturday\, July 12th at 2:00 PM & 7:00 PMSunday\, July 13th at 2:00 PM \n\n\n\nTickets: $20/General and $15/Student \n\n\n\n\n\nWho to contact for event info and inquiries:
URL:https://registrytheatre.com/event/alice-in-wonderland-2/
CATEGORIES:Rental Events
ATTACH;FMTTYPE=image/png:https://registrytheatre.com/wp-content/uploads/2025/10/Penny-Pound-Theatre-presents-Piper-J.-Distel-x0kkJY.png
END:VEVENT
END:VCALENDAR