BEGIN:VCALENDAR
VERSION:2.0
PRODID:-//The Registry Theatre - ECPv6.15.20//NONSGML v1.0//EN
CALSCALE:GREGORIAN
METHOD:PUBLISH
X-ORIGINAL-URL:https://registrytheatre.com
X-WR-CALDESC:Events for The Registry Theatre
REFRESH-INTERVAL;VALUE=DURATION:PT1H
X-Robots-Tag:noindex
X-PUBLISHED-TTL:PT1H
BEGIN:VTIMEZONE
TZID:America/Toronto
BEGIN:DAYLIGHT
TZOFFSETFROM:-0500
TZOFFSETTO:-0400
TZNAME:EDT
DTSTART:20240310T070000
END:DAYLIGHT
BEGIN:STANDARD
TZOFFSETFROM:-0400
TZOFFSETTO:-0500
TZNAME:EST
DTSTART:20241103T060000
END:STANDARD
BEGIN:DAYLIGHT
TZOFFSETFROM:-0500
TZOFFSETTO:-0400
TZNAME:EDT
DTSTART:20250309T070000
END:DAYLIGHT
BEGIN:STANDARD
TZOFFSETFROM:-0400
TZOFFSETTO:-0500
TZNAME:EST
DTSTART:20251102T060000
END:STANDARD
BEGIN:DAYLIGHT
TZOFFSETFROM:-0500
TZOFFSETTO:-0400
TZNAME:EDT
DTSTART:20260308T070000
END:DAYLIGHT
BEGIN:STANDARD
TZOFFSETFROM:-0400
TZOFFSETTO:-0500
TZNAME:EST
DTSTART:20261101T060000
END:STANDARD
END:VTIMEZONE
BEGIN:VEVENT
DTSTART;TZID=America/Toronto:20250621T193000
DTEND;TZID=America/Toronto:20250621T213000
DTSTAMP:20260419T110320
CREATED:20251029T185504Z
LAST-MODIFIED:20251029T185504Z
UID:10000946-1750534200-1750541400@registrytheatre.com
SUMMARY:Improv-a-llama!
DESCRIPTION:Presented by TriCity Improv \n\n\n\n\n\n\n\n\n\nGet ready for the improv comedy event of the year! Improv-a-llama is a show featuring four local improv groups sharing the stage to bring you a full night of spontaneous comedy.  \n\n\n\nThis huge\, fast-paced show is like nothing you’ve ever seen before! It features improv sets from TriCity Improv\, After School Arcade\, Culturally Irrelevant and Thanks for Laughing\, followed by a grand finale that includes everyone. Each group has their own style and their own vibe\, and between them they guarantee an evening of good\, solid entertainment.  \n\n\n\nThe show will take place at The Registry Theatre in beautiful downtown Kitchener\, on Saturday June 21st. Doors open at 7\, and the show starts promptly at 7:30.  \n\n\n\nTickets are just $15 at the door\, but if you want to be sure of getting a spot we recommend you book on EventBrite (improvallama.eventbrite.ca) You definitely don’t want to miss this show! \n\n\n\n\n\nWho to contact for event info and inquiries:
URL:https://registrytheatre.com/event/improv-a-llama/
CATEGORIES:Rental Events
END:VEVENT
END:VCALENDAR