BEGIN:VCALENDAR
VERSION:2.0
PRODID:-//The Registry Theatre - ECPv6.15.20//NONSGML v1.0//EN
CALSCALE:GREGORIAN
METHOD:PUBLISH
X-ORIGINAL-URL:https://registrytheatre.com
X-WR-CALDESC:Events for The Registry Theatre
REFRESH-INTERVAL;VALUE=DURATION:PT1H
X-Robots-Tag:noindex
X-PUBLISHED-TTL:PT1H
BEGIN:VTIMEZONE
TZID:America/Toronto
BEGIN:DAYLIGHT
TZOFFSETFROM:-0500
TZOFFSETTO:-0400
TZNAME:EDT
DTSTART:20240310T070000
END:DAYLIGHT
BEGIN:STANDARD
TZOFFSETFROM:-0400
TZOFFSETTO:-0500
TZNAME:EST
DTSTART:20241103T060000
END:STANDARD
BEGIN:DAYLIGHT
TZOFFSETFROM:-0500
TZOFFSETTO:-0400
TZNAME:EDT
DTSTART:20250309T070000
END:DAYLIGHT
BEGIN:STANDARD
TZOFFSETFROM:-0400
TZOFFSETTO:-0500
TZNAME:EST
DTSTART:20251102T060000
END:STANDARD
BEGIN:DAYLIGHT
TZOFFSETFROM:-0500
TZOFFSETTO:-0400
TZNAME:EDT
DTSTART:20260308T070000
END:DAYLIGHT
BEGIN:STANDARD
TZOFFSETFROM:-0400
TZOFFSETTO:-0500
TZNAME:EST
DTSTART:20261101T060000
END:STANDARD
END:VTIMEZONE
BEGIN:VEVENT
DTSTART;TZID=America/Toronto:20250529T200000
DTEND;TZID=America/Toronto:20250529T220000
DTSTAMP:20260419T123920
CREATED:20250425T040231Z
LAST-MODIFIED:20251029T185504Z
UID:10000661-1748548800-1748556000@registrytheatre.com
SUMMARY:OPEN EARS 2025
DESCRIPTION:Open Ears presents an eclectic range of festival events from indie classical music to electroacoustic to sound installations. The festival explores the theme of integrating community through the use of unexpected musical settings. \n\n\n\nMay 29th: Null Point presents Relations\, not Blank Slates (performance) at 8pm May 31st: Piraran (performance) by Alejandro Briones at 4pm; performance by Erika Angell at 10pmJune 1st: Performance by Raphael Weinroth-Browne at 1pm \n\n\n\nTickets:$25 General Admission$5 with Valid Student ID \n\n\n\nTickets for each event will be available at the door up until the time of the event\, and will be available to purchase using cash or card (all cards accepted) via Square reader\, and in advance at openears.ca
URL:https://registrytheatre.com/event/open-ears-2025/
LOCATION:The Registry Theatre\, 122 Frederick Street\, Kitchener\, ON\, N2H 2L9\, Canada
CATEGORIES:Rental Events
ATTACH;FMTTYPE=image/jpeg:https://registrytheatre.com/wp-content/uploads/2025/04/Main-Graphic-General-Manager-scaled.jpg
ORGANIZER;CN="Open Ears Festival of Music and Sound":MAILTO:info@openears.ca
END:VEVENT
END:VCALENDAR