BEGIN:VCALENDAR
VERSION:2.0
PRODID:-//The Registry Theatre - ECPv6.15.20//NONSGML v1.0//EN
CALSCALE:GREGORIAN
METHOD:PUBLISH
X-ORIGINAL-URL:https://registrytheatre.com
X-WR-CALDESC:Events for The Registry Theatre
REFRESH-INTERVAL;VALUE=DURATION:PT1H
X-Robots-Tag:noindex
X-PUBLISHED-TTL:PT1H
BEGIN:VTIMEZONE
TZID:America/Toronto
BEGIN:DAYLIGHT
TZOFFSETFROM:-0500
TZOFFSETTO:-0400
TZNAME:EDT
DTSTART:20240310T070000
END:DAYLIGHT
BEGIN:STANDARD
TZOFFSETFROM:-0400
TZOFFSETTO:-0500
TZNAME:EST
DTSTART:20241103T060000
END:STANDARD
BEGIN:DAYLIGHT
TZOFFSETFROM:-0500
TZOFFSETTO:-0400
TZNAME:EDT
DTSTART:20250309T070000
END:DAYLIGHT
BEGIN:STANDARD
TZOFFSETFROM:-0400
TZOFFSETTO:-0500
TZNAME:EST
DTSTART:20251102T060000
END:STANDARD
BEGIN:DAYLIGHT
TZOFFSETFROM:-0500
TZOFFSETTO:-0400
TZNAME:EDT
DTSTART:20260308T070000
END:DAYLIGHT
BEGIN:STANDARD
TZOFFSETFROM:-0400
TZOFFSETTO:-0500
TZNAME:EST
DTSTART:20261101T060000
END:STANDARD
END:VTIMEZONE
BEGIN:VEVENT
DTSTART;TZID=America/Toronto:20250317T193000
DTEND;TZID=America/Toronto:20250317T220000
DTSTAMP:20260419T154219
CREATED:20250227T152711Z
LAST-MODIFIED:20251029T183334Z
UID:10000632-1742239800-1742248800@registrytheatre.com
SUMMARY:JUST CODDIN'
DESCRIPTION:IRISH REAL LIFE FESTIVAL\n\n\n\n\n\n\n\n\n\nWhat’s St. Patrick’s Day without a few laughs?! Not much of a day if you ask us! The IRL Festival is proud to have Vicky Mullaley and Fiona O’Brien joining us for a night of good craic and coddin’ around! And getting your toes tapping and musical interludes by The Celtic Effect Band!Please note this event may contain more adult material. Bar and concession available. \n\n\n\nThis event is PWYC with all proceeds supporting the IRL Festival in bringing great Irish events to the Waterloo Region. \n\n\n\n\n\n \n\n\n\nPresented by:
URL:https://registrytheatre.com/event/just-coddin/
LOCATION:The Registry Theatre\, 122 Frederick Street\, Kitchener\, ON\, N2H 2L9\, Canada
CATEGORIES:Rental Events
ATTACH;FMTTYPE=image/webp:https://registrytheatre.com/wp-content/uploads/2025/10/325160_c4a1fc2f7c484b4f8ff9b13a5636bba1mv2-Jenn-Murphy-OGn2dT.webp
ORGANIZER;CN="Irish Real Life Festival":MAILTO:info@irishreallifekw.com
END:VEVENT
BEGIN:VEVENT
DTSTART;TZID=America/Toronto:20250319T193000
DTEND;TZID=America/Toronto:20250319T210000
DTSTAMP:20260419T154219
CREATED:20250219T222128Z
LAST-MODIFIED:20251103T184414Z
UID:10000619-1742412600-1742418000@registrytheatre.com
SUMMARY:Kéïta Fournier-Pelletier and Kala Dance Collective
DESCRIPTION:Dance @ The Registry\n\n\n\n\n\n\n\n\n\n\n\n\n\n\n\n\n\nAn Evening of Dance\, courtesy of From Words to Action: IBPOC Touring Network in Communities 2025. \n\n\n\nPillar of You – Kéïta Fournier-Pelletier \n\n\n\nPillar of You explores the pillars – or central building blocks of who we are\, with a focus around queer relationships of all kinds and how our queerness intersects with our personal experiences from childhood to today. \n\n\n\nKula Devi – Kala Dance Collective \n\n\n\nKula Devi tells our stories as South-Asian diasporic women in Canada. Informed by our foundation in Bharatanatyam and our South Asian heritage\, the work is an embodiment of our individual family goddesses/deities\, or Kula Devis and is an homage to our ancestral lineage. \n\n\n\nTickets: $25 \n\n\n\n\nBuy Tickets
URL:https://registrytheatre.com/event/keita-fournier-pelletier-and-kala-dance-collective/
CATEGORIES:Dance
ATTACH;FMTTYPE=image/jpeg:https://registrytheatre.com/wp-content/uploads/2025/10/1x1-design-with-logos-1-uXlLQn.jpg
ORGANIZER;CN="The Registry Theatre Presents":MAILTO:info@registrytheatre.com
END:VEVENT
BEGIN:VEVENT
DTSTART;TZID=America/Toronto:20250320T190000
DTEND;TZID=America/Toronto:20250320T210000
DTSTAMP:20260419T154219
CREATED:20250224T192010Z
LAST-MODIFIED:20251029T183333Z
UID:10000620-1742497200-1742504400@registrytheatre.com
SUMMARY:JAMES CHAPESKIE LIVE #3
DESCRIPTION:Presented by J Music Records \n\n\n\n\n\n\n\n\n\nSinger\, songwriter\, music producer\, and tiktok star James Chapeskie is back with an all new live show where 80s pop music is combined with Fantasy\, Dramatic theatrical elements\, epic lighting\, dancing\, and comedy for the most energetic\, epic live concert you’ve ever seen!  \n\n\n\nJames Chapeskie is joined with the very talented singer Kiera Lynn\, Dancers Jessica and Amanda Hardy\, and the one and only Hilarious Josh Gofton for this extravagant show!  \n\n\n\nJames and Kiera will be performing 15 of James’ original songs live including Fairy in the Night\, Feeling of Victory\, A Vision\, Love of my Soul\, Was No More\, Falling for you\, Love is like a Puzzle\, and new songs never performed live!  \n\n\n\nWondering what to expect? Check out some clips from our show last September at the Registry! https://www.youtube.com/watch?v=kcwuDgWukr4 https://www.youtube.com/watch?v=SwWafVtAJZ8 https://www.youtube.com/watch?v=0fTHCriQPwo https://www.youtube.com/watch?v=aq0wY1W9ix0 https://www.youtube.com/watch?v=wx_scPK_8_4  \n\n\n\nLearn more about this event on eventbrite https://www.eventbrite.ca/e/james-chapeskie-live-3-tickets-1137896722729?aff=oddtdtcreator \n\n\n\nThis performance features the use of Theatrical Haze\, Lasers\, and bright flashing lights Event promo video \n\n\n\nTickets: $27.96 (On eventbrite) $30 (at the door)
URL:https://registrytheatre.com/event/james-chapeskie-live-3/
LOCATION:The Registry Theatre\, 122 Frederick Street\, Kitchener\, ON\, N2H 2L9\, Canada
CATEGORIES:Rental Events
ATTACH;FMTTYPE=image/png:https://registrytheatre.com/wp-content/uploads/2025/10/live-promo-1-James-Chapeskie-tH1rZ6.png
ORGANIZER;CN="James Chapeskie":MAILTO:jmusicrecords2@gmail.com
END:VEVENT
BEGIN:VEVENT
DTSTART;TZID=America/Toronto:20250322T200000
DTEND;TZID=America/Toronto:20250322T220000
DTSTAMP:20260419T154219
CREATED:20250114T170008Z
LAST-MODIFIED:20251029T183333Z
UID:10000611-1742673600-1742680800@registrytheatre.com
SUMMARY:JACK DE KEYZER
DESCRIPTION:Presented by Blue Star Records \n\n\n\n\n\n\n\n\n\nMulti Juno and Maple Blues Winner Jack de Keyzer and band play blues\, rock\, soul and jazz. \n\n\n\nTickets $35\, 19+
URL:https://registrytheatre.com/event/jack-de-keyzer-2/
LOCATION:The Registry Theatre\, 122 Frederick Street\, Kitchener\, ON\, N2H 2L9\, Canada
CATEGORIES:Rental Events
ATTACH;FMTTYPE=image/jpeg:https://registrytheatre.com/wp-content/uploads/2025/10/jdklandscape2024promo3meg-564c5A.jpg
ORGANIZER;CN="Blue Star Records":MAILTO:bluestarrecords@rogers.com
END:VEVENT
END:VCALENDAR