BEGIN:VCALENDAR
VERSION:2.0
PRODID:-//The Registry Theatre - ECPv6.15.20//NONSGML v1.0//EN
CALSCALE:GREGORIAN
METHOD:PUBLISH
X-ORIGINAL-URL:https://registrytheatre.com
X-WR-CALDESC:Events for The Registry Theatre
REFRESH-INTERVAL;VALUE=DURATION:PT1H
X-Robots-Tag:noindex
X-PUBLISHED-TTL:PT1H
BEGIN:VTIMEZONE
TZID:America/Toronto
BEGIN:DAYLIGHT
TZOFFSETFROM:-0500
TZOFFSETTO:-0400
TZNAME:EDT
DTSTART:20240310T070000
END:DAYLIGHT
BEGIN:STANDARD
TZOFFSETFROM:-0400
TZOFFSETTO:-0500
TZNAME:EST
DTSTART:20241103T060000
END:STANDARD
BEGIN:DAYLIGHT
TZOFFSETFROM:-0500
TZOFFSETTO:-0400
TZNAME:EDT
DTSTART:20250309T070000
END:DAYLIGHT
BEGIN:STANDARD
TZOFFSETFROM:-0400
TZOFFSETTO:-0500
TZNAME:EST
DTSTART:20251102T060000
END:STANDARD
BEGIN:DAYLIGHT
TZOFFSETFROM:-0500
TZOFFSETTO:-0400
TZNAME:EDT
DTSTART:20260308T070000
END:DAYLIGHT
BEGIN:STANDARD
TZOFFSETFROM:-0400
TZOFFSETTO:-0500
TZNAME:EST
DTSTART:20261101T060000
END:STANDARD
END:VTIMEZONE
BEGIN:VEVENT
DTSTART;TZID=America/Toronto:20250211T180000
DTEND;TZID=America/Toronto:20250211T190000
DTSTAMP:20260419T171240
CREATED:20241118T182417Z
LAST-MODIFIED:20251103T184414Z
UID:10000578-1739296800-1739300400@registrytheatre.com
SUMMARY:Winter Danceworks
DESCRIPTION:Presented by Guelph Youth Dance\, Dust and Soul Dance\, and Rhapsody Dance\n\n\n\n\n\n\n\n\n\nJoin us for Guelph Youth Dance’s Winter Danceworks with guest performances from Dust and Soul Dance Projects and Rhapsody Dance. Winter Danceworks features new work by choreographers Emmett Bradshaw\, Leslie Fisher\, Nickeshia Garrick\, Allen Kaeja\, Kween\, Willem Sadler\, Georgia Simms\, Kelly Steadman and Tara Butler. This evening of dance celebrates our youth dancers in training\, post secondary dancers from Rhapsody Dance and professional dancers of Dust and Soul Dance. You will be treated to a variety of dance styles and witness dancers in every phase of development from the early stages of training to established senior artists sharing their love of dance together at The Registry. \n\n\n\nTickets: $18 before Dec 31; $20 after
URL:https://registrytheatre.com/event/winter-danceworks/
CATEGORIES:Dance
ATTACH;FMTTYPE=image/png:https://registrytheatre.com/wp-content/uploads/2025/10/Winter-Danceworks-FKLNVh.png
ORGANIZER;CN="Dust and Soul Dance":MAILTO:companydirector@guelphyouthdance.ca
END:VEVENT
BEGIN:VEVENT
DTSTART;TZID=America/Toronto:20250214T190000
DTEND;TZID=America/Toronto:20250214T210000
DTSTAMP:20260419T171241
CREATED:20241229T031503Z
LAST-MODIFIED:20251029T183122Z
UID:10000603-1739559600-1739566800@registrytheatre.com
SUMMARY:Agatha Christie’s Murder on the Orient Express
DESCRIPTION:Presented by Playful Fox Productions \n\n\n\n\n\n\n\n\n\nAll aboard! Playful Fox Productions presents “Agatha Christie”s Murder on the Orient Express\,” adapted for the stage by Ken Ludwig.  \n\n\n\nJoin famous detective Hercule Poirot on his most famous case in “Agatha Christie”s Murder on the Orient Express.” Just after midnight a snowdrift stops the Orient Express in its tracks. The luxurious train is surprisingly full for the time of the year\, but by the morning it is one passenger fewer. An American tycoon lies dead in his compartment\, his door locked from the inside. Isolated and with a killer in their midst\, the passengers rely on detective Hercule Poirot to identify the murderer – in case he or she decides to strike again.  \n\n\n\nThis show is NOT intended for children under the age of 12. Contains situations and scenes that may offend some viewers. Viewer discretion is advised.  \n\n\n\n“Agatha Christie”s Murder on the Orient Express” is presented by arrangement with Concord Theatricals on behalf of Samuel French\, Inc. www.concordtheatricals.com \n\n\n\nTrigger warning: This play contains situations\, subject matter\, and scenes that may be disturbing to some viewers including the sound of a gunshot. Concessions will be available for cash at the theatre before the show and during intermission. Agatha Christie’s Murder on the Orient Express is a two act show with a 20 minute intermission. \n\n\n\nAdult general admission: $28 (plus taxes and fees) Senior (60+) general admission: $25 (plus taxes and fees) Student general admission (17 and under): $25 (plus taxes and fees) Adult Early Admission: $32 (plus taxes and fees) Senior/Student Early Admission: $30 (plus taxes and fees)Tickets may be available for purchase at the door depending on availability. Last minute tickets paid in cash at the door are subject to a $5 fee on the base ticket price.
URL:https://registrytheatre.com/event/agatha-christies-murder-on-the-orient-express/
LOCATION:The Registry Theatre\, 122 Frederick Street\, Kitchener\, ON\, N2H 2L9\, Canada
CATEGORIES:Rental Events
ATTACH;FMTTYPE=image/jpeg:https://registrytheatre.com/wp-content/uploads/2025/10/IMG_2869-Marissa-Wilson-fDkL8V.jpg
ORGANIZER;CN="Playful Fox Productions":MAILTO:playful.fox.canada@gmail.com
END:VEVENT
END:VCALENDAR