BEGIN:VCALENDAR
VERSION:2.0
PRODID:-//The Registry Theatre - ECPv6.15.20//NONSGML v1.0//EN
CALSCALE:GREGORIAN
METHOD:PUBLISH
X-ORIGINAL-URL:https://registrytheatre.com
X-WR-CALDESC:Events for The Registry Theatre
REFRESH-INTERVAL;VALUE=DURATION:PT1H
X-Robots-Tag:noindex
X-PUBLISHED-TTL:PT1H
BEGIN:VTIMEZONE
TZID:America/Toronto
BEGIN:DAYLIGHT
TZOFFSETFROM:-0500
TZOFFSETTO:-0400
TZNAME:EDT
DTSTART:20240310T070000
END:DAYLIGHT
BEGIN:STANDARD
TZOFFSETFROM:-0400
TZOFFSETTO:-0500
TZNAME:EST
DTSTART:20241103T060000
END:STANDARD
BEGIN:DAYLIGHT
TZOFFSETFROM:-0500
TZOFFSETTO:-0400
TZNAME:EDT
DTSTART:20250309T070000
END:DAYLIGHT
BEGIN:STANDARD
TZOFFSETFROM:-0400
TZOFFSETTO:-0500
TZNAME:EST
DTSTART:20251102T060000
END:STANDARD
BEGIN:DAYLIGHT
TZOFFSETFROM:-0500
TZOFFSETTO:-0400
TZNAME:EDT
DTSTART:20260308T070000
END:DAYLIGHT
BEGIN:STANDARD
TZOFFSETFROM:-0400
TZOFFSETTO:-0500
TZNAME:EST
DTSTART:20261101T060000
END:STANDARD
END:VTIMEZONE
BEGIN:VEVENT
DTSTART;TZID=America/Toronto:20250203T193000
DTEND;TZID=America/Toronto:20250203T220000
DTSTAMP:20260419T184726
CREATED:20250103T195253Z
LAST-MODIFIED:20251029T183122Z
UID:10000606-1738611000-1738620000@registrytheatre.com
SUMMARY:A Midwinter Evening with KEVIN RAMESSAR
DESCRIPTION:Local favourite makes a brief return from NYC to visit family\, and friends of The Registry Theatre. \n\n\n\nA rare\, intimate evening featuring Kevin’s vast range of music and song with guitars\, keyboard\, and grand piano. \n\n\n\nPLEASE NOTE: IN PERSON TICKETS ARE SOLD OUT\, HOWEVER WE ARE PLEASED TO OFFER A LIVE STREAM OPTION FOR $15. PLEASE CLICK THE LINK BELOW TO PURCHASE. \n\n\n\nTickets: $15 (livestream only)
URL:https://registrytheatre.com/event/a-midwinter-evening-with-kevin-ramessar/
CATEGORIES:Registry Presents Events
ATTACH;FMTTYPE=image/jpeg:https://registrytheatre.com/wp-content/uploads/2025/01/image001.jpg
END:VEVENT
BEGIN:VEVENT
DTSTART;TZID=America/Toronto:20250206T200000
DTEND;TZID=America/Toronto:20250206T220000
DTSTAMP:20260419T184726
CREATED:20240828T154644Z
LAST-MODIFIED:20251101T160928Z
UID:10000507-1738872000-1738879200@registrytheatre.com
SUMMARY:THE LODGER
DESCRIPTION:VOC Silent Film Harmonic @ The Registry\n\n\n\n\n\n\n\n\n\nAlfred Hitchcock’s 1926 silent classic. Inspired by Jack the Ripper murders. Starring Ivor Novello. \n\n\n\nTickets: $18$12 with food bank donation (only available at the door) \n\n\n\n\n\n \n\n\n\nWho to Contact for Event Info and Inquiries:
URL:https://registrytheatre.com/event/the-lodger/
CATEGORIES:Registry Presents Events,VOC Silent Film
ATTACH;FMTTYPE=image/jpeg:https://registrytheatre.com/wp-content/uploads/2025/10/VOC-The-Lodger-7pyXdH.jpg
ORGANIZER;CN="The Registry Theatre Presents":MAILTO:info@registrytheatre.com
END:VEVENT
BEGIN:VEVENT
DTSTART;TZID=America/Toronto:20250207T200000
DTEND;TZID=America/Toronto:20250207T220000
DTSTAMP:20260419T184726
CREATED:20240828T133304Z
LAST-MODIFIED:20251103T184508Z
UID:10000503-1738958400-1738965600@registrytheatre.com
SUMMARY:BENJAMIN ROLLO
DESCRIPTION:Homegrown @ The Registry\n\n\n\n\n\n\n\n\n\n\n\nGreat Canadian Singer-Songwriters Vol. VIII\n\n\n\nThe Acoustic Sessions\n\n\n\n\n\nBen returns with his eagerly anticipated annual Registry concert. Special guests Claire Voy (SHEBAD)\, Christine Bougie (Bahamas)\, Emma Cooper & Jacob Macpherson. \n\n\n\nTickets: $40 \n\n\n\n\n\nSeries Sponsor:\n\n\n\n\n\n\n\nWho to contact for event info and inquiries:
URL:https://registrytheatre.com/event/benjamin-rollo-3/
CATEGORIES:Homegrown,Registry Presents Events
ATTACH;FMTTYPE=image/jpeg:https://registrytheatre.com/wp-content/uploads/2025/10/Ben-Rollo-Home-Grown-24-25-DzpwcS.jpg
ORGANIZER;CN="The Registry Theatre Presents":MAILTO:info@registrytheatre.com
END:VEVENT
BEGIN:VEVENT
DTSTART;TZID=America/Toronto:20250208T200000
DTEND;TZID=America/Toronto:20250208T220000
DTSTAMP:20260419T184726
CREATED:20240829T133236Z
LAST-MODIFIED:20251103T184826Z
UID:10000513-1739044800-1739052000@registrytheatre.com
SUMMARY:JAMES GORDON & his Exceptional Ensemble
DESCRIPTION:Folk Night @ The Registry\n\n\n\n\n\n\n\n\n\nA Canadian classic. James is joined by longtime musical pals\, including Katherine Wheatley\, David Woodhead\, and Anne Lindsay. \n\n\n\nTickets: $28 in advance$32 at the door$23 Live Stream \n\n\n\n\n\n \n\n\n\nWho to Contact for Event Info and Inquiries:
URL:https://registrytheatre.com/event/james-gordon/
CATEGORIES:Folk Night,Jazz
ATTACH;FMTTYPE=image/jpeg:https://registrytheatre.com/wp-content/uploads/2025/10/James-Gordon-friends-FN-24-25-9qNSf4.jpg
END:VEVENT
BEGIN:VEVENT
DTSTART;TZID=America/Toronto:20250209T150000
DTEND;TZID=America/Toronto:20250209T170000
DTSTAMP:20260419T184726
CREATED:20230908T110400Z
LAST-MODIFIED:20251103T185051Z
UID:10000518-1739113200-1739120400@registrytheatre.com
SUMMARY:TRACY LEE ~ I Sing Because I’m Free!
DESCRIPTION:One Night Only @ The Registry\n\n\n\n\n\n\n\n\n\n\n\nBlack History Month Concert\n\n\n\n\n\nA powerful story of resilience and tenacity. A musical journey through Tracy’s ancestors’ triumphs over adversity from enslavement to freedom in Canada via the Underground Railroad. Featuring the soulful and inspirational songs of Mahaila Jackson\, Billie Holiday\, Sarah Vaughan\, Ella Fitzgerald\, Sam Cooke\, and Nina Simone. \n\n\n\nTickets: $30 \n\n\n\n\n\n\n\n\n\nSeries Sponsor:\n\n\n\n\n\n\n\nWho to contact for event info and inquiries:\n\n\n\n\n\nSeries Sponsor:\n\n\n\nEquitable Life of Canada
URL:https://registrytheatre.com/event/tracy-lee/
CATEGORIES:One Night Only,Registry Presents Events
ATTACH;FMTTYPE=image/jpeg:https://registrytheatre.com/wp-content/uploads/2025/10/Tracy-Cain2-ONO-24-25-29rmgD.jpg
ORGANIZER;CN="The Registry Theatre Presents":MAILTO:info@registrytheatre.com
END:VEVENT
END:VCALENDAR