BEGIN:VCALENDAR
VERSION:2.0
PRODID:-//The Registry Theatre - ECPv6.15.20//NONSGML v1.0//EN
CALSCALE:GREGORIAN
METHOD:PUBLISH
X-WR-CALNAME:The Registry Theatre
X-ORIGINAL-URL:https://registrytheatre.com
X-WR-CALDESC:Events for The Registry Theatre
REFRESH-INTERVAL;VALUE=DURATION:PT1H
X-Robots-Tag:noindex
X-PUBLISHED-TTL:PT1H
BEGIN:VTIMEZONE
TZID:America/Toronto
BEGIN:DAYLIGHT
TZOFFSETFROM:-0500
TZOFFSETTO:-0400
TZNAME:EDT
DTSTART:20240310T070000
END:DAYLIGHT
BEGIN:STANDARD
TZOFFSETFROM:-0400
TZOFFSETTO:-0500
TZNAME:EST
DTSTART:20241103T060000
END:STANDARD
BEGIN:DAYLIGHT
TZOFFSETFROM:-0500
TZOFFSETTO:-0400
TZNAME:EDT
DTSTART:20250309T070000
END:DAYLIGHT
BEGIN:STANDARD
TZOFFSETFROM:-0400
TZOFFSETTO:-0500
TZNAME:EST
DTSTART:20251102T060000
END:STANDARD
BEGIN:DAYLIGHT
TZOFFSETFROM:-0500
TZOFFSETTO:-0400
TZNAME:EDT
DTSTART:20260308T070000
END:DAYLIGHT
BEGIN:STANDARD
TZOFFSETFROM:-0400
TZOFFSETTO:-0500
TZNAME:EST
DTSTART:20261101T060000
END:STANDARD
END:VTIMEZONE
BEGIN:VEVENT
DTSTART;TZID=America/Toronto:20250131T200000
DTEND;TZID=America/Toronto:20250131T220000
DTSTAMP:20260419T201559
CREATED:20230908T115900Z
LAST-MODIFIED:20251101T161852Z
UID:10000531-1738353600-1738360800@registrytheatre.com
SUMMARY:LARRY LARSON’S JAZZ GUYS
DESCRIPTION:Jazz @ The Registry\n\n\n\nPart of the Winter Jazz Weekend\n\n\n\n\n\n\n\n\n\n\n\nThe Annual Registry Concert\n\n\n\n\n\nLarry and his Guys are back to launch the JATR season. Larry brings the cool with his effortlessly elegant playing\, and his crack band featuring some of Canada’s finest musicians performing a selection of his trumpet favourites. \n\n\n\n \n\n\n\nTickets: $30 \n\n\n\n\n\n \n\n\n\nPresented with support from: \n\n\n\n\n\n\n\nWho to contact for event info and inquiries:
URL:https://registrytheatre.com/event/larry-larsons-jazz-guys-2/
CATEGORIES:Jazz,Registry Presents Events
ATTACH;FMTTYPE=image/jpeg:https://registrytheatre.com/wp-content/uploads/2025/10/Larry-Larson-JATR-25-photo-Mathew-McCarthy-5qoG6U.jpg
ORGANIZER;CN="The Registry Theatre Presents":MAILTO:info@registrytheatre.com
END:VEVENT
BEGIN:VEVENT
DTSTART;TZID=America/Toronto:20250201T200000
DTEND;TZID=America/Toronto:20250201T220000
DTSTAMP:20260419T201559
CREATED:20230908T115900Z
LAST-MODIFIED:20251101T161852Z
UID:10000532-1738440000-1738447200@registrytheatre.com
SUMMARY:SAMUEL BONNET TRIO
DESCRIPTION:Jazz @ The Registry\n\n\n\nPart of the Winter Jazz Weekend\n\n\n\n\n\n\n\n\n\n\n\nGuitar Jazz Acoustique\n\n\n\n\n\nFrom original compositions\, to the Great American Songbook\, Samuel’s luminous acoustic guitar stylings are beautifully complimented by Jonathan-Guillaume Boudreau bass\, and drummer Simon Bergeron. \n\n\n\n \n\n\n\nTickets: $30 \n\n\n\n\n\n \n\n\n\nPresented with support from: \n\n\n\n\n\n\n\nWho to contact for event info and inquiries:
URL:https://registrytheatre.com/event/samuel-bonnet-trio/
CATEGORIES:Jazz,Registry Presents Events
ATTACH;FMTTYPE=image/jpeg:https://registrytheatre.com/wp-content/uploads/2025/10/Samuel-Bonnet-Trio-JATR-25-photo-Guy-Samson-lI1Y9x.jpg
ORGANIZER;CN="The Registry Theatre Presents":MAILTO:info@registrytheatre.com
END:VEVENT
BEGIN:VEVENT
DTSTART;TZID=America/Toronto:20250202T150000
DTEND;TZID=America/Toronto:20250202T170000
DTSTAMP:20260419T201559
CREATED:20250123T182250Z
LAST-MODIFIED:20251029T183333Z
UID:10000615-1738508400-1738515600@registrytheatre.com
SUMMARY:COMEDY TONIGHT!
DESCRIPTION:Presented by Amie Debrone’s Music & Acting Studio \n\n\n\n\n\n\n\nA hilarious concert of music and scenes\, featuring 21 students aged 7 to 70+ Proceeds support Breast Cancer Canada. \n\n\n\n\n\nTickets by donation at the door – cash preferredTax receipts can be issued for donations of $20 or more.
URL:https://registrytheatre.com/event/comedy-tonight/
LOCATION:The Registry Theatre\, 122 Frederick Street\, Kitchener\, ON\, N2H 2L9\, Canada
CATEGORIES:Rental Events
ATTACH;FMTTYPE=image/jpeg:https://registrytheatre.com/wp-content/uploads/2025/01/Comedy-Tonight-social-media-post-Amie-Debrone.jpg
ORGANIZER;CN="Amie Debrone":MAILTO:a_debrone@hotmail.com
END:VEVENT
END:VCALENDAR