BEGIN:VCALENDAR
VERSION:2.0
PRODID:-//The Registry Theatre - ECPv6.15.20//NONSGML v1.0//EN
CALSCALE:GREGORIAN
METHOD:PUBLISH
X-WR-CALNAME:The Registry Theatre
X-ORIGINAL-URL:https://registrytheatre.com
X-WR-CALDESC:Events for The Registry Theatre
REFRESH-INTERVAL;VALUE=DURATION:PT1H
X-Robots-Tag:noindex
X-PUBLISHED-TTL:PT1H
BEGIN:VTIMEZONE
TZID:America/Toronto
BEGIN:DAYLIGHT
TZOFFSETFROM:-0500
TZOFFSETTO:-0400
TZNAME:EDT
DTSTART:20230312T070000
END:DAYLIGHT
BEGIN:STANDARD
TZOFFSETFROM:-0400
TZOFFSETTO:-0500
TZNAME:EST
DTSTART:20231105T060000
END:STANDARD
BEGIN:DAYLIGHT
TZOFFSETFROM:-0500
TZOFFSETTO:-0400
TZNAME:EDT
DTSTART:20240310T070000
END:DAYLIGHT
BEGIN:STANDARD
TZOFFSETFROM:-0400
TZOFFSETTO:-0500
TZNAME:EST
DTSTART:20241103T060000
END:STANDARD
BEGIN:DAYLIGHT
TZOFFSETFROM:-0500
TZOFFSETTO:-0400
TZNAME:EDT
DTSTART:20250309T070000
END:DAYLIGHT
BEGIN:STANDARD
TZOFFSETFROM:-0400
TZOFFSETTO:-0500
TZNAME:EST
DTSTART:20251102T060000
END:STANDARD
END:VTIMEZONE
BEGIN:VEVENT
DTSTART;TZID=America/Toronto:20241205T200000
DTEND;TZID=America/Toronto:20241205T220000
DTSTAMP:20260420T025122
CREATED:20251029T183121Z
LAST-MODIFIED:20251029T183121Z
UID:10000930-1733428800-1733436000@registrytheatre.com
SUMMARY:TCDC & Friends Holiday Showcase
DESCRIPTION:TCDC & friends Holiday Showcase \n\n\n\n\n\n\n\nA dance recital featuring ballet and contemporary dance works and ” The Nutcracker” excerpts. \n\n\n\nTCDC showcase will featured ballet and contemporary works performed by our students\, and guest artists Tara Butler and Dominic Who. The showcase includes excerpts from ” The Nutcracker” ( Doll Dance\, Arabian dance and the Sugar Plum Pas de deux) \n\n\n\n\n\nTickets: $35Ticket purchase and reservation : Send email to reserve and pay tickets- Providing the name of the person who will pick the paid tickets at the door. (Ticket cost $35 includes a raffle ticket to win a dance painting)Payment in advance : 1-Via E-transfer to Email : tcarretdanceconservatory@gmail.com 2- Via Paypal to Email : mercedescanb@hotmail.com
URL:https://registrytheatre.com/event/tcdc-friends-holiday-showcase/
CATEGORIES:Rental Events
END:VEVENT
BEGIN:VEVENT
DTSTART;TZID=America/Toronto:20241206T200000
DTEND;TZID=America/Toronto:20241206T220000
DTSTAMP:20260420T025122
CREATED:20251029T171043Z
LAST-MODIFIED:20251103T184508Z
UID:10000907-1733515200-1733522400@registrytheatre.com
SUMMARY:RACHEL HICKEY & SYDNEY JONES
DESCRIPTION:Homegrown @ The Registry\n\n\n\n\n\n\n\n\n\n\n\n\n\n\n\n\n\nStorytelling in Song\n\n\n\n\n\nRachel Hickey returns to The Reg\, with a full band\, for a captivating evening from her debut album The Eve of St. Agnes. With inspiration from Joni Mitchell to Feist\, Rachel delivers an emotional and energetic show packed with stories and heartfelt lyrics. \n\n\n\nSydney Jones returns to The Reg with her band after an enormous year of shows with the likes of Danny Michel and Bahamas. With influences from indie-folk\, Americana\, and alt country\, Sydney brings story-telling we can all connect with. \n\n\n\nTickets: $30 \n\n\n\n\n\nSeries Sponsor:\n\n\n\n\n\n\n\nWho to contact for event info and inquiries:
URL:https://registrytheatre.com/event/rachel-hickey-sydney-jones/
CATEGORIES:Homegrown,Registry Presents Events
ATTACH;FMTTYPE=image/jpeg:https://registrytheatre.com/wp-content/uploads/2025/10/Sydney-Jones-Home-Grown-24-25-NhHq02.jpg
END:VEVENT
BEGIN:VEVENT
DTSTART;TZID=America/Toronto:20241207T200000
DTEND;TZID=America/Toronto:20241207T220000
DTSTAMP:20260420T025122
CREATED:20251029T172149Z
LAST-MODIFIED:20251029T172149Z
UID:10000914-1733601600-1733608800@registrytheatre.com
SUMMARY:A BIG BAND CHRISTMAS
DESCRIPTION:with Big Band Theory\n\n\n\n\n\nThe Waterloo Region’s best jazz musicians return with Christmas classics in their annual charity fundraiser. A portion of proceeds will be used to support the Lyle S Hallman Foundation’s Kids to Camp Program\, coordinated in partnership with the Waterloo Region Record. \n\n\n\nTickets: $30
URL:https://registrytheatre.com/event/a-big-band-christmas-4/
CATEGORIES:Registry Presents Events
ATTACH;FMTTYPE=image/jpeg:https://registrytheatre.com/wp-content/uploads/2025/10/Big-Band-Theory3-Big-Band-Christmas-24-25-CJxNn9.jpg
END:VEVENT
END:VCALENDAR