BEGIN:VCALENDAR
VERSION:2.0
PRODID:-//The Registry Theatre - ECPv6.15.20//NONSGML v1.0//EN
CALSCALE:GREGORIAN
METHOD:PUBLISH
X-ORIGINAL-URL:https://registrytheatre.com
X-WR-CALDESC:Events for The Registry Theatre
REFRESH-INTERVAL;VALUE=DURATION:PT1H
X-Robots-Tag:noindex
X-PUBLISHED-TTL:PT1H
BEGIN:VTIMEZONE
TZID:America/Toronto
BEGIN:DAYLIGHT
TZOFFSETFROM:-0500
TZOFFSETTO:-0400
TZNAME:EDT
DTSTART:20230312T070000
END:DAYLIGHT
BEGIN:STANDARD
TZOFFSETFROM:-0400
TZOFFSETTO:-0500
TZNAME:EST
DTSTART:20231105T060000
END:STANDARD
BEGIN:DAYLIGHT
TZOFFSETFROM:-0500
TZOFFSETTO:-0400
TZNAME:EDT
DTSTART:20240310T070000
END:DAYLIGHT
BEGIN:STANDARD
TZOFFSETFROM:-0400
TZOFFSETTO:-0500
TZNAME:EST
DTSTART:20241103T060000
END:STANDARD
BEGIN:DAYLIGHT
TZOFFSETFROM:-0500
TZOFFSETTO:-0400
TZNAME:EDT
DTSTART:20250309T070000
END:DAYLIGHT
BEGIN:STANDARD
TZOFFSETFROM:-0400
TZOFFSETTO:-0500
TZNAME:EST
DTSTART:20251102T060000
END:STANDARD
END:VTIMEZONE
BEGIN:VEVENT
DTSTART;TZID=America/Toronto:20241126T193000
DTEND;TZID=America/Toronto:20241126T210000
DTSTAMP:20260420T011139
CREATED:20251029T183121Z
LAST-MODIFIED:20251029T183121Z
UID:10000933-1732649400-1732654800@registrytheatre.com
SUMMARY:Finding Mama
DESCRIPTION:Our friend Mariatu\, who lives in the Central Frederick Neighbourhood and is often seen ushering at The Registry Theatre\, is looking for her Mama\, last seen in Sierra Leone some years ago.  \n\n\n\nPlease join us for a fundraising evening of story\, song\, and hot sauce! Featuring special guests Ben Rollo\, Andy Macpherson\, and more! \n\n\n\nYou can also contribute to the fundraising effort via Mariatu’s Go Fund Me Campaign. \n\n\n\n \n\n\n\nTickets: $25
URL:https://registrytheatre.com/event/finding-mama/
CATEGORIES:Registry Presents Events
END:VEVENT
BEGIN:VEVENT
DTSTART;TZID=America/Toronto:20241127T193000
DTEND;TZID=America/Toronto:20241127T223000
DTSTAMP:20260420T011139
CREATED:20251029T183122Z
LAST-MODIFIED:20251029T183122Z
UID:10000937-1732735800-1732746600@registrytheatre.com
SUMMARY:Open Mic/Jam with Frontier Music
DESCRIPTION:An opportunity for emerging local musicians to jam with more seasoned veterans. Show up\, sign up!  \n\n\n\nPresented in Partnership with Frontier Music Studio. \n\n\n\nTickets: Pay What You Can at the Door
URL:https://registrytheatre.com/event/open-mic-jam-with-frontier-music/
END:VEVENT
BEGIN:VEVENT
DTSTART;TZID=America/Toronto:20241129T200000
DTEND;TZID=America/Toronto:20241129T220000
DTSTAMP:20260420T011139
CREATED:20251029T171043Z
LAST-MODIFIED:20251103T185051Z
UID:10000912-1732910400-1732917600@registrytheatre.com
SUMMARY:JOE SEALY ~ AFRICVILLE STORIES
DESCRIPTION:One Night Only @ The Registry\n\n\n\n\n\n\n\n\n\n\n\nSpecial Guest: Jackie Richardson\n\n\n\nPart of the Our World Festival of Music \n\n\n\n\n\nInspired by Joe’s JUNO Award winning Africville Suite. From champion boxer George Dixon\, to renowned contralto Portia White\, Africville Stories presents uplifting tales of this unique Canadian community that was ended in the 1960’s urban renewal. Composer and pianist Joe Sealy is joined by Canada’s queen of jazz and blues Jackie Richardson\, Paul Novotny bass\, Alison Young saxophone\, and drummer Daniel Barnes. \n\n\n\nTickets: $40 \n\n\n\n\n\n\n\n\n\nSeries Sponsor:\n\n\n\n\n\n\n\nWho to contact for event info and inquiries:\n\n\n\n\n\nSeries Sponsor:\n\n\n\nEquitable Life of Canada
URL:https://registrytheatre.com/event/joe-sealy-africville-stories/
CATEGORIES:One Night Only,Registry Presents Events
END:VEVENT
BEGIN:VEVENT
DTSTART;TZID=America/Toronto:20241130T200000
DTEND;TZID=America/Toronto:20241130T220000
DTSTAMP:20260420T011139
CREATED:20251029T171043Z
LAST-MODIFIED:20251103T184826Z
UID:10000911-1732996800-1733004000@registrytheatre.com
SUMMARY:CONNIE KALDOR & ALEKSI CAMPAGNE
DESCRIPTION:k \n\n\n\nFolk Night @ The Registry\n\n\n\n\n\n\n\n\n\nA double bill. Connie\, the pride of Saskatchewan\, and Quebec’s Aleksi\, a rising star singer songwriter and fiddler. \n\n\n\nTickets: $30 in advance$33 at the door$23 Live Stream \n\n\n\n\n\n \n\n\n\nWho to Contact for Event Info and Inquiries:
URL:https://registrytheatre.com/event/connie-kaldor-aleksi-campagne/
CATEGORIES:Folk Night,Jazz
ATTACH;FMTTYPE=image/jpeg:https://registrytheatre.com/wp-content/uploads/2025/10/Connie-Kaldor-FN-24-25-photo-Christina-Higham-rFczpO.jpg
END:VEVENT
BEGIN:VEVENT
DTSTART;TZID=America/Toronto:20241201T150000
DTEND;TZID=America/Toronto:20241201T170000
DTSTAMP:20260420T011139
CREATED:20251029T172149Z
LAST-MODIFIED:20251029T172149Z
UID:10000915-1733065200-1733072400@registrytheatre.com
SUMMARY:A LOST & FOUND CHRISTMAS
DESCRIPTION:Charles Dickens Writes A Christmas Carol \n\n\n\nThe modern day classic returns after a seven year hiatus\, this time in its original staged reading format\, featuring many of the local actors you know and love\, including playwright Richard Quesnel. \n\n\n\nIn 1843\, during the reign of Queen Victoria\, A Christmas Carol became one of the most popular books in the English language\, and has been credited as almost single-handedly reviving the Christmas holiday. Richard Quesnel gives us a glimpse into Dickens’ life\, and what may have inspired him in the writing of this classic tale\, including a band of wandering carolers\, and a curiously Scrooge-like publisher imposing a Christmas Eve deadline. Kick off your holiday season early with a heartfelt seasonal gem\, great for the whole family. \n\n\n\nFree – Donations are welcome at the door \n\n\n\n\nReserve Your Spot
URL:https://registrytheatre.com/event/a-lost-found-christmas-3/
CATEGORIES:Registry Presents Events
ATTACH;FMTTYPE=image/jpeg:https://registrytheatre.com/wp-content/uploads/2025/10/Charles-Dickens-Writes-A-Christmas-Carol-Dec-1-social-MY2hqy.jpg
END:VEVENT
END:VCALENDAR