BEGIN:VCALENDAR
VERSION:2.0
PRODID:-//The Registry Theatre - ECPv6.15.20//NONSGML v1.0//EN
CALSCALE:GREGORIAN
METHOD:PUBLISH
X-WR-CALNAME:The Registry Theatre
X-ORIGINAL-URL:https://registrytheatre.com
X-WR-CALDESC:Events for The Registry Theatre
REFRESH-INTERVAL;VALUE=DURATION:PT1H
X-Robots-Tag:noindex
X-PUBLISHED-TTL:PT1H
BEGIN:VTIMEZONE
TZID:America/Toronto
BEGIN:DAYLIGHT
TZOFFSETFROM:-0500
TZOFFSETTO:-0400
TZNAME:EDT
DTSTART:20230312T070000
END:DAYLIGHT
BEGIN:STANDARD
TZOFFSETFROM:-0400
TZOFFSETTO:-0500
TZNAME:EST
DTSTART:20231105T060000
END:STANDARD
BEGIN:DAYLIGHT
TZOFFSETFROM:-0500
TZOFFSETTO:-0400
TZNAME:EDT
DTSTART:20240310T070000
END:DAYLIGHT
BEGIN:STANDARD
TZOFFSETFROM:-0400
TZOFFSETTO:-0500
TZNAME:EST
DTSTART:20241103T060000
END:STANDARD
BEGIN:DAYLIGHT
TZOFFSETFROM:-0500
TZOFFSETTO:-0400
TZNAME:EDT
DTSTART:20250309T070000
END:DAYLIGHT
BEGIN:STANDARD
TZOFFSETFROM:-0400
TZOFFSETTO:-0500
TZNAME:EST
DTSTART:20251102T060000
END:STANDARD
END:VTIMEZONE
BEGIN:VEVENT
DTSTART;TZID=America/Toronto:20241116T140000
DTEND;TZID=America/Toronto:20241116T160000
DTSTAMP:20260422T044331
CREATED:20251029T172149Z
LAST-MODIFIED:20251029T172149Z
UID:10000925-1731765600-1731772800@registrytheatre.com
SUMMARY:There's Something About MATILDA
DESCRIPTION:Growing In The Arts School of Dramatic & Expressive Arts \n\n\n\n\n\n\n\nThis delightful live\, interactive mash up features some of Roald Dahl’s most dramatic and memorable characters from his classic books including The Twits\, Fantastic Mr. Fox\, James and the Giant Peach\, The Witches\, as well as Willy Wonka and the Chocolate Factory.Join the talented cast of award-winning youth actors as they tell the touching story of a young girl who discovers that she has a special power and how she uses it to help her teacher and friends.Appropriate for Kindergarten and Up. Family Friendly Fun! \n\n\n\n\n\nTICKETSADULT: $20 and YOUTH (17 & under) $15
URL:https://registrytheatre.com/event/theres-something-about-matilda/
CATEGORIES:Rental Events
ATTACH;FMTTYPE=image/png:https://registrytheatre.com/wp-content/uploads/2025/10/Screen-Shot-2024-10-01-at-9.54.28-PM-F2qJgP.png
END:VEVENT
BEGIN:VEVENT
DTSTART;TZID=America/Toronto:20241117T150000
DTEND;TZID=America/Toronto:20241117T170000
DTSTAMP:20260422T044331
CREATED:20251029T172149Z
LAST-MODIFIED:20251029T172149Z
UID:10000922-1731855600-1731862800@registrytheatre.com
SUMMARY:POWDERFINGER: A Tribute To Neil Young
DESCRIPTION:Presented by Jay Carraro\n\n\n\n\n\n\n\n\n\nEvery Novemeber\, Jay Carraro and his pals perform the songs of Neil Young as a tribute to the legendary songwriter\, around the time of his birthday.The show begins with a folk and then country style of Neil Young’s catalogue\, and later gives way to a looser and harder rock sound replicating the ‘Crazy Horse’.It takes place inside the renowned ‘Registry Theatre’ in downtown Kitchener and is a “must see” event for any Neil Young fan! celebration of the legendary Neil Young’s birthday with a tribute to his timeless catalogue!  \n\n\n\nTickets: $35
URL:https://registrytheatre.com/event/powderfinger-a-tribute-to-neil-young-3/
CATEGORIES:Rental Events
ATTACH;FMTTYPE=image/jpeg:https://registrytheatre.com/wp-content/uploads/2025/10/Powderfinger-Tribute-to-Neil-Young4-Jay-Carraro-FvHSBu.jpg
END:VEVENT
END:VCALENDAR