BEGIN:VCALENDAR
VERSION:2.0
PRODID:-//The Registry Theatre - ECPv6.15.20//NONSGML v1.0//EN
CALSCALE:GREGORIAN
METHOD:PUBLISH
X-ORIGINAL-URL:https://registrytheatre.com
X-WR-CALDESC:Events for The Registry Theatre
REFRESH-INTERVAL;VALUE=DURATION:PT1H
X-Robots-Tag:noindex
X-PUBLISHED-TTL:PT1H
BEGIN:VTIMEZONE
TZID:America/Toronto
BEGIN:DAYLIGHT
TZOFFSETFROM:-0500
TZOFFSETTO:-0400
TZNAME:EDT
DTSTART:20230312T070000
END:DAYLIGHT
BEGIN:STANDARD
TZOFFSETFROM:-0400
TZOFFSETTO:-0500
TZNAME:EST
DTSTART:20231105T060000
END:STANDARD
BEGIN:DAYLIGHT
TZOFFSETFROM:-0500
TZOFFSETTO:-0400
TZNAME:EDT
DTSTART:20240310T070000
END:DAYLIGHT
BEGIN:STANDARD
TZOFFSETFROM:-0400
TZOFFSETTO:-0500
TZNAME:EST
DTSTART:20241103T060000
END:STANDARD
BEGIN:DAYLIGHT
TZOFFSETFROM:-0500
TZOFFSETTO:-0400
TZNAME:EDT
DTSTART:20250309T070000
END:DAYLIGHT
BEGIN:STANDARD
TZOFFSETFROM:-0400
TZOFFSETTO:-0500
TZNAME:EST
DTSTART:20251102T060000
END:STANDARD
END:VTIMEZONE
BEGIN:VEVENT
DTSTART;TZID=America/Toronto:20241101T200000
DTEND;TZID=America/Toronto:20241101T220000
DTSTAMP:20260422T072625
CREATED:20251029T172149Z
LAST-MODIFIED:20251029T172149Z
UID:10000924-1730491200-1730498400@registrytheatre.com
SUMMARY:ONTARIANS album release show with guests Hyness and Mad Ones
DESCRIPTION:Alone At The Microphone \n\n\n\n\n\n\n\nInternationally acclaimed roots rockers ONTARIANS’ sophomore album More How It Is confirms their status as one of Canada’s best new bands. Imagine if Neil Young collaborated with Sloan and you’ll have a good idea of their hard-hitting yet melodic sound.Joining them will be two of Waterloo Region’s finest indie rock outfits\, HYNESS and MAD ONES\, for what will be a night of explosive energy! \n\n\n\n\n\nTickets: $25
URL:https://registrytheatre.com/event/ontarians-album-release-show-with-guests-hyness-and-mad-ones/
CATEGORIES:Rental Events
END:VEVENT
BEGIN:VEVENT
DTSTART;TZID=America/Toronto:20241102T193000
DTEND;TZID=America/Toronto:20241102T213000
DTSTAMP:20260422T072625
CREATED:20251029T183121Z
LAST-MODIFIED:20251029T183121Z
UID:10000934-1730575800-1730583000@registrytheatre.com
SUMMARY:SILVER THREADS
DESCRIPTION:PRESENTED BY: Manchild Productions\n\n\n\n\n\n\n\nThe Rockway Entertainers performing the “Silver Threads“ of music tying us to the past\, present and into the future. Join us as this Silver haired group of entertainers takes you a journey with a celebration of songs and comedy. \n\n\n\nTickets: $25
URL:https://registrytheatre.com/event/silver-threads/
CATEGORIES:Rental Events
ATTACH;FMTTYPE=image/png:https://registrytheatre.com/wp-content/uploads/2025/10/Screen-Shot-2024-10-29-at-12.02.24-PM-DFn7ut.png
END:VEVENT
BEGIN:VEVENT
DTSTART;TZID=America/Toronto:20241103T150000
DTEND;TZID=America/Toronto:20241103T170000
DTSTAMP:20260422T072625
CREATED:20251029T172149Z
LAST-MODIFIED:20251103T184414Z
UID:10000913-1730646000-1730653200@registrytheatre.com
SUMMARY:Drum and Dance
DESCRIPTION:Dance @ The Registry\n\n\n\n\n\n\n\n\n\n\n\n\n\n\n\n\n\n\n\n\n\n\n\n\n\n\n\n\n\n\n\nAn improvised afternoon of moving percussion\n\n\n\n\n\nRenowned dancers Tara Butler and Georgia Simms create an improvised collaboration with two of our community’s great percussionists\, Adam Bowman and Andy Macpherson. \n\n\n\nPay What You Can at the Door \n\n\n\n\n\n\n\nSeries Sponsor:\n\n\n\n\n\n\n\nFunding Support From:
URL:https://registrytheatre.com/event/drum-and-dance/
CATEGORIES:Dance
ATTACH;FMTTYPE=image/jpeg:https://registrytheatre.com/wp-content/uploads/2025/10/Georgia-Simms-Drum-Dance-Wp9JnU.jpg
END:VEVENT
END:VCALENDAR