BEGIN:VCALENDAR
VERSION:2.0
PRODID:-//The Registry Theatre - ECPv6.15.20//NONSGML v1.0//EN
CALSCALE:GREGORIAN
METHOD:PUBLISH
X-ORIGINAL-URL:https://registrytheatre.com
X-WR-CALDESC:Events for The Registry Theatre
REFRESH-INTERVAL;VALUE=DURATION:PT1H
X-Robots-Tag:noindex
X-PUBLISHED-TTL:PT1H
BEGIN:VTIMEZONE
TZID:America/Toronto
BEGIN:DAYLIGHT
TZOFFSETFROM:-0500
TZOFFSETTO:-0400
TZNAME:EDT
DTSTART:20230312T070000
END:DAYLIGHT
BEGIN:STANDARD
TZOFFSETFROM:-0400
TZOFFSETTO:-0500
TZNAME:EST
DTSTART:20231105T060000
END:STANDARD
BEGIN:DAYLIGHT
TZOFFSETFROM:-0500
TZOFFSETTO:-0400
TZNAME:EDT
DTSTART:20240310T070000
END:DAYLIGHT
BEGIN:STANDARD
TZOFFSETFROM:-0400
TZOFFSETTO:-0500
TZNAME:EST
DTSTART:20241103T060000
END:STANDARD
BEGIN:DAYLIGHT
TZOFFSETFROM:-0500
TZOFFSETTO:-0400
TZNAME:EDT
DTSTART:20250309T070000
END:DAYLIGHT
BEGIN:STANDARD
TZOFFSETFROM:-0400
TZOFFSETTO:-0500
TZNAME:EST
DTSTART:20251102T060000
END:STANDARD
END:VTIMEZONE
BEGIN:VEVENT
DTSTART;TZID=America/Toronto:20240826T183000
DTEND;TZID=America/Toronto:20240826T210000
DTSTAMP:20260422T060336
CREATED:20251029T170458Z
LAST-MODIFIED:20251029T170458Z
UID:10000902-1724697000-1724706000@registrytheatre.com
SUMMARY:Sunshine Spectacular: A Summer Variety Show
DESCRIPTION:Presented by Our Studio\n\n\n\n\n\n\n\n\n\nOur Studio is a creative community hub for anyone interested in the arts.   This space is a supportive environment where both peers and facilitators will help you to develop your talents.  We specialize in open arts\, music and theatrical opportunities and develop our actions to support your interests. \n\n\n\nTickets: $20 at the door \n\n\n\n\n\n\n\n\n\nPresented by:
URL:https://registrytheatre.com/event/sunshine-spectacular-a-summer-variety-show/
CATEGORIES:Rental Events
END:VEVENT
END:VCALENDAR