BEGIN:VCALENDAR
VERSION:2.0
PRODID:-//The Registry Theatre - ECPv6.15.20//NONSGML v1.0//EN
CALSCALE:GREGORIAN
METHOD:PUBLISH
X-ORIGINAL-URL:https://registrytheatre.com
X-WR-CALDESC:Events for The Registry Theatre
REFRESH-INTERVAL;VALUE=DURATION:PT1H
X-Robots-Tag:noindex
X-PUBLISHED-TTL:PT1H
BEGIN:VTIMEZONE
TZID:America/Toronto
BEGIN:DAYLIGHT
TZOFFSETFROM:-0500
TZOFFSETTO:-0400
TZNAME:EDT
DTSTART:20230312T070000
END:DAYLIGHT
BEGIN:STANDARD
TZOFFSETFROM:-0400
TZOFFSETTO:-0500
TZNAME:EST
DTSTART:20231105T060000
END:STANDARD
BEGIN:DAYLIGHT
TZOFFSETFROM:-0500
TZOFFSETTO:-0400
TZNAME:EDT
DTSTART:20240310T070000
END:DAYLIGHT
BEGIN:STANDARD
TZOFFSETFROM:-0400
TZOFFSETTO:-0500
TZNAME:EST
DTSTART:20241103T060000
END:STANDARD
BEGIN:DAYLIGHT
TZOFFSETFROM:-0500
TZOFFSETTO:-0400
TZNAME:EDT
DTSTART:20250309T070000
END:DAYLIGHT
BEGIN:STANDARD
TZOFFSETFROM:-0400
TZOFFSETTO:-0500
TZNAME:EST
DTSTART:20251102T060000
END:STANDARD
END:VTIMEZONE
BEGIN:VEVENT
DTSTART;TZID=America/Toronto:20240628T200000
DTEND;TZID=America/Toronto:20240628T220000
DTSTAMP:20260422T095325
CREATED:20251029T170207Z
LAST-MODIFIED:20251029T170207Z
UID:10000888-1719604800-1719612000@registrytheatre.com
SUMMARY:DIMITRI GOES TO HOLLYWOOD
DESCRIPTION:Agapi Productions Presents \n\n\n\n\n\n\n\nPremiering in Kitchener and surrounding areas!! \n\n\n\nCome and follow Dimitri\, a 40-year-old olive harvester from a quaint village in Corfu\, Greece\, as he sets off on a side-splitting journey to fulfill his unlikely dream of becoming a soap opera star in the glitzy world of Los Angeles. Armed with his unyielding spirit\, a hilarious culture clash ensues as Dimitri navigates auditions\, casting directors\, and eccentric Hollywood characters\, proving that dreams can be as unpredictable and entertaining as life itself! \n\n\n\nDimitri Goes To Hollywood was originally optioned as a feature film script in Los Angeles by a major production house but writer and creator Jimmy Chimarios decided to pump the brakes on taking it any further as a feature film due to creative differences with the studios. Instead Jimmy decided to take matters into his own hands and bring this original story to life with the help of the incredible theatre community in Kitchener\, Ontario! If you laughed yourself silly with Nia Vardalos in “My Big Fat Greek Wedding” or with Balki Bartokomous in the 90’s Sitcom “Perfect Strangers”\, then you’ll be sure to enjoy this hilarious romantic comedy!!  \n\n\n\n“You can take the Greek out of the village\, but you can’t take the village out of the Greek! OPA!!” See you soon! \n\n\n\nJune 28 & June 29: 8pm (doors open at 7:30pm)June 29 & June 30: 2pm (doors open at 1:30pm) \n\n\n\n\n\n \n\n\n\nTickets: $28Seniors and Children: $23 (recommended 10+) Cash and card accepted at door.
URL:https://registrytheatre.com/event/dimitri-goes-to-hollywood/
CATEGORIES:Rental Events
END:VEVENT
END:VCALENDAR