BEGIN:VCALENDAR
VERSION:2.0
PRODID:-//The Registry Theatre - ECPv6.15.20//NONSGML v1.0//EN
CALSCALE:GREGORIAN
METHOD:PUBLISH
X-ORIGINAL-URL:https://registrytheatre.com
X-WR-CALDESC:Events for The Registry Theatre
REFRESH-INTERVAL;VALUE=DURATION:PT1H
X-Robots-Tag:noindex
X-PUBLISHED-TTL:PT1H
BEGIN:VTIMEZONE
TZID:America/Toronto
BEGIN:DAYLIGHT
TZOFFSETFROM:-0500
TZOFFSETTO:-0400
TZNAME:EDT
DTSTART:20230312T070000
END:DAYLIGHT
BEGIN:STANDARD
TZOFFSETFROM:-0400
TZOFFSETTO:-0500
TZNAME:EST
DTSTART:20231105T060000
END:STANDARD
BEGIN:DAYLIGHT
TZOFFSETFROM:-0500
TZOFFSETTO:-0400
TZNAME:EDT
DTSTART:20240310T070000
END:DAYLIGHT
BEGIN:STANDARD
TZOFFSETFROM:-0400
TZOFFSETTO:-0500
TZNAME:EST
DTSTART:20241103T060000
END:STANDARD
BEGIN:DAYLIGHT
TZOFFSETFROM:-0500
TZOFFSETTO:-0400
TZNAME:EDT
DTSTART:20250309T070000
END:DAYLIGHT
BEGIN:STANDARD
TZOFFSETFROM:-0400
TZOFFSETTO:-0500
TZNAME:EST
DTSTART:20251102T060000
END:STANDARD
END:VTIMEZONE
BEGIN:VEVENT
DTSTART;TZID=America/Toronto:20240621T200000
DTEND;TZID=America/Toronto:20240621T230000
DTSTAMP:20260422T111355
CREATED:20251029T170458Z
LAST-MODIFIED:20251029T170458Z
UID:10000894-1719000000-1719010800@registrytheatre.com
SUMMARY:Mighty Morphin Power Wrestling
DESCRIPTION:A Live Pro Wrestling Event!\n\n\n\n\n\n\n\n\n\nA licensed\, all ages Live Pro Wrestling event featuring 8 matches with local talent from the Waterloo Region and from and the United States. It’s an interactive\, fan friendly experience that you won’t want to miss! \n\n\n\nDoors at 7 pm\, 8 pm Bell Time. \n\n\n\nTickets: Adults – $25. Kids – $15 \n\n\n\n\n\n\n\n\n\nPresented by:
URL:https://registrytheatre.com/event/mighty-morphin-power-wrestling/
CATEGORIES:Rental Events
ATTACH;FMTTYPE=image/jpeg:https://registrytheatre.com/wp-content/uploads/2025/10/IMG_0940-Jeff-Black-kVYc3D.jpg
END:VEVENT
BEGIN:VEVENT
DTSTART;TZID=America/Toronto:20240622T183000
DTEND;TZID=America/Toronto:20240622T203000
DTSTAMP:20260422T111355
CREATED:20251029T170458Z
LAST-MODIFIED:20251029T170458Z
UID:10000890-1719081000-1719088200@registrytheatre.com
SUMMARY:Sine Tempore
DESCRIPTION:Rhapsody Dance Project\n\n\n\n\n\n\n\n\n\nWe are very excited to present our third-annual performance this summer. Please join us for an evening of original choreography done by 26 wonderful artists from across the KW region in Rhapsody Dance Project’s inaugural showcase ‘Sine Tempore’.  \n\n\n\nSponsored by FreeStyle Dancewear\, Whoopsie Daisy Drinks\, Corner Krest Salon\, PK Sportswear\, Wave Lymphatic Massage & Artful Hearts \n\n\n\nTickets: $15 \n\n\n\n\n\n \n\n\n\nFor More Info:
URL:https://registrytheatre.com/event/sine-tempore/
CATEGORIES:Rental Events
END:VEVENT
BEGIN:VEVENT
DTSTART;TZID=America/Toronto:20240623T150000
DTEND;TZID=America/Toronto:20240623T170000
DTSTAMP:20260422T111355
CREATED:20251029T170458Z
LAST-MODIFIED:20251029T170458Z
UID:10000893-1719154800-1719162000@registrytheatre.com
SUMMARY:Bartlett's School of Highland Dance
DESCRIPTION:Year end Highland Recital. Dances include Traditional Highland Dances along with Choreographed dances. \n\n\n\nTickets: $20 \n\n\n\nOnly available at the door via cash sales.
URL:https://registrytheatre.com/event/bartletts-school-of-highland-dance/
CATEGORIES:Rental Events
END:VEVENT
END:VCALENDAR