BEGIN:VCALENDAR
VERSION:2.0
PRODID:-//The Registry Theatre - ECPv6.15.20//NONSGML v1.0//EN
CALSCALE:GREGORIAN
METHOD:PUBLISH
X-ORIGINAL-URL:https://registrytheatre.com
X-WR-CALDESC:Events for The Registry Theatre
REFRESH-INTERVAL;VALUE=DURATION:PT1H
X-Robots-Tag:noindex
X-PUBLISHED-TTL:PT1H
BEGIN:VTIMEZONE
TZID:America/Toronto
BEGIN:DAYLIGHT
TZOFFSETFROM:-0500
TZOFFSETTO:-0400
TZNAME:EDT
DTSTART:20230312T070000
END:DAYLIGHT
BEGIN:STANDARD
TZOFFSETFROM:-0400
TZOFFSETTO:-0500
TZNAME:EST
DTSTART:20231105T060000
END:STANDARD
BEGIN:DAYLIGHT
TZOFFSETFROM:-0500
TZOFFSETTO:-0400
TZNAME:EDT
DTSTART:20240310T070000
END:DAYLIGHT
BEGIN:STANDARD
TZOFFSETFROM:-0400
TZOFFSETTO:-0500
TZNAME:EST
DTSTART:20241103T060000
END:STANDARD
BEGIN:DAYLIGHT
TZOFFSETFROM:-0500
TZOFFSETTO:-0400
TZNAME:EDT
DTSTART:20250309T070000
END:DAYLIGHT
BEGIN:STANDARD
TZOFFSETFROM:-0400
TZOFFSETTO:-0500
TZNAME:EST
DTSTART:20251102T060000
END:STANDARD
END:VTIMEZONE
BEGIN:VEVENT
DTSTART;TZID=America/Toronto:20240611T190000
DTEND;TZID=America/Toronto:20240611T210000
DTSTAMP:20260422T122301
CREATED:20251029T170207Z
LAST-MODIFIED:20251029T170207Z
UID:10000886-1718132400-1718139600@registrytheatre.com
SUMMARY:CAROUSEL THEATRE COMPANY - Double Feature "Once Upon an Ogre" & "Camp Glee"
DESCRIPTION:Presented by Carousel Theatre Company\n\n\n\n\n\n\n\n\n\n\n\nThe Carousel Theatre Company is a dance\, theatre and arts program for adults with disabilities. CTC was established in 2015 and initially began as a group of 6 young adults. The group quickly expanded and by the Spring of 2016\, the group had 15 members who presented their premiere performance of “The Lorax” at the Registry Theatre in Kitchener. Come join CTC for their annual performance. This year we have a double feature\, two shows in one. \n\n\n\nTickets: $15To purchase tickets contact Carousel Dance Centre 519-746-8877or purchase at the door. \n\n\n\n\n\nPresented by:
URL:https://registrytheatre.com/event/carousel-theatre-company-double-feature-once-upon-an-ogre-camp-glee/
CATEGORIES:Rental Events
ATTACH;FMTTYPE=image/png:https://registrytheatre.com/wp-content/uploads/2025/10/Carousel-Dance-Centre-Logo-Purple-Operations-Manager-Ae5kWN.png
END:VEVENT
END:VCALENDAR