BEGIN:VCALENDAR
VERSION:2.0
PRODID:-//The Registry Theatre - ECPv6.15.20//NONSGML v1.0//EN
CALSCALE:GREGORIAN
METHOD:PUBLISH
X-ORIGINAL-URL:https://registrytheatre.com
X-WR-CALDESC:Events for The Registry Theatre
REFRESH-INTERVAL;VALUE=DURATION:PT1H
X-Robots-Tag:noindex
X-PUBLISHED-TTL:PT1H
BEGIN:VTIMEZONE
TZID:America/Toronto
BEGIN:DAYLIGHT
TZOFFSETFROM:-0500
TZOFFSETTO:-0400
TZNAME:EDT
DTSTART:20230312T070000
END:DAYLIGHT
BEGIN:STANDARD
TZOFFSETFROM:-0400
TZOFFSETTO:-0500
TZNAME:EST
DTSTART:20231105T060000
END:STANDARD
BEGIN:DAYLIGHT
TZOFFSETFROM:-0500
TZOFFSETTO:-0400
TZNAME:EDT
DTSTART:20240310T070000
END:DAYLIGHT
BEGIN:STANDARD
TZOFFSETFROM:-0400
TZOFFSETTO:-0500
TZNAME:EST
DTSTART:20241103T060000
END:STANDARD
BEGIN:DAYLIGHT
TZOFFSETFROM:-0500
TZOFFSETTO:-0400
TZNAME:EDT
DTSTART:20250309T070000
END:DAYLIGHT
BEGIN:STANDARD
TZOFFSETFROM:-0400
TZOFFSETTO:-0500
TZNAME:EST
DTSTART:20251102T060000
END:STANDARD
END:VTIMEZONE
BEGIN:VEVENT
DTSTART;TZID=America/Toronto:20240528T193000
DTEND;TZID=America/Toronto:20240528T204500
DTSTAMP:20260422T152328
CREATED:20251029T170207Z
LAST-MODIFIED:20251029T170207Z
UID:10000878-1716924600-1716929100@registrytheatre.com
SUMMARY:A SINGALONG/PLAYALONG of JOYFUL SONGS
DESCRIPTION:Presented by Green Gables Ukuleles & Friends \n\n\n\n\n\n\n\nAn evening of joyful popular songs to raise people’s spirits and to raise funds for The Registry Theatre. \n\n\n\nClassic favourite popular songs will be featured\, perfect for singing or playing along with guitars ukuleles or other instruments. Come to participate or enjoy. Song list includes favourites by the Beatles\, ABBA\, John Denver\, Stevie Wonder\, Gordon Lightfoot\, Harry Chapin\, Neil Diamond and many others! \n\n\n\n\n\nTickets: Pay what you can \n\n\n\n\nGet Tickets
URL:https://registrytheatre.com/event/a-singalong-playalong-of-joyful-songs/
CATEGORIES:Rental Events
END:VEVENT
BEGIN:VEVENT
DTSTART;TZID=America/Toronto:20240530T200000
DTEND;TZID=America/Toronto:20240530T220000
DTSTAMP:20260422T152328
CREATED:20251029T170458Z
LAST-MODIFIED:20251029T170458Z
UID:10000889-1717099200-1717106400@registrytheatre.com
SUMMARY:2024 OPEN EARS FESTIVAL of MUSIC & SOUND
DESCRIPTION:From indie classical music to electroacoustic to sound installations\, Open Ears strives to challenge audiences’ conceptions of what ‘music’ is or what it can be. With a national and international identity\, the festival has played a vital role in the contemporary art scene in Waterloo Region since 1998. \n\n\n\nVicky Chow presents Sierra: 8:00pm Thursday\, May 30\, 2024 Bijuriya (drag show): 8:00pm Friday\, May 31\, 2024 SHSHCC: 5:00pm Saturday\, June 1\, 2024 Martin Daigle presents Le Rage: 3:00pm Sunday\, June 2\, 2024 \n\n\n\nFestival Passes: $150 Singular Events: $25.Tickets available at the door (debit\, credit or exact cash) or online.
URL:https://registrytheatre.com/event/2024-open-ears-festival-of-music-sound/
CATEGORIES:Rental Events
ATTACH;FMTTYPE=image/jpeg:https://registrytheatre.com/wp-content/uploads/2025/10/eventbrite-100-2-Monique-Sutherland-42fHls.jpg
END:VEVENT
END:VCALENDAR