BEGIN:VCALENDAR
VERSION:2.0
PRODID:-//The Registry Theatre - ECPv6.15.20//NONSGML v1.0//EN
CALSCALE:GREGORIAN
METHOD:PUBLISH
X-WR-CALNAME:The Registry Theatre
X-ORIGINAL-URL:https://registrytheatre.com
X-WR-CALDESC:Events for The Registry Theatre
REFRESH-INTERVAL;VALUE=DURATION:PT1H
X-Robots-Tag:noindex
X-PUBLISHED-TTL:PT1H
BEGIN:VTIMEZONE
TZID:America/Toronto
BEGIN:DAYLIGHT
TZOFFSETFROM:-0500
TZOFFSETTO:-0400
TZNAME:EDT
DTSTART:20230312T070000
END:DAYLIGHT
BEGIN:STANDARD
TZOFFSETFROM:-0400
TZOFFSETTO:-0500
TZNAME:EST
DTSTART:20231105T060000
END:STANDARD
BEGIN:DAYLIGHT
TZOFFSETFROM:-0500
TZOFFSETTO:-0400
TZNAME:EDT
DTSTART:20240310T070000
END:DAYLIGHT
BEGIN:STANDARD
TZOFFSETFROM:-0400
TZOFFSETTO:-0500
TZNAME:EST
DTSTART:20241103T060000
END:STANDARD
BEGIN:DAYLIGHT
TZOFFSETFROM:-0500
TZOFFSETTO:-0400
TZNAME:EDT
DTSTART:20250309T070000
END:DAYLIGHT
BEGIN:STANDARD
TZOFFSETFROM:-0400
TZOFFSETTO:-0500
TZNAME:EST
DTSTART:20251102T060000
END:STANDARD
END:VTIMEZONE
BEGIN:VEVENT
DTSTART;TZID=America/Toronto:20240522T193000
DTEND;TZID=America/Toronto:20240522T220000
DTSTAMP:20260422T164851
CREATED:20251029T163913Z
LAST-MODIFIED:20251029T163913Z
UID:10000853-1716406200-1716415200@registrytheatre.com
SUMMARY:CLASSIC TROUBADOURS LIVE: THE SONGS OF STING AND PETER GABRIEL
DESCRIPTION:Classic Troubadours Productions brings you ‘The Songs of Sting and Peter Gabriel’\, a celebration of the most iconic songs by these two creative giants\, including In Your Eyes\, Don’t Give Up\, Solsbury Hill\, Carpet Crawlers\, Fields of Gold\, Roxanne\, Message in a Bottle\, Seven Days and much\, much more!!  \n\n\n\nJacob Moon\, Mike Ferfolia\, Selena Evangeline\, Rob Brown and Jake Payne will thrill you with their energetic and nuanced renderings of some of the most treasured songs in the modern rock canon. \n\n\n\nTrailer link: https://youtu.be/HqvK7dCI0v0 \n\n\n\nTickets $40 + fees and tax
URL:https://registrytheatre.com/event/classic-troubadours-live-the-songs-of-sting-and-peter-gabriel/
CATEGORIES:Rental Events
ATTACH;FMTTYPE=image/jpeg:https://registrytheatre.com/wp-content/uploads/2025/10/sting-gabriel-poster-registry-copy-JXoFaQ.jpg
END:VEVENT
BEGIN:VEVENT
DTSTART;TZID=America/Toronto:20240524T200000
DTEND;TZID=America/Toronto:20240524T220000
DTSTAMP:20260422T164851
CREATED:20251029T162542Z
LAST-MODIFIED:20251101T161852Z
UID:10000828-1716580800-1716588000@registrytheatre.com
SUMMARY:JERZY KAPLANEK
DESCRIPTION:Jazz @ The Registry\n\n\n\nPart of the Spring Jazz Weekend\n\n\n\n\n\n\n\n\n\n\n\nElectric Jazz Band\n\n\n\n\n\nThe Pendericki String Quartet violinist steps in to the jazz spotlight with his tour de force electric band featuring special guests Anthony D’Alessandro piano\, Peter de Sousa synths\, Ralf Buschmeyer guitar\, Rich Brown bass\, Adam Bowman drums\, and Andy Macpherson percussion. \n\n\n\nJerzy plays the music of violin virtuosos France’s Jean-Luc Ponty\, Zbigniew Seifert of Poland\, and more. \n\n\n\n \n\n\n\nTickets: $30Six-Concert Series Pass: $150 \n\n\n\n\n\n \n\n\n\nWho to contact for event info and inquiries:
URL:https://registrytheatre.com/event/jerzy-kaplanek/
CATEGORIES:Jazz,Registry Presents Events
ATTACH;FMTTYPE=image/jpeg:https://registrytheatre.com/wp-content/uploads/2025/10/Jerzy-Kaplanek-for-Jazz-24-WaZ5QY.jpg
END:VEVENT
BEGIN:VEVENT
DTSTART;TZID=America/Toronto:20240525T200000
DTEND;TZID=America/Toronto:20240525T220000
DTSTAMP:20260422T164851
CREATED:20251029T163612Z
LAST-MODIFIED:20251101T161852Z
UID:10000829-1716667200-1716674400@registrytheatre.com
SUMMARY:CHELSEA MCBRIDE with Big Band Theory
DESCRIPTION:Jazz @ The Registry\n\n\n\nPart of the Spring Jazz Weekend\n\n\n\n\n\n\n\n\n\n\n\nwith KW Big Band Theory\n\n\n\n\n\nComposer\, conductor\, vocalist\, and saxophonist\, Chelsea McBride teams up with our own KW Big Band Theory. With echoes of the great Gil Evans\,  Chelsea conducts BBT with her original music from her wonderful repertoire. Plus special guest vocalists Jontue Ellan and Nathan Martin \n\n\n\n \n\n\n\nTickets: $30Six-Concert Series Pass: $150 \n\n\n\n\n\n \n\n\n\nWho to contact for event info and inquiries:
URL:https://registrytheatre.com/event/chelsea-mcbride-with-big-band-theory/
CATEGORIES:Jazz,Registry Presents Events
ATTACH;FMTTYPE=image/jpeg:https://registrytheatre.com/wp-content/uploads/2025/10/Chelsea-McBride-Jazz-24-scaled-knJg49.jpg
END:VEVENT
BEGIN:VEVENT
DTSTART;TZID=America/Toronto:20240526T150000
DTEND;TZID=America/Toronto:20240526T170000
DTSTAMP:20260422T164851
CREATED:20251029T162542Z
LAST-MODIFIED:20251101T161641Z
UID:10000822-1716735600-1716742800@registrytheatre.com
SUMMARY:GERARD YUN
DESCRIPTION:Classics @ The Registry\n\n\n\n\n\n\n\n\n\n\n\nInto the Ma of Nature\n\n\n\n\n\nIntermedia explorations of sound and sight \n\n\n\nFrom the sounds of nature to electronica\, shakuhachi flute master Gerard is joined by special guests Tamara Menon vocals\, Andrew Dolson acoustic guitar & vocals\, Nathan Stretch electric guitar & effects\, Rae Crossman poetry\, Gabriel Meissner video. \n\n\n\nTickets:$30 General Admission$25 SeniorsChildren 12 and Under are Free! \n\n\n\n\n\n \n\n\n\nWho to contact for event info and inquiries:\n\n\n\n\n\nSeries Sponsor:
URL:https://registrytheatre.com/event/gerard-yun/
CATEGORIES:Classics,Registry Presents Events
ATTACH;FMTTYPE=image/jpeg:https://registrytheatre.com/wp-content/uploads/2025/10/Gerard-Yun-for-Clasiscs-brohure-22-23-lGxdCK.jpg
END:VEVENT
END:VCALENDAR