BEGIN:VCALENDAR
VERSION:2.0
PRODID:-//The Registry Theatre - ECPv6.15.20//NONSGML v1.0//EN
CALSCALE:GREGORIAN
METHOD:PUBLISH
X-ORIGINAL-URL:https://registrytheatre.com
X-WR-CALDESC:Events for The Registry Theatre
REFRESH-INTERVAL;VALUE=DURATION:PT1H
X-Robots-Tag:noindex
X-PUBLISHED-TTL:PT1H
BEGIN:VTIMEZONE
TZID:America/Toronto
BEGIN:DAYLIGHT
TZOFFSETFROM:-0500
TZOFFSETTO:-0400
TZNAME:EDT
DTSTART:20230312T070000
END:DAYLIGHT
BEGIN:STANDARD
TZOFFSETFROM:-0400
TZOFFSETTO:-0500
TZNAME:EST
DTSTART:20231105T060000
END:STANDARD
BEGIN:DAYLIGHT
TZOFFSETFROM:-0500
TZOFFSETTO:-0400
TZNAME:EDT
DTSTART:20240310T070000
END:DAYLIGHT
BEGIN:STANDARD
TZOFFSETFROM:-0400
TZOFFSETTO:-0500
TZNAME:EST
DTSTART:20241103T060000
END:STANDARD
BEGIN:DAYLIGHT
TZOFFSETFROM:-0500
TZOFFSETTO:-0400
TZNAME:EDT
DTSTART:20250309T070000
END:DAYLIGHT
BEGIN:STANDARD
TZOFFSETFROM:-0400
TZOFFSETTO:-0500
TZNAME:EST
DTSTART:20251102T060000
END:STANDARD
END:VTIMEZONE
BEGIN:VEVENT
DTSTART;TZID=America/Toronto:20240503T200000
DTEND;TZID=America/Toronto:20240503T220000
DTSTAMP:20260422T180743
CREATED:20251029T162542Z
LAST-MODIFIED:20251101T161852Z
UID:10000827-1714766400-1714773600@registrytheatre.com
SUMMARY:AMANDA MARTINEZ In Concert
DESCRIPTION:Jazz @ The Registry\n\n\n\n\n\n\n\n\n\n\n\nRecuerdo\n\n\n\n\n\nCanadian-Mexican singer songwriter Amanda Martinez is thrilled to return to the Registry Theatre with Recuerdo (I Remember)\, songs from her upcoming album. Canadian Latin American Awards Composer of the Year for her album Libre\, Amanda’s new recording is a tribute to her late father. With feelings of nostalgia\, reflections on childhood\, and hopes and inspiration for the future\, plus highlights from her previous four award winning albums Sola\, Amor\, Mañana and Libre.  \n\n\n\nFavourite collaborators Kevin Laliberté guitar & producer\, Drew Birston bass\, Rosendo “Chendy” Leon percussion and Alexander Brown trumpet join Amanda for a unique blend of Latin American rhythms with influences from Mexico\, Cuba\, Spain and Africa. Music to take you away\, and soothe your soul in the cozy intimate Registry Theatre.  \n\n\n\nTickets: $30 \n\n\n\nFor tickets call 519-578-1570 or Buy Tickets Online. \n\n\n\n\nBuy Tickets Online\n\n\n\n\nWho to contact for event info and inquiries:
URL:https://registrytheatre.com/event/amanda-martinez-in-concert/
CATEGORIES:Jazz,Registry Presents Events
ATTACH;FMTTYPE=image/jpeg:https://registrytheatre.com/wp-content/uploads/2025/10/AmandaMartinez_159-WEB-scaled-eWU18I.jpg
END:VEVENT
BEGIN:VEVENT
DTSTART;TZID=America/Toronto:20240504T200000
DTEND;TZID=America/Toronto:20240504T220000
DTSTAMP:20260422T180743
CREATED:20251029T162035Z
LAST-MODIFIED:20251103T184826Z
UID:10000801-1714852800-1714860000@registrytheatre.com
SUMMARY:DALA
DESCRIPTION:Folk Night @ The Registry\n\n\n\n\n\n\n\n\n\nAmanda Walther and Sheila Carabine blend their angelic voices\, together with splendid original songs\, and appealing covers. \n\n\n\nTickets: $30 in advance$32 at the door$24 Live Stream \n\n\n\n\n\n \n\n\n\nWho to Contact for Event Info and Inquiries:
URL:https://registrytheatre.com/event/dala/
CATEGORIES:Folk Night,Jazz
END:VEVENT
BEGIN:VEVENT
DTSTART;TZID=America/Toronto:20240505T140000
DTEND;TZID=America/Toronto:20240505T160000
DTSTAMP:20260422T180743
CREATED:20251029T163913Z
LAST-MODIFIED:20251029T163913Z
UID:10000863-1714917600-1714924800@registrytheatre.com
SUMMARY:ONE LAST HURRAH
DESCRIPTION:Presented by Paul Rempel & Friends \n\n\n\n\n\n\n\nThis is a benefit concert in support of The House of Friendship Food Hamper program. The music will be an eclectic mix of traditional\, originals and covers of songs spanning folk\, country\, bluegrass and rock. Besides Paul Rempel\, the exceptional talent includes Ashley Giles – fiddle\, Mike Hogg – harmonica\, Darrell Kuwabara – guitar\, Gord Ogilvie – mandolin\, guitar and Chuckee Zehr – keyboards \n\n\n\nWe’re asking folks to bring a jar of peanut butter (the most needed staple at the food bank) \n\n\n\nEmail rempel.loriann@gmail.com for tickets: $25
URL:https://registrytheatre.com/event/one-last-hurrah/
CATEGORIES:Rental Events
ATTACH;FMTTYPE=image/jpeg:https://registrytheatre.com/wp-content/uploads/2025/10/One-Last-Hurrah-Paul-Rempel-scaled-7OWmC2.jpg
END:VEVENT
END:VCALENDAR