BEGIN:VCALENDAR
VERSION:2.0
PRODID:-//The Registry Theatre - ECPv6.15.20//NONSGML v1.0//EN
CALSCALE:GREGORIAN
METHOD:PUBLISH
X-ORIGINAL-URL:https://registrytheatre.com
X-WR-CALDESC:Events for The Registry Theatre
REFRESH-INTERVAL;VALUE=DURATION:PT1H
X-Robots-Tag:noindex
X-PUBLISHED-TTL:PT1H
BEGIN:VTIMEZONE
TZID:America/Toronto
BEGIN:DAYLIGHT
TZOFFSETFROM:-0500
TZOFFSETTO:-0400
TZNAME:EDT
DTSTART:20230312T070000
END:DAYLIGHT
BEGIN:STANDARD
TZOFFSETFROM:-0400
TZOFFSETTO:-0500
TZNAME:EST
DTSTART:20231105T060000
END:STANDARD
BEGIN:DAYLIGHT
TZOFFSETFROM:-0500
TZOFFSETTO:-0400
TZNAME:EDT
DTSTART:20240310T070000
END:DAYLIGHT
BEGIN:STANDARD
TZOFFSETFROM:-0400
TZOFFSETTO:-0500
TZNAME:EST
DTSTART:20241103T060000
END:STANDARD
BEGIN:DAYLIGHT
TZOFFSETFROM:-0500
TZOFFSETTO:-0400
TZNAME:EDT
DTSTART:20250309T070000
END:DAYLIGHT
BEGIN:STANDARD
TZOFFSETFROM:-0400
TZOFFSETTO:-0500
TZNAME:EST
DTSTART:20251102T060000
END:STANDARD
END:VTIMEZONE
BEGIN:VEVENT
DTSTART;TZID=America/Toronto:20240405T200000
DTEND;TZID=America/Toronto:20240405T220000
DTSTAMP:20260422T194624
CREATED:20251029T162542Z
LAST-MODIFIED:20251103T185051Z
UID:10000816-1712347200-1712354400@registrytheatre.com
SUMMARY:KYNE SANTOS
DESCRIPTION:One Night Only @ The Registry\n\n\n\n\n\n\n\n\n\n\n\nMath in Drag\, with Jazz!\n\n\n\n\n\nA world-famous drag queen\, math communicator\, and fascinating speaker\, Kyne has over 1.5 million followers in social media. With her infectious passion for math education\, Kyne is joined by award-winning math educator & jazz percussionist Andy Mcpherson\, and jazz guitarist Ted Gibbons with his beautiful three-dimensional images created from his geometric Metamobius One-Sided Surfaces. Plus special guests. \n\n\n\n \n\n\n\nTickets: $30 \n\n\n\n\n\n \n\n\n\nWho to contact for event info and inquiries:\n\n\n\n\n\nSeries Sponsor:\n\n\n\nEquitable Life of Canada
URL:https://registrytheatre.com/event/kyne-santos/
CATEGORIES:One Night Only,Registry Presents Events
END:VEVENT
BEGIN:VEVENT
DTSTART;TZID=America/Toronto:20240406T200000
DTEND;TZID=America/Toronto:20240406T220000
DTSTAMP:20260422T194624
CREATED:20251029T162035Z
LAST-MODIFIED:20251103T184826Z
UID:10000802-1712433600-1712440800@registrytheatre.com
SUMMARY:TOM CHAPIN
DESCRIPTION:Folk Night @ The Registry: Roots Weekend!\n\n\n\n\n\n\n\n\n\nThe legendary Hudson Valley Troubadour. Three-time GRAMMY award winner. Only Canadian appearance. \n\n\n\nTickets: $30 in advance$32 at the door$23 Live Stream \n\n\n\n\n\n \n\n\n\nWho to Contact for Event Info and Inquiries:
URL:https://registrytheatre.com/event/tom-chapin/
CATEGORIES:Folk Night,Jazz
ATTACH;FMTTYPE=image/jpeg:https://registrytheatre.com/wp-content/uploads/2025/10/Tom-Chapin-FN-2A-scaled-hK3tFF.jpg
END:VEVENT
BEGIN:VEVENT
DTSTART;TZID=America/Toronto:20240407T140000
DTEND;TZID=America/Toronto:20240407T160000
DTSTAMP:20260422T194624
CREATED:20251029T162035Z
LAST-MODIFIED:20251103T184826Z
UID:10000803-1712498400-1712505600@registrytheatre.com
SUMMARY:MARK RUST
DESCRIPTION:Folk Night @ The Registry: Roots Weekend!\n\n\n\n\n\n\n\n\n\nProlific Americana songwriter and multi-instrumentalist returns to Folk Night. \n\n\n\nTickets: $23 in advance$25 at the door$21 Live Stream \n\n\n\n\n\n \n\n\n\nWho to Contact for Event Info and Inquiries:
URL:https://registrytheatre.com/event/mark-rust/
CATEGORIES:Folk Night,Jazz
ATTACH;FMTTYPE=image/jpeg:https://registrytheatre.com/wp-content/uploads/2025/10/Mark-Rust-FN-2A-pEzqZV.jpg
END:VEVENT
END:VCALENDAR