BEGIN:VCALENDAR
VERSION:2.0
PRODID:-//The Registry Theatre - ECPv6.15.20//NONSGML v1.0//EN
CALSCALE:GREGORIAN
METHOD:PUBLISH
X-ORIGINAL-URL:https://registrytheatre.com
X-WR-CALDESC:Events for The Registry Theatre
REFRESH-INTERVAL;VALUE=DURATION:PT1H
X-Robots-Tag:noindex
X-PUBLISHED-TTL:PT1H
BEGIN:VTIMEZONE
TZID:America/Toronto
BEGIN:DAYLIGHT
TZOFFSETFROM:-0500
TZOFFSETTO:-0400
TZNAME:EDT
DTSTART:20230312T070000
END:DAYLIGHT
BEGIN:STANDARD
TZOFFSETFROM:-0400
TZOFFSETTO:-0500
TZNAME:EST
DTSTART:20231105T060000
END:STANDARD
BEGIN:DAYLIGHT
TZOFFSETFROM:-0500
TZOFFSETTO:-0400
TZNAME:EDT
DTSTART:20240310T070000
END:DAYLIGHT
BEGIN:STANDARD
TZOFFSETFROM:-0400
TZOFFSETTO:-0500
TZNAME:EST
DTSTART:20241103T060000
END:STANDARD
BEGIN:DAYLIGHT
TZOFFSETFROM:-0500
TZOFFSETTO:-0400
TZNAME:EDT
DTSTART:20250309T070000
END:DAYLIGHT
BEGIN:STANDARD
TZOFFSETFROM:-0400
TZOFFSETTO:-0500
TZNAME:EST
DTSTART:20251102T060000
END:STANDARD
END:VTIMEZONE
BEGIN:VEVENT
DTSTART;TZID=America/Toronto:20240328T190000
DTEND;TZID=America/Toronto:20240328T210000
DTSTAMP:20260422T210659
CREATED:20251029T163913Z
LAST-MODIFIED:20251029T163913Z
UID:10000854-1711652400-1711659600@registrytheatre.com
SUMMARY:THE LAST 5 YEARS: The Musical
DESCRIPTION:Presented by Mavis Productions\n\n\n\n\n\n\n\n\n\nAn emotionally powerful and intimate musical about two New Yorkers who fall in and out of love over the course of five years\, the show’s unconventional structure consists of Cathy\, the woman\, telling her story backwards while Jamie\, the man\, tells his story chronologically; the two characters only meet once\, at their wedding in the middle of the show. \n\n\n\nJason Robert Brown’s Drama Desk winner\, The Last Five Years\, has been translated into a handful of languages and was named one of TIME Magazine’s ten best shows of 2001. A testament to the show’s longevity\, and spurred by the show’s regional popularity\, The Last Five Years enjoyed an Off-Broadway revival at Second Stage in 2013. A film adaptation was released in 2014\, starring Anna Kendrick and Jeremy Jordan. Now\, this beautiful musical comes to Kitchener. \n\n\n\nAll ages\, but due to graphic language\, we recommend 14+ (Parental Discretion is Advised) \n\n\n\nTickets $24 (Includes Tax and Fee) \n\n\n\nGroup Discounts and Access 2 Pass Accessibility tickets are available. Please email mavisproductions.boxoffice@gmail.com for more details.
URL:https://registrytheatre.com/event/the-last-5-years-the-musical/
CATEGORIES:Rental Events
ATTACH;FMTTYPE=image/png:https://registrytheatre.com/wp-content/uploads/2025/10/L5Y-Poster-Mavis-Productions-Ohcid6.png
END:VEVENT
END:VCALENDAR