BEGIN:VCALENDAR
VERSION:2.0
PRODID:-//The Registry Theatre - ECPv6.15.20//NONSGML v1.0//EN
CALSCALE:GREGORIAN
METHOD:PUBLISH
X-WR-CALNAME:The Registry Theatre
X-ORIGINAL-URL:https://registrytheatre.com
X-WR-CALDESC:Events for The Registry Theatre
REFRESH-INTERVAL;VALUE=DURATION:PT1H
X-Robots-Tag:noindex
X-PUBLISHED-TTL:PT1H
BEGIN:VTIMEZONE
TZID:America/Toronto
BEGIN:DAYLIGHT
TZOFFSETFROM:-0500
TZOFFSETTO:-0400
TZNAME:EDT
DTSTART:20230312T070000
END:DAYLIGHT
BEGIN:STANDARD
TZOFFSETFROM:-0400
TZOFFSETTO:-0500
TZNAME:EST
DTSTART:20231105T060000
END:STANDARD
BEGIN:DAYLIGHT
TZOFFSETFROM:-0500
TZOFFSETTO:-0400
TZNAME:EDT
DTSTART:20240310T070000
END:DAYLIGHT
BEGIN:STANDARD
TZOFFSETFROM:-0400
TZOFFSETTO:-0500
TZNAME:EST
DTSTART:20241103T060000
END:STANDARD
BEGIN:DAYLIGHT
TZOFFSETFROM:-0500
TZOFFSETTO:-0400
TZNAME:EDT
DTSTART:20250309T070000
END:DAYLIGHT
BEGIN:STANDARD
TZOFFSETFROM:-0400
TZOFFSETTO:-0500
TZNAME:EST
DTSTART:20251102T060000
END:STANDARD
END:VTIMEZONE
BEGIN:VEVENT
DTSTART;TZID=America/Toronto:20240301T190000
DTEND;TZID=America/Toronto:20240301T220000
DTSTAMP:20260422T234737
CREATED:20251029T162542Z
LAST-MODIFIED:20251103T185051Z
UID:10000814-1709319600-1709330400@registrytheatre.com
SUMMARY:MY TREE
DESCRIPTION:One Night Only @ The Registry\n\n\n\n\n\n\n\n\n\n\n\nWritten and Directed by Jason Sherman\n\n\n\n\n\nMy Tree follows Jason Sherman on an odyssey to find the tree that was planted in Israel to mark his bar mitzvah when he was 13. He discovers that it stands where a Palestinian village that was destroyed in 1967. The search for the tree becomes Jason’s personal journey\, and a journey into the history of Israel itself. Join Jason and guests for a discussion\, and reception after the film. \n\n\n\nPLEASE NOTE: START TIME HAS CHANGED TO 7 PM (WAS ORIGINALLY 8 PM). \n\n\n\n2021 Hot Docs Official Selection \n\n\n\n2022 Canadian Screen Award winning documentary \n\n\n\nTickets: $20 \n\n\n\n\n\n \n\n\n\nWho to contact for event info and inquiries:\n\n\n\n\n\nSeries Sponsor:\n\n\n\nEquitable Life of Canada
URL:https://registrytheatre.com/event/my-tree/
CATEGORIES:One Night Only,Registry Presents Events
ATTACH;FMTTYPE=image/jpeg:https://registrytheatre.com/wp-content/uploads/2025/10/Jason-Sherman-My-Tree-photo-ONO-23-24-WMMMqo.jpg
END:VEVENT
BEGIN:VEVENT
DTSTART;TZID=America/Toronto:20240302T200000
DTEND;TZID=America/Toronto:20240302T220000
DTSTAMP:20260422T234737
CREATED:20251029T162542Z
LAST-MODIFIED:20251101T161852Z
UID:10000826-1709409600-1709416800@registrytheatre.com
SUMMARY:KEVIN DAY
DESCRIPTION:Jazz @ The Registry\n\n\n\n\n\n\n\n\n\n\n\nJazz Pianist Extraordinaire ~ Solos & Trios\n\n\n\n\n\nDirector of Wilfrid Laurier Jazz Ensemble plays a beautiful solo set\, plus a trio set with great local musicians\, drummer Andy Mcpherson & bassist Dan Brennan. \n\n\n\n \n\n\n\nTickets: $30Six-Concert Series Pass: $150 \n\n\n\n\n\n \n\n\n\nWho to contact for event info and inquiries:
URL:https://registrytheatre.com/event/kevin-day/
CATEGORIES:Jazz,Registry Presents Events
ATTACH;FMTTYPE=image/jpeg:https://registrytheatre.com/wp-content/uploads/2025/10/Kevin-Day-Jazz-24-NBrmoP.jpg
END:VEVENT
END:VCALENDAR