BEGIN:VCALENDAR
VERSION:2.0
PRODID:-//The Registry Theatre - ECPv6.15.20//NONSGML v1.0//EN
CALSCALE:GREGORIAN
METHOD:PUBLISH
X-ORIGINAL-URL:https://registrytheatre.com
X-WR-CALDESC:Events for The Registry Theatre
REFRESH-INTERVAL;VALUE=DURATION:PT1H
X-Robots-Tag:noindex
X-PUBLISHED-TTL:PT1H
BEGIN:VTIMEZONE
TZID:America/Toronto
BEGIN:DAYLIGHT
TZOFFSETFROM:-0500
TZOFFSETTO:-0400
TZNAME:EDT
DTSTART:20230312T070000
END:DAYLIGHT
BEGIN:STANDARD
TZOFFSETFROM:-0400
TZOFFSETTO:-0500
TZNAME:EST
DTSTART:20231105T060000
END:STANDARD
BEGIN:DAYLIGHT
TZOFFSETFROM:-0500
TZOFFSETTO:-0400
TZNAME:EDT
DTSTART:20240310T070000
END:DAYLIGHT
BEGIN:STANDARD
TZOFFSETFROM:-0400
TZOFFSETTO:-0500
TZNAME:EST
DTSTART:20241103T060000
END:STANDARD
BEGIN:DAYLIGHT
TZOFFSETFROM:-0500
TZOFFSETTO:-0400
TZNAME:EDT
DTSTART:20250309T070000
END:DAYLIGHT
BEGIN:STANDARD
TZOFFSETFROM:-0400
TZOFFSETTO:-0500
TZNAME:EST
DTSTART:20251102T060000
END:STANDARD
END:VTIMEZONE
BEGIN:VEVENT
DTSTART;TZID=America/Toronto:20240216T190000
DTEND;TZID=America/Toronto:20240216T220000
DTSTAMP:20260422T235157
CREATED:20251029T163913Z
LAST-MODIFIED:20251029T163913Z
UID:10000852-1708110000-1708120800@registrytheatre.com
SUMMARY:TUSSLEMANIA
DESCRIPTION:Off The Ropes Studio and TWB Brewery present Tusslemania.  \n\n\n\nA night of great brews and great pro wrestling. Come on our and try the Off The Ropes signature beer and see former ROH superstar Tyler Bateman take on Daddy Davis in our main event!  \n\n\n\nAll ages event \n\n\n\n \n\n\n\n\n\nTickets:General Admission $25Kids: $17.31
URL:https://registrytheatre.com/event/tusslemania/
CATEGORIES:Rental Events
ATTACH;FMTTYPE=image/jpeg:https://registrytheatre.com/wp-content/uploads/2025/10/411489589_382580197627575_2095651250964112305_n-GqRSf4.jpg
END:VEVENT
BEGIN:VEVENT
DTSTART;TZID=America/Toronto:20240217T200000
DTEND;TZID=America/Toronto:20240217T220000
DTSTAMP:20260422T235157
CREATED:20251029T163913Z
LAST-MODIFIED:20251029T163913Z
UID:10000856-1708200000-1708207200@registrytheatre.com
SUMMARY:FREEDOM: A MIXTAPE - Live and Unplugged
DESCRIPTION:Presented by b current Performing Arts \n\n\n\n\n\n\n\n\n\nJoin us for this dynamic experience highlighting the power of auditory expression through personal stories and music.  \n\n\n\nThis elevated staged reading uses sound\, music\, and spoken word to provoke conversation with the desire to inspire and engage our audiences in meaningful dialogue and action.  \n\n\n\nCreated and released as a purely auditory experience in 2020 during Covid\, Freedom is coming to life on its premier tour this February.  \n\n\n\nDon’t miss the opportunity to be part of this extraordinary event. Secure your tickets and be ready to embark on a powerful journey of sound\, resistance\, and freedom. \n\n\n\nCONTENT ADVISORY: Mature themes\, Strong language\, Gunshots\, 16+  \n\n\n\nTickets: $20
URL:https://registrytheatre.com/event/freedom-a-mixtape-live-and-unplugged/
CATEGORIES:Rental Events
END:VEVENT
END:VCALENDAR