BEGIN:VCALENDAR
VERSION:2.0
PRODID:-//The Registry Theatre - ECPv6.15.20//NONSGML v1.0//EN
CALSCALE:GREGORIAN
METHOD:PUBLISH
X-ORIGINAL-URL:https://registrytheatre.com
X-WR-CALDESC:Events for The Registry Theatre
REFRESH-INTERVAL;VALUE=DURATION:PT1H
X-Robots-Tag:noindex
X-PUBLISHED-TTL:PT1H
BEGIN:VTIMEZONE
TZID:America/Toronto
BEGIN:DAYLIGHT
TZOFFSETFROM:-0500
TZOFFSETTO:-0400
TZNAME:EDT
DTSTART:20230312T070000
END:DAYLIGHT
BEGIN:STANDARD
TZOFFSETFROM:-0400
TZOFFSETTO:-0500
TZNAME:EST
DTSTART:20231105T060000
END:STANDARD
BEGIN:DAYLIGHT
TZOFFSETFROM:-0500
TZOFFSETTO:-0400
TZNAME:EDT
DTSTART:20240310T070000
END:DAYLIGHT
BEGIN:STANDARD
TZOFFSETFROM:-0400
TZOFFSETTO:-0500
TZNAME:EST
DTSTART:20241103T060000
END:STANDARD
BEGIN:DAYLIGHT
TZOFFSETFROM:-0500
TZOFFSETTO:-0400
TZNAME:EDT
DTSTART:20250309T070000
END:DAYLIGHT
BEGIN:STANDARD
TZOFFSETFROM:-0400
TZOFFSETTO:-0500
TZNAME:EST
DTSTART:20251102T060000
END:STANDARD
END:VTIMEZONE
BEGIN:VEVENT
DTSTART;TZID=America/Toronto:20240205T183000
DTEND;TZID=America/Toronto:20240205T203000
DTSTAMP:20260422T234822
CREATED:20251029T163913Z
LAST-MODIFIED:20251029T163913Z
UID:10000857-1707157800-1707165000@registrytheatre.com
SUMMARY:DISNEY DREAMS
DESCRIPTION:Presented by Our Studio \n\n\n\n\n\n\n\nA Collection of stories related to Disney stories. \n\n\n\nAll ages \n\n\n\n\n\nTickets: $20
URL:https://registrytheatre.com/event/disney-dreams/
CATEGORIES:Rental Events
END:VEVENT
BEGIN:VEVENT
DTSTART;TZID=America/Toronto:20240206T200000
DTEND;TZID=America/Toronto:20240206T213000
DTSTAMP:20260422T234822
CREATED:20251029T162542Z
LAST-MODIFIED:20251103T185124Z
UID:10000817-1707249600-1707255000@registrytheatre.com
SUMMARY:LESSONS IN TEMPERAMENT
DESCRIPTION:Theatre @ The Registry\n\n\n\n\n\n\n\n\n\n\n\nIt’s Impossible to Perfectly Tune a Piano\n\n\n\n\n\n“A memoir of minds gone out of tune.” – New York Times \n\n\n\nThe story of 4 brothers told through a theatrical escape into the art and science of piano tuning. James Smith and his brothers have had life-long journeys with OCD\, autism\, bipolar disorder and schizophrenia. \n\n\n\nThrough his piano tuning James discovered the perfect metaphor to process the mental complexities of his family. James shares their personal story – while tuning the Registry Theatre grand piano beautifully\, and imperfectly. \n\n\n\nCreated and Performed by James SmithDirected and Developed by Mitchell CushmanDesigned by Nick Blais \n\n\n\nAn Outside the March Production \n\n\n\nPlease Note: The event was originally scheduled to start at 7:30 pm (and is still listed as such in our season brochure) but was subsequently pushed back to an 8 pm start time. We apologize for any confusion. \n\n\n\n \n\n\n\nTickets: $30 General Admission$25 Student/Senior \n\n\n\n\n\n\n\nPresented with funding support from:
URL:https://registrytheatre.com/event/lessons-in-temperament/
CATEGORIES:Theatre
END:VEVENT
BEGIN:VEVENT
DTSTART;TZID=America/Toronto:20240207T200000
DTEND;TZID=America/Toronto:20240207T220000
DTSTAMP:20260422T234822
CREATED:20251029T163913Z
LAST-MODIFIED:20251029T163913Z
UID:10000851-1707336000-1707343200@registrytheatre.com
SUMMARY:Feeling Buble Valentine's Special
DESCRIPTION:Set on February 14th\, 2020\, audiences are transported back in time to a few weeks before the world shut down. With universal themes of hope\, love\, and togetherness\, this show has an uplifting and powerful message delivered with sincerity and humour. Audiences laugh\, cry\, sing\, and dance along to Jay Davis’ committed and heartfelt performance. \n\n\n\nTickets: $35
URL:https://registrytheatre.com/event/feeling-buble-valentines-special/
CATEGORIES:Rental Events
ATTACH;FMTTYPE=image/jpeg:https://registrytheatre.com/wp-content/uploads/2025/10/Buble-Valentines-Registry-Jay-Davis-scaled-I6WhZf.jpg
END:VEVENT
BEGIN:VEVENT
DTSTART;TZID=America/Toronto:20240208T200000
DTEND;TZID=America/Toronto:20240208T220000
DTSTAMP:20260422T234822
CREATED:20251029T162035Z
LAST-MODIFIED:20251101T160928Z
UID:10000805-1707422400-1707429600@registrytheatre.com
SUMMARY:A PAGE OF MADNESS
DESCRIPTION:VOC Silent Film Harmonic @ The Registry\n\n\n\n\n\n\n\n\n\nWritten in collaboration with Nobel Prize winner Yasunari Kawabata\, director Teinosuke Kinugasa’s 1926 avant garde tale of a family is set in a mental health facility. Although not the complete original\, it was rediscovered by Kinugasa in his own storehouse in 1971. \n\n\n\nTickets: $18$12 with food bank donation (only available at the door) \n\n\n\n\n\n \n\n\n\nWho to Contact for Event Info and Inquiries:
URL:https://registrytheatre.com/event/a-page-of-madness/
CATEGORIES:Registry Presents Events,VOC Silent Film
ATTACH;FMTTYPE=image/jpeg:https://registrytheatre.com/wp-content/uploads/2025/10/Page-of-Madness-VOC-pic-xoIhF8.jpg
END:VEVENT
BEGIN:VEVENT
DTSTART;TZID=America/Toronto:20240209T200000
DTEND;TZID=America/Toronto:20240209T220000
DTSTAMP:20260422T234822
CREATED:20251029T162541Z
LAST-MODIFIED:20251103T184508Z
UID:10000810-1707508800-1707516000@registrytheatre.com
SUMMARY:WESTERN SWING AUTHORITY
DESCRIPTION:Homegrown @ The Registry\n\n\n\n\n\n\n\n\n\n\n\nCD Release Concert\n\n\n\n\n\nWSA is roaring back with a 5th studio album. Western Swing music fused with WSA’s unique ability to leave their sound stamp on every new song they create. Hear all the new songs live for the first time along with some favourites. \n\n\n\nTickets: $30 \n\n\n\n\n\n \n\n\n\nWho to contact for event info and inquiries:\n\n\n\n\n\nSeries Sponsor:
URL:https://registrytheatre.com/event/western-swing-authority/
CATEGORIES:Homegrown,Registry Presents Events
ATTACH;FMTTYPE=image/jpeg:https://registrytheatre.com/wp-content/uploads/2025/10/Western-Swung-Authority-Home-Grown-23-24-iyuWFu.jpg
END:VEVENT
BEGIN:VEVENT
DTSTART;TZID=America/Toronto:20240210T200000
DTEND;TZID=America/Toronto:20240210T220000
DTSTAMP:20260422T234822
CREATED:20251029T162035Z
LAST-MODIFIED:20251103T184826Z
UID:10000800-1707595200-1707602400@registrytheatre.com
SUMMARY:IAN TAMBLYN
DESCRIPTION:Folk Night @ The Registry\n\n\n\n\n\n\n\n\n\nSinger\, songwriter\, playwright\, adventurer\, and 5 decades of music. \n\n\n\nA welcome return to Folk Night. \n\n\n\nTickets: $23 in advance$25 at the door$21 Live Stream \n\n\n\n\n\n \n\n\n\nWho to Contact for Event Info and Inquiries:
URL:https://registrytheatre.com/event/ian-tamblyn/
CATEGORIES:Folk Night,Jazz
END:VEVENT
END:VCALENDAR