BEGIN:VCALENDAR
VERSION:2.0
PRODID:-//The Registry Theatre - ECPv6.15.20//NONSGML v1.0//EN
CALSCALE:GREGORIAN
METHOD:PUBLISH
X-WR-CALNAME:The Registry Theatre
X-ORIGINAL-URL:https://registrytheatre.com
X-WR-CALDESC:Events for The Registry Theatre
REFRESH-INTERVAL;VALUE=DURATION:PT1H
X-Robots-Tag:noindex
X-PUBLISHED-TTL:PT1H
BEGIN:VTIMEZONE
TZID:America/Toronto
BEGIN:DAYLIGHT
TZOFFSETFROM:-0500
TZOFFSETTO:-0400
TZNAME:EDT
DTSTART:20220313T070000
END:DAYLIGHT
BEGIN:STANDARD
TZOFFSETFROM:-0400
TZOFFSETTO:-0500
TZNAME:EST
DTSTART:20221106T060000
END:STANDARD
BEGIN:DAYLIGHT
TZOFFSETFROM:-0500
TZOFFSETTO:-0400
TZNAME:EDT
DTSTART:20230312T070000
END:DAYLIGHT
BEGIN:STANDARD
TZOFFSETFROM:-0400
TZOFFSETTO:-0500
TZNAME:EST
DTSTART:20231105T060000
END:STANDARD
BEGIN:DAYLIGHT
TZOFFSETFROM:-0500
TZOFFSETTO:-0400
TZNAME:EDT
DTSTART:20240310T070000
END:DAYLIGHT
BEGIN:STANDARD
TZOFFSETFROM:-0400
TZOFFSETTO:-0500
TZNAME:EST
DTSTART:20241103T060000
END:STANDARD
END:VTIMEZONE
BEGIN:VEVENT
DTSTART;TZID=America/Toronto:20231122T193000
DTEND;TZID=America/Toronto:20231122T213000
DTSTAMP:20260423T024251
CREATED:20251029T163612Z
LAST-MODIFIED:20251103T185124Z
UID:10000840-1700681400-1700688600@registrytheatre.com
SUMMARY:Sea Marks
DESCRIPTION:by Gardner McKay\n\n\n\nA Staged Reading \n\n\n\n\n\n\n\n\n\nThe call of the heart challenges the call of home for a lonely Irish fisherman and an urbane Liverpool editor. \n\n\n\nPay What You Can at the door. \n\n\n\n\n\n\n\n\n\n\n\nPresented in Association with:
URL:https://registrytheatre.com/event/sea-marks/
CATEGORIES:Theatre
ATTACH;FMTTYPE=image/jpeg:https://registrytheatre.com/wp-content/uploads/2025/10/Sea-Marks-0WE18c.jpg
END:VEVENT
BEGIN:VEVENT
DTSTART;TZID=America/Toronto:20231123T190000
DTEND;TZID=America/Toronto:20231123T210000
DTSTAMP:20260423T024251
CREATED:20251029T163612Z
LAST-MODIFIED:20251029T163612Z
UID:10000839-1700766000-1700773200@registrytheatre.com
SUMMARY:Nature's Canvas
DESCRIPTION:An Art Show/Installation\n\n\n\n\n\n\n\n\n\nFeaturing the latest works of Marian Boyer. \n\n\n\nThe climate crisis is vast\, but sometimes it’s the small things that shed light on our individual roles. \n\n\n\nFree Admission!
URL:https://registrytheatre.com/event/natures-canvas/
CATEGORIES:Registry Presents Events
ATTACH;FMTTYPE=image/png:https://registrytheatre.com/wp-content/uploads/2025/10/image-UDwTZe.png
END:VEVENT
BEGIN:VEVENT
DTSTART;TZID=America/Toronto:20231125T200000
DTEND;TZID=America/Toronto:20231125T220000
DTSTAMP:20260423T024251
CREATED:20251029T162034Z
LAST-MODIFIED:20251103T184826Z
UID:10000799-1700942400-1700949600@registrytheatre.com
SUMMARY:WINDBORNE
DESCRIPTION:Folk Night @ The Registry\n\n\n\n\n\n\n\n\n\nFour friends with four-part harmony that celebrates the power and variation of the human voice. \n\n\n\nTickets: $30 in advance$32 at the door$23 Live Stream \n\n\n\n\n\n \n\n\n\nWho to Contact for Event Info and Inquiries:
URL:https://registrytheatre.com/event/windborne/
CATEGORIES:Folk Night,Jazz
END:VEVENT
BEGIN:VEVENT
DTSTART;TZID=America/Toronto:20231126T150000
DTEND;TZID=America/Toronto:20231126T170000
DTSTAMP:20260423T024251
CREATED:20251029T162542Z
LAST-MODIFIED:20251101T161525Z
UID:10000819-1701010800-1701018000@registrytheatre.com
SUMMARY:ANGELA PARK and STEPHAN SYLVESTRE
DESCRIPTION:Classics @ The Registry\n\n\n\nPresented in Association with the K-W Chamber Music Society\n\n\n\n\n\n\n\n \n\n\n\n\n\n\n\n\n\n\n\n1 Piano\, 2 Pianists\, Brahms!\n\n\n\n\n\nAngela Park and Stephan Sylvestre continue their series with Brahms Symphony #2 transcribed for piano 4-hands. \n\n\n\nTickets:$30 General Admission$25 SeniorsChildren 12 and Under are Free! \n\n\n\n\n\n \n\n\n\nWho to contact for event info and inquiries:\n\n\n\n\n\nSeries Sponsor:
URL:https://registrytheatre.com/event/angela-park-and-stephan-sylvestre/
CATEGORIES:Classics,Registry Presents Events
ATTACH;FMTTYPE=image/jpeg:https://registrytheatre.com/wp-content/uploads/2025/10/Angela-Park-Photo-David-Leyes-rYGKYU.jpg
END:VEVENT
END:VCALENDAR