BEGIN:VCALENDAR
VERSION:2.0
PRODID:-//The Registry Theatre - ECPv6.15.20//NONSGML v1.0//EN
CALSCALE:GREGORIAN
METHOD:PUBLISH
X-WR-CALNAME:The Registry Theatre
X-ORIGINAL-URL:https://registrytheatre.com
X-WR-CALDESC:Events for The Registry Theatre
REFRESH-INTERVAL;VALUE=DURATION:PT1H
X-Robots-Tag:noindex
X-PUBLISHED-TTL:PT1H
BEGIN:VTIMEZONE
TZID:America/Toronto
BEGIN:DAYLIGHT
TZOFFSETFROM:-0500
TZOFFSETTO:-0400
TZNAME:EDT
DTSTART:20220313T070000
END:DAYLIGHT
BEGIN:STANDARD
TZOFFSETFROM:-0400
TZOFFSETTO:-0500
TZNAME:EST
DTSTART:20221106T060000
END:STANDARD
BEGIN:DAYLIGHT
TZOFFSETFROM:-0500
TZOFFSETTO:-0400
TZNAME:EDT
DTSTART:20230312T070000
END:DAYLIGHT
BEGIN:STANDARD
TZOFFSETFROM:-0400
TZOFFSETTO:-0500
TZNAME:EST
DTSTART:20231105T060000
END:STANDARD
BEGIN:DAYLIGHT
TZOFFSETFROM:-0500
TZOFFSETTO:-0400
TZNAME:EDT
DTSTART:20240310T070000
END:DAYLIGHT
BEGIN:STANDARD
TZOFFSETFROM:-0400
TZOFFSETTO:-0500
TZNAME:EST
DTSTART:20241103T060000
END:STANDARD
END:VTIMEZONE
BEGIN:VEVENT
DTSTART;TZID=America/Toronto:20231114T193000
DTEND;TZID=America/Toronto:20231114T213000
DTSTAMP:20260423T040459
CREATED:20251029T162034Z
LAST-MODIFIED:20251103T185124Z
UID:10000796-1699990200-1699997400@registrytheatre.com
SUMMARY:Agit-Pop!
DESCRIPTION:Theatre @ The Registry\n\n\n\n\n\n\n\n\n\n\n\nMusical Meditations on the Pre-Post-Apocalypse\n\n\n\n\n\nSuperstar drag comedienne Pearle Harbour performs her doomsday cabaret. Laughs & tears through the headlines\, and hits from David Bowie\, to Britney Spears. A hilarious and heartbreaking cabaret for the end times.Agit-Pop! reimagines the hits of Bowie\, Britney\, Judy Garland\, Tom Waits and more as you’ve never heard them before. \n\n\n\nA portion of proceeds from ticket sales will be donated to The Healing of the Seven Generations. \n\n\n\n\n\n\n\nCreated by Justin MillerDirected by Rebecca BallarinMusical Direction by Steven Conway \n\n\n\n \n\n\n\nTickets: $30 General Admission$25 Student/Senior \n\n\n\n\n\n\n\nPresented with funding support from:
URL:https://registrytheatre.com/event/agit-pop/
CATEGORIES:Theatre
ATTACH;FMTTYPE=image/jpeg:https://registrytheatre.com/wp-content/uploads/2025/10/AP-Tanja-Tiziana-06-web-size-OGPfJi.jpg
END:VEVENT
BEGIN:VEVENT
DTSTART;TZID=America/Toronto:20231117T190000
DTEND;TZID=America/Toronto:20231117T220000
DTSTAMP:20260423T040459
CREATED:20251029T163612Z
LAST-MODIFIED:20251029T163612Z
UID:10000843-1700247600-1700258400@registrytheatre.com
SUMMARY:PUFFS: Or Seven Increasingly Eventful Years at a Certain School of Magic and Magic
DESCRIPTION:Presented by Playful Fox Productions\n\n\n\n\n\n\n\n\n\nPlayful Fox Productions is heading to a certain school of magic and magic this November as we present to you: PUFFS  \n\n\n\nFor seven years a certain boy wizard went to a certain Wizard School and conquered evil. This\, however\, is not his story. This is the story of the Puffs… who just happened to be there too. A tale for anyone who has never been destined to save the world.  \n\n\n\nThe New York Times proclaims Puffs “A fast-paced romp through the ‘Seven Increasingly Eventful Years at a Certain School of Magic and Magic.’ For Potterphiliacs who grew up alongside Potter and are eager to revisit that world\, Puffs exudes a jovial\, winking fondness for all things Harry!”  \n\n\n\nThis clever and inventive play “never goes more than a minute without a laugh” (Nerdist) giving you a new look at a familiar adventure from the perspective of three potential heroes just trying to make it through a magic school that proves to be very dangerous for children. Alongside them are the Puffs\, a group of well-meaning\, loyal outsiders with a thing for badgers “who are so lovable and relatable\, you’ll leave the theater wishing they were in the stories all along” (Hollywood Life). Their “hilariously heartfelt!” (Metro) and epic journey takes the classic story to new places and reimagines what a boy wizard hero can be.  \n\n\n\n*** Matinee performances are “kid – friendly” – we strongly suggest taking your young witches and wizards to those times***  \n\n\n\nFor those older witches and wizards (teens and adults) evening performances will include some foul language and minor sexual innuendo/adult themes. If you’re in the mood for some adult humour\, we suggest coming to our evening performances!  \n\n\n\nPuffs is proudly sponsored by: Jackie McDonald Home Sales Please note: Puffs is licensed through special arrangement by Samuel French Inc & Concord Theatricals.  \n\n\n\nPuffs is not authorized\, sanctioned\, licensed or endorsed by J.K Rowling\, Warner Bros. or any person or company associated with the Harry Potter books\, films or play. \n\n\n\nConcessions will be available at the door (cash only please) Costumes and wands encouraged! \n\n\n\nEstimated Run Time: 2.5 hours (includes 15-minute intermission) \n\n\n\n\n\nTickets: \n\n\n\nGeneral Admission – $30 (plus taxes and fees) Student/Senior – $25 (plus taxes and fees) Child 12 and under – $20 (plus taxes and fees) \n\n\n\n\n\n\n\nPlease follow us on Facebook and Instagram : @playfulfoxproductions
URL:https://registrytheatre.com/event/puffs-or-seven-increasingly-eventful-years-at-a-certain-school-of-magic-and-magic/
CATEGORIES:Rental Events
END:VEVENT
END:VCALENDAR