BEGIN:VCALENDAR
VERSION:2.0
PRODID:-//The Registry Theatre - ECPv6.15.20//NONSGML v1.0//EN
CALSCALE:GREGORIAN
METHOD:PUBLISH
X-WR-CALNAME:The Registry Theatre
X-ORIGINAL-URL:https://registrytheatre.com
X-WR-CALDESC:Events for The Registry Theatre
REFRESH-INTERVAL;VALUE=DURATION:PT1H
X-Robots-Tag:noindex
X-PUBLISHED-TTL:PT1H
BEGIN:VTIMEZONE
TZID:America/Toronto
BEGIN:DAYLIGHT
TZOFFSETFROM:-0500
TZOFFSETTO:-0400
TZNAME:EDT
DTSTART:20220313T070000
END:DAYLIGHT
BEGIN:STANDARD
TZOFFSETFROM:-0400
TZOFFSETTO:-0500
TZNAME:EST
DTSTART:20221106T060000
END:STANDARD
BEGIN:DAYLIGHT
TZOFFSETFROM:-0500
TZOFFSETTO:-0400
TZNAME:EDT
DTSTART:20230312T070000
END:DAYLIGHT
BEGIN:STANDARD
TZOFFSETFROM:-0400
TZOFFSETTO:-0500
TZNAME:EST
DTSTART:20231105T060000
END:STANDARD
BEGIN:DAYLIGHT
TZOFFSETFROM:-0500
TZOFFSETTO:-0400
TZNAME:EDT
DTSTART:20240310T070000
END:DAYLIGHT
BEGIN:STANDARD
TZOFFSETFROM:-0400
TZOFFSETTO:-0500
TZNAME:EST
DTSTART:20241103T060000
END:STANDARD
END:VTIMEZONE
BEGIN:VEVENT
DTSTART;TZID=America/Toronto:20231111T140000
DTEND;TZID=America/Toronto:20231111T160000
DTSTAMP:20260423T053124
CREATED:20251029T163612Z
LAST-MODIFIED:20251029T163612Z
UID:10000842-1699711200-1699718400@registrytheatre.com
SUMMARY:Bill + Ted's Daughters' Historical Adventure!
DESCRIPTION:Presented by Growing in the Arts School of Dramatic + Expressive Arts\n\n\n\n\n\n\n\nTravel through time to explore the brave and heartfelt Stories of The First Voices of Turtle Island\, Terry Fox\, Laura Secord\, The Fab Five and more! \n\n\n\nFun for the entire family Loaded with Canadian content! \n\n\n\nNov. 11\, at 2pm and at 7pm \n\n\n\n\n\nTickets \n\n\n\nAdult $20\, Youth $15 (Appropriate for grade 1 and up) \n\n\n\n\n\n \n\n\n\nPresented by
URL:https://registrytheatre.com/event/bill-teds-daughters-historical-adventure/
CATEGORIES:Rental Events
ATTACH;FMTTYPE=image/png:https://registrytheatre.com/wp-content/uploads/2025/10/GITA-bill-ted-Operations-Manager-QUcLRc.png
END:VEVENT
BEGIN:VEVENT
DTSTART;TZID=America/Toronto:20231112T150000
DTEND;TZID=America/Toronto:20231112T190000
DTSTAMP:20260423T053124
CREATED:20251029T163612Z
LAST-MODIFIED:20251029T163612Z
UID:10000830-1699801200-1699815600@registrytheatre.com
SUMMARY:POWDERFINGER: A Tribute To Neil Young
DESCRIPTION:Presented by Jay Carraro\n\n\n\n\n\n\n\n\n\nA celebration of the legendary Neil Young’s birthday with a tribute to his timeless catalogue!  \n\n\n\nJay Carraro features the songs we’re all familiar with as he travels through Neil’s songbook with precision and admiration for the different styles that he wrote in. The show is an adventure through the soft folk & country music that Neil Young created with the “Harvest” sound in mind\, and also the loud rockin’ classics that popularized him on FM rock radio stations for decades.  \n\n\n\n“Its that voice Carraro looks to emulate\, taking a note-for-note target seriously in recreating Young’s guitar work… clearly showing a passion for the material.” – Steve Kannon (Woolwich Observer)  \n\n\n\nJoined on stage by fellow musicians Jonny Sauder (Elliot & The Audio Kings\, The Crazy Diamonds)\, Scott Fitzpatrick (Stoney Lonesome\, Elliot & The Audio Kings)\, Chris Dallan (Electric Gas)\, Ed Ringwald (Gordon Lightfoot\, Western Swing Authority) and Wendy Carraro (The Divines\, The Crazy Diamonds).  \n\n\n\nAlso featuring the sweet vocal harmonies of Crosby\, Stills & Nash\, performed by “Carry On” (Jesse Webber\, Craig McNair & Ryan Brohman). \n\n\n\nTickets: $29
URL:https://registrytheatre.com/event/powderfinger-a-tribute-to-neil-young-2/
CATEGORIES:Rental Events
ATTACH;FMTTYPE=image/jpeg:https://registrytheatre.com/wp-content/uploads/2025/10/Poster2-Jay-Carraro-m7BQgg.jpg
END:VEVENT
END:VCALENDAR