BEGIN:VCALENDAR
VERSION:2.0
PRODID:-//The Registry Theatre - ECPv6.15.20//NONSGML v1.0//EN
CALSCALE:GREGORIAN
METHOD:PUBLISH
X-WR-CALNAME:The Registry Theatre
X-ORIGINAL-URL:https://registrytheatre.com
X-WR-CALDESC:Events for The Registry Theatre
REFRESH-INTERVAL;VALUE=DURATION:PT1H
X-Robots-Tag:noindex
X-PUBLISHED-TTL:PT1H
BEGIN:VTIMEZONE
TZID:America/Toronto
BEGIN:DAYLIGHT
TZOFFSETFROM:-0500
TZOFFSETTO:-0400
TZNAME:EDT
DTSTART:20220313T070000
END:DAYLIGHT
BEGIN:STANDARD
TZOFFSETFROM:-0400
TZOFFSETTO:-0500
TZNAME:EST
DTSTART:20221106T060000
END:STANDARD
BEGIN:DAYLIGHT
TZOFFSETFROM:-0500
TZOFFSETTO:-0400
TZNAME:EDT
DTSTART:20230312T070000
END:DAYLIGHT
BEGIN:STANDARD
TZOFFSETFROM:-0400
TZOFFSETTO:-0500
TZNAME:EST
DTSTART:20231105T060000
END:STANDARD
BEGIN:DAYLIGHT
TZOFFSETFROM:-0500
TZOFFSETTO:-0400
TZNAME:EDT
DTSTART:20240310T070000
END:DAYLIGHT
BEGIN:STANDARD
TZOFFSETFROM:-0400
TZOFFSETTO:-0500
TZNAME:EST
DTSTART:20241103T060000
END:STANDARD
END:VTIMEZONE
BEGIN:VEVENT
DTSTART;TZID=America/Toronto:20231017T193000
DTEND;TZID=America/Toronto:20231017T213000
DTSTAMP:20260423T083115
CREATED:20251029T163612Z
LAST-MODIFIED:20251029T163612Z
UID:10000834-1697571000-1697578200@registrytheatre.com
SUMMARY:Dueling Divas Dance Jam
DESCRIPTION:Presented by Buzzie Indie Series: A Pat the Dog Jam\n\n\n\n\n\n\n\n\n\nTwo national award-winning dancers perform\, play and create live-in-person with you!  \n\n\n\nLucy and Tara will warm you up\, performing two stunning works before they open up the floor to your suggestions for creation-on-the-spot! Come armed with a phrase\, image\, thought to stimulate and/or stump our Dueling Divas. A very special interactive performative evening of dance and artistic creation. \n\n\n\nTickets: $20 available online or at the Door day of Event. Doors open 6:30pm Cash\, credit card\, debit accepted.
URL:https://registrytheatre.com/event/dueling-divas-dance-jam/
CATEGORIES:Rental Events
ATTACH;FMTTYPE=image/png:https://registrytheatre.com/wp-content/uploads/2025/10/instaSQDD-Lisa-OConnell-T6ENkw.png
END:VEVENT
BEGIN:VEVENT
DTSTART;TZID=America/Toronto:20231020T200000
DTEND;TZID=America/Toronto:20231020T223000
DTSTAMP:20260423T083115
CREATED:20251029T163612Z
LAST-MODIFIED:20251029T163612Z
UID:10000831-1697832000-1697841000@registrytheatre.com
SUMMARY:SHHH!! ENSEMBLE: Starry Night
DESCRIPTION:In “Starry Night”\, SHHH!! Ensemble (Zac Pulak\, percussion and Edana Higham\, piano) explores mysterious dreamscapes\, the supernatural\, and the celestial\, with works by Mari Alice Conrad\, Edward Enman\, Paolo Griffin\, Harry Stafylakis\, Georges Aperghis\, Monica Pearce\, and Jocelyn Morlock. \n\n\n\n\n\nTickets: $20/$10
URL:https://registrytheatre.com/event/shhh-ensemble-starry-night/
CATEGORIES:Rental Events
ATTACH;FMTTYPE=image/jpeg:https://registrytheatre.com/wp-content/uploads/2025/10/SHHH-Ensemble2-Kathryn-Ladano-scaled-3E5Zc6.jpg
END:VEVENT
BEGIN:VEVENT
DTSTART;TZID=America/Toronto:20231021T200000
DTEND;TZID=America/Toronto:20231021T220000
DTSTAMP:20260423T083115
CREATED:20251029T162034Z
LAST-MODIFIED:20251103T184826Z
UID:10000798-1697918400-1697925600@registrytheatre.com
SUMMARY:Ennis Sisters
DESCRIPTION:Folk Night @ The Registry\n\n\n\n\n\n\n\n\n\nThe exquisite trio and pride of Newfoundland return to Folk Night. \n\n\n\nTickets: $35 in advance$40 at the door$25 Live Stream \n\n\n\n\n\n \n\n\n\nWho to Contact for Event Info and Inquiries:
URL:https://registrytheatre.com/event/ennis-sisters/
CATEGORIES:Folk Night,Jazz
ATTACH;FMTTYPE=image/jpeg:https://registrytheatre.com/wp-content/uploads/2025/10/Ennis-Sisters-FN-3A-Bet8A5.jpg
END:VEVENT
BEGIN:VEVENT
DTSTART;TZID=America/Toronto:20231022T163000
DTEND;TZID=America/Toronto:20231022T183000
DTSTAMP:20260423T083115
CREATED:20251029T163612Z
LAST-MODIFIED:20251029T163612Z
UID:10000833-1697992200-1697999400@registrytheatre.com
SUMMARY:Dancespirations
DESCRIPTION:Presented by Carousel Dance Company\n\n\n\n\n\n\n\nDance performance showcasing student choreography. \n\n\n\n\n\n$12 General Admission \n\n\n\nPurchase from Carousel Dance Centre – 519-746-8877
URL:https://registrytheatre.com/event/dancespirations-2/
CATEGORIES:Rental Events
ATTACH;FMTTYPE=image/png:https://registrytheatre.com/wp-content/uploads/2025/10/Dancespirations-2024-Final-File-Heidi-Churchill-ApQzB3.png
END:VEVENT
END:VCALENDAR