BEGIN:VCALENDAR
VERSION:2.0
PRODID:-//The Registry Theatre - ECPv6.15.20//NONSGML v1.0//EN
CALSCALE:GREGORIAN
METHOD:PUBLISH
X-ORIGINAL-URL:https://registrytheatre.com
X-WR-CALDESC:Events for The Registry Theatre
REFRESH-INTERVAL;VALUE=DURATION:PT1H
X-Robots-Tag:noindex
X-PUBLISHED-TTL:PT1H
BEGIN:VTIMEZONE
TZID:America/Toronto
BEGIN:DAYLIGHT
TZOFFSETFROM:-0500
TZOFFSETTO:-0400
TZNAME:EDT
DTSTART:20220313T070000
END:DAYLIGHT
BEGIN:STANDARD
TZOFFSETFROM:-0400
TZOFFSETTO:-0500
TZNAME:EST
DTSTART:20221106T060000
END:STANDARD
BEGIN:DAYLIGHT
TZOFFSETFROM:-0500
TZOFFSETTO:-0400
TZNAME:EDT
DTSTART:20230312T070000
END:DAYLIGHT
BEGIN:STANDARD
TZOFFSETFROM:-0400
TZOFFSETTO:-0500
TZNAME:EST
DTSTART:20231105T060000
END:STANDARD
BEGIN:DAYLIGHT
TZOFFSETFROM:-0500
TZOFFSETTO:-0400
TZNAME:EDT
DTSTART:20240310T070000
END:DAYLIGHT
BEGIN:STANDARD
TZOFFSETFROM:-0400
TZOFFSETTO:-0500
TZNAME:EST
DTSTART:20241103T060000
END:STANDARD
END:VTIMEZONE
BEGIN:VEVENT
DTSTART;TZID=America/Toronto:20231007T193000
DTEND;TZID=America/Toronto:20231007T213000
DTSTAMP:20260423T053207
CREATED:20251029T162541Z
LAST-MODIFIED:20251029T162541Z
UID:10000812-1696707000-1696714200@registrytheatre.com
SUMMARY:THE FAMILY CROW: A Murder Mystery
DESCRIPTION:Presented by The Pucking Fuppet Co.\n\n\n\n\n\n\n\n\n\nTHE FAMILY CROW: A Murder Mystery is a theatrical comedy\, puppet murder mystery created by internationally celebrated puppeteer Adam Francis Proulx (CBC\, Netflix\, Family Jr.) and directed by Canadian Comedy Award winner Byron Laviolette.  \n\n\n\nPuppets! Puns! Murder!  \n\n\n\nA mysterious murder has occurred amidst the Family Crow and now Horatio P. Corvus (Sorter Outer of Murders) is on the scene to crack the case. ​  \n\n\n\nEat your heart out\, Agatha Crowstie.  \n\n\n\nCome see the award-winning international hit that the Orlando Sentinel called\, “Seriously funny high-flying fun!” \n\n\n\n \n\n\n\nTickets: $25 early bird\, $35 regular \n\n\n\n\n\n \n\n\n\nWho to Contact for Event Info and Inquiries:
URL:https://registrytheatre.com/event/the-family-crow-a-murder-mystery/
CATEGORIES:Rental Events
ATTACH;FMTTYPE=image/png:https://registrytheatre.com/wp-content/uploads/2025/10/Family-Crow-16.9-Adam-Francis-Proulx-6LpAe6.png
END:VEVENT
END:VCALENDAR