BEGIN:VCALENDAR
VERSION:2.0
PRODID:-//The Registry Theatre - ECPv6.15.20//NONSGML v1.0//EN
CALSCALE:GREGORIAN
METHOD:PUBLISH
X-WR-CALNAME:The Registry Theatre
X-ORIGINAL-URL:https://registrytheatre.com
X-WR-CALDESC:Events for The Registry Theatre
REFRESH-INTERVAL;VALUE=DURATION:PT1H
X-Robots-Tag:noindex
X-PUBLISHED-TTL:PT1H
BEGIN:VTIMEZONE
TZID:America/Toronto
BEGIN:DAYLIGHT
TZOFFSETFROM:-0500
TZOFFSETTO:-0400
TZNAME:EDT
DTSTART:20220313T070000
END:DAYLIGHT
BEGIN:STANDARD
TZOFFSETFROM:-0400
TZOFFSETTO:-0500
TZNAME:EST
DTSTART:20221106T060000
END:STANDARD
BEGIN:DAYLIGHT
TZOFFSETFROM:-0500
TZOFFSETTO:-0400
TZNAME:EDT
DTSTART:20230312T070000
END:DAYLIGHT
BEGIN:STANDARD
TZOFFSETFROM:-0400
TZOFFSETTO:-0500
TZNAME:EST
DTSTART:20231105T060000
END:STANDARD
BEGIN:DAYLIGHT
TZOFFSETFROM:-0500
TZOFFSETTO:-0400
TZNAME:EDT
DTSTART:20240310T070000
END:DAYLIGHT
BEGIN:STANDARD
TZOFFSETFROM:-0400
TZOFFSETTO:-0500
TZNAME:EST
DTSTART:20241103T060000
END:STANDARD
END:VTIMEZONE
BEGIN:VEVENT
DTSTART;TZID=America/Toronto:20230921T190000
DTEND;TZID=America/Toronto:20230921T220000
DTSTAMP:20260423T053123
CREATED:20251029T162034Z
LAST-MODIFIED:20251029T162427Z
UID:10000793-1695322800-1695333600@registrytheatre.com
SUMMARY:Frankenstein: A New Musical
DESCRIPTION:Presented by Mavis Productions\n\n\n\n\n\n\n\n\n\nFrankenstein – A New Musical is a stage musical adaptation of Mary Shelley’s 1818 novel Frankenstein; or\, The Modern Prometheus\, with music by Mark Baron and book and lyrics by Jeffrey Jackson\, based on a story adaptation by Gary P. Cohen.   \n\n\n\nWith earnest ballads and soaring ensemble numbers\, this compelling musical brings the suspense and romance of the classic tale to life in a uniquely faithful\, yet thoroughly innovative adaptation of Mary Shelley’s original novel. In his quest to discover the secret of life\, Victor Frankenstein\, a brilliant young scientist\, creates a human of his own design that turns out to instead be a horrifying beast. This is no “Hollywood monster\,” but a flesh-and-blood man who\, while terrifying in appearance\, grows to become articulate\, cunning\, and thirsting for revenge upon the creator who abandoned him. A tragic love story and exploration of humanity\, Frankenstein: The Musical breathes new life into the world-renowned story of man and creator pitted against one another in epic battle. \n\n\n\nAll ages but PG rating due to content. There will be use of flashing lights and fog machine. \n\n\n\nTickets: General Admission – $32.50 ticketing fees included (online purchase) $35 at the door.
URL:https://registrytheatre.com/event/frankenstein-a-new-musical/
CATEGORIES:Rental Events
ATTACH;FMTTYPE=image/jpeg:https://registrytheatre.com/wp-content/uploads/2025/10/https___cdn.evbuc_.com_images_503878019_567713887605_1_original-Mavis-Productions-Jee2pR.jpg
END:VEVENT
END:VCALENDAR