BEGIN:VCALENDAR
VERSION:2.0
PRODID:-//The Registry Theatre - ECPv6.15.20//NONSGML v1.0//EN
CALSCALE:GREGORIAN
METHOD:PUBLISH
X-ORIGINAL-URL:https://registrytheatre.com
X-WR-CALDESC:Events for The Registry Theatre
REFRESH-INTERVAL;VALUE=DURATION:PT1H
X-Robots-Tag:noindex
X-PUBLISHED-TTL:PT1H
BEGIN:VTIMEZONE
TZID:America/Toronto
BEGIN:DAYLIGHT
TZOFFSETFROM:-0500
TZOFFSETTO:-0400
TZNAME:EDT
DTSTART:20220313T070000
END:DAYLIGHT
BEGIN:STANDARD
TZOFFSETFROM:-0400
TZOFFSETTO:-0500
TZNAME:EST
DTSTART:20221106T060000
END:STANDARD
BEGIN:DAYLIGHT
TZOFFSETFROM:-0500
TZOFFSETTO:-0400
TZNAME:EDT
DTSTART:20230312T070000
END:DAYLIGHT
BEGIN:STANDARD
TZOFFSETFROM:-0400
TZOFFSETTO:-0500
TZNAME:EST
DTSTART:20231105T060000
END:STANDARD
BEGIN:DAYLIGHT
TZOFFSETFROM:-0500
TZOFFSETTO:-0400
TZNAME:EDT
DTSTART:20240310T070000
END:DAYLIGHT
BEGIN:STANDARD
TZOFFSETFROM:-0400
TZOFFSETTO:-0500
TZNAME:EST
DTSTART:20241103T060000
END:STANDARD
END:VTIMEZONE
BEGIN:VEVENT
DTSTART;TZID=America/Toronto:20230908T200000
DTEND;TZID=America/Toronto:20230908T223000
DTSTAMP:20260423T083200
CREATED:20251029T162034Z
LAST-MODIFIED:20251029T162427Z
UID:10000791-1694203200-1694212200@registrytheatre.com
SUMMARY:JOHNNY CASH - FOLSOM PRISON REVISITED
DESCRIPTION:Presented by CASH – THE WORLD’S MOST AUTHENTIC JOHNNY CASH TRIBUTE\n\n\n\n\n\n\n\n\n\nPaul Anthony is labeled The Preacher in The Church of Johnny CashJohnny Cash – Country Music legend is authentically recreated by international award winning tribute artist Paul Anthony and his boom-chicka-boom Tennessee Three CASH Show Band!  bringing the Man in Black’s biggest hits to life such as Folsom Prison Blues\, I Walk the Line\, and Ring of Fire. The Stories\, The Music of America’s beloved Country Music Hall of Fame\, Rock and Roll Hall of Fame\, and Songwriters Hall of Fame icon makes this show a not to be missed event!! \n\n\n\nThe Authentic Sounds of Johnny Cash re-created by Paul Anthony and his Tennessee 3 Show Band. \n\n\n\nTickets: $35 \n\n\n\nTickets available at the door.
URL:https://registrytheatre.com/event/johnny-cash-folsom-prison-revisited/
CATEGORIES:Rental Events
ATTACH;FMTTYPE=image/jpeg:https://registrytheatre.com/wp-content/uploads/2025/10/image0-3Bym1S.jpg
END:VEVENT
END:VCALENDAR