BEGIN:VCALENDAR
VERSION:2.0
PRODID:-//The Registry Theatre - ECPv6.15.20//NONSGML v1.0//EN
CALSCALE:GREGORIAN
METHOD:PUBLISH
X-WR-CALNAME:The Registry Theatre
X-ORIGINAL-URL:https://registrytheatre.com
X-WR-CALDESC:Events for The Registry Theatre
REFRESH-INTERVAL;VALUE=DURATION:PT1H
X-Robots-Tag:noindex
X-PUBLISHED-TTL:PT1H
BEGIN:VTIMEZONE
TZID:America/Toronto
BEGIN:DAYLIGHT
TZOFFSETFROM:-0500
TZOFFSETTO:-0400
TZNAME:EDT
DTSTART:20220313T070000
END:DAYLIGHT
BEGIN:STANDARD
TZOFFSETFROM:-0400
TZOFFSETTO:-0500
TZNAME:EST
DTSTART:20221106T060000
END:STANDARD
BEGIN:DAYLIGHT
TZOFFSETFROM:-0500
TZOFFSETTO:-0400
TZNAME:EDT
DTSTART:20230312T070000
END:DAYLIGHT
BEGIN:STANDARD
TZOFFSETFROM:-0400
TZOFFSETTO:-0500
TZNAME:EST
DTSTART:20231105T060000
END:STANDARD
BEGIN:DAYLIGHT
TZOFFSETFROM:-0500
TZOFFSETTO:-0400
TZNAME:EDT
DTSTART:20240310T070000
END:DAYLIGHT
BEGIN:STANDARD
TZOFFSETFROM:-0400
TZOFFSETTO:-0500
TZNAME:EST
DTSTART:20241103T060000
END:STANDARD
END:VTIMEZONE
BEGIN:VEVENT
DTSTART;TZID=America/Toronto:20230601T200000
DTEND;TZID=America/Toronto:20230601T220000
DTSTAMP:20260423T130335
CREATED:20251029T160722Z
LAST-MODIFIED:20251029T160722Z
UID:10000783-1685649600-1685656800@registrytheatre.com
SUMMARY:PORTAL DANCE PRESENTS: THE RETURNED
DESCRIPTION:Part of the Open Ears Festival of Music and Sound\n\n\n\n\n\n\n\n\n\nFeaturing music by Ben Grossman and Jeff Bird\, The Returned is a new contemporary dance work that seeks to understand the time and place in which we currently live\, as well as the time that came before. Portal Dance dancers uncover these “fossil memories” by exploring shades of memory\, forms of recovery\, cellular history\, individual body maps and what haunts us as humans. The Returned is curious about the cyclical nature of time and how what we see & know to be true in this moment is perhaps merely a frame within a revolving timeline that weaves but ultimately circles synthesizing us to returning atoms\, molecules of memories… \n\n\n\nTickets: \n\n\n\n$25 General Admission$5 with Valid Student ID \n\n\n\nAvailable at the door or in advance at openears.ca
URL:https://registrytheatre.com/event/portal-dance-presents-the-returned/
CATEGORIES:Rental Events
ATTACH;FMTTYPE=image/jpeg:https://registrytheatre.com/wp-content/uploads/2025/10/DSC_9103-scaled-Bartlomiej-Pilarczyk-3aF889.jpg
END:VEVENT
BEGIN:VEVENT
DTSTART;TZID=America/Toronto:20230602T190000
DTEND;TZID=America/Toronto:20230602T220000
DTSTAMP:20260423T130335
CREATED:20251029T160722Z
LAST-MODIFIED:20251029T160722Z
UID:10000784-1685732400-1685743200@registrytheatre.com
SUMMARY:YANG CHEN AND GUESTS PRESENTS
DESCRIPTION:Part of the Open Ears Festival of Music and Sound\n\n\n\n\n\n\n\n\n\nlonging for _\, the debut album of Toronto-based percussionist Yang Chen manages to do the unthinakable: showcase their audacious eclecticism\, sharp curatorial sensibility\, and exceptional skill all at the same time. As such\, Chen is right at home on the celebrated cross-border imprint People Places Records\, a label known for embracing young\, vibrant artists operating loosely within the bounds of contemporary composition. longing for _ includes collaborations with one of People Places’ head honchos\, guitarist-composer Andrew Noseworthy alongside other respected (and largely emerging) talent such as Yaz Lancaster\, Connie Li\, Jason Doell\, Sara Constant\, Sarian Sankoh\, Stephanie Orlando and Charles Lutvak. On it\, Chen performs on everything from bicycle to steel pan evoking styles that span elegiac R&B to full-on electroacoustic abstraction. \n\n\n\nTickets: \n\n\n\n$25 General Admission$5 with Valid Student ID \n\n\n\nAvailable at the door or in advance at openears.ca
URL:https://registrytheatre.com/event/yang-chen-and-guests-presents/
CATEGORIES:Rental Events
END:VEVENT
BEGIN:VEVENT
DTSTART;TZID=America/Toronto:20230603T130000
DTEND;TZID=America/Toronto:20230603T150000
DTSTAMP:20260423T130335
CREATED:20251029T160723Z
LAST-MODIFIED:20251029T160723Z
UID:10000785-1685797200-1685804400@registrytheatre.com
SUMMARY:MEDUSA
DESCRIPTION:Part of the Open Ears Festival of Music and Sound\n\n\n\n\n\n\n\n\n\nMedusa is a unique chamber-folk quartet that blends the Western string quartet (violin\, viola and cello)\, with Polish knee fiddles\, Greek lira\, and Swedish Nyckelharpa. We intertwine the sounds of Middle Eastern\, Scandinavian\, Celtic\, and Eastern European music to create something entirely new. The instruments we play on are incredibly rare around the world. There is no other string band in existence with this highly unusual combination of instruments or with such a wide range of repertoire. Made up of musicians both classically trained and immersed in traditional music from different cultures\, Medusa brings you an experience like no other. Medusa made its debut at the Small World Music Festival in 2020\, and has since been enthralling and delighting audiences at the BLOK Eastern European Festival (Toronto)\, the 4elements Living Arts Festival (Manitoulin Island)\, the Hidden Kingdom Festival (livestream from Bhutan)\, and the TSO 100th Anniversary Open House at Roy Thomson Hall\, among others. Medusa EP is coming out this spring. \n\n\n\nTickets: \n\n\n\n$25 General Admission$5 with Valid Student ID \n\n\n\nAvailable at the door or in advance at openears.ca
URL:https://registrytheatre.com/event/medusa/
CATEGORIES:Rental Events
ATTACH;FMTTYPE=image/jpeg:https://registrytheatre.com/wp-content/uploads/2025/10/Medusa-2021_0160-2-scaled-Bartlomiej-Pilarczyk-NJLw2c.jpg
END:VEVENT
BEGIN:VEVENT
DTSTART;TZID=America/Toronto:20230603T200000
DTEND;TZID=America/Toronto:20230603T220000
DTSTAMP:20260423T130335
CREATED:20251029T160723Z
LAST-MODIFIED:20251029T160723Z
UID:10000786-1685822400-1685829600@registrytheatre.com
SUMMARY:MELODY MCKIVER
DESCRIPTION:Part of the Open Ears Festival of Music and Sound\n\n\n\n\n\n\n\n\n\nMelody McKiver is a electro-violist and composer based in Treaty #1\, Winnipeg Manitoba. They are an Assistant Professor of Indigenous Music in the Desaultels Faculty of Music at the University of Manitoba\, and a member of Obishikokaang First Nation in neighbouring Treaty #3. Quoted by the CBC as “the Anishinaabe musician changing the way we think about the viola.” Melody will bring their unique sounds to the Open Ears stage in an evening of original material. \n\n\n\nTickets: \n\n\n\n$25 General Admission$5 with Valid Student ID \n\n\n\nAvailable at the door or in advance at openears.ca
URL:https://registrytheatre.com/event/melody-mckiver/
CATEGORIES:Rental Events
ATTACH;FMTTYPE=image/jpeg:https://registrytheatre.com/wp-content/uploads/2025/10/170825_MelodyMcKiver_Shot02_0080-Bartlomiej-Pilarczyk-FooC2j.jpg
END:VEVENT
BEGIN:VEVENT
DTSTART;TZID=America/Toronto:20230604T200000
DTEND;TZID=America/Toronto:20230604T220000
DTSTAMP:20260423T130335
CREATED:20251029T160723Z
LAST-MODIFIED:20251029T160723Z
UID:10000787-1685908800-1685916000@registrytheatre.com
SUMMARY:COUNTERSTASIS TRIO WITH SPECIAL GUEST KATHRYN LADANO
DESCRIPTION:Part of the Open Ears Festival of Music and Sound\n\n\n\n\n\n\n\n\n\nCounterstasis is a collaborative improvisation trio formed in 2016\, featuring Glen Hall (woodwinds\, electroacoustics)\, Bill Gilliam (piano\, prepared piano) and Joe Sorbara (drums\, percussion). We work to counter stasis\, to foster change\, to create a music in which our individual voices can be refracted through the sounds of our co-conspirators.  \n\n\n\nOur spontaneously composed explorations of gestures and sonorities are connected to new chamber music\, free jazz\, sound art\, experimental\, and other creative music traditions. Counterstasis draws on a wide variety of traditional and extended techniques and employs both conventional and bent approaches to melodicism\, groove\, and chromatic harmony.  \n\n\n\nIn 2019\, we released our inaugural CD “Counterstasis – Refracted Voices”\, produced with the support of the City of Toronto through the Toronto Arts Council. Our music has been featured by All That Jazz\, Electric Sense\, One Man’s Jazz radio and Dispersion Lab. As a trio and collaborating with other improvising musicians\, we have performed at venues in Toronto and Montreal including shows with guest improvisors such as clarinetist Lori Freedman and vocalist Christine Duncan.  \n\n\n\nDr. Kathryn Ladano has established herself as one of Canada’s foremost bass clarinetists. As a specialist of contemporary music and free improvisation\, Ladano is a dynamic soloist and in-demand collaborator. She is currently the Artistic Director of NUMUS concerts\, the Director of ICE (Improvisation Concerts Ensemble) and instructor of improvisation at Wilfrid Laurier University. Kathryn has released two solo albums\, “Open” (2010) and “Masked” (2019). \n\n\n\nTickets: \n\n\n\n$25 General Admission$5 with Valid Student ID \n\n\n\nAvailable at the door or in advance at openears.ca
URL:https://registrytheatre.com/event/counterstasis-trio-with-special-guest-kathryn-ladano/
CATEGORIES:Rental Events
ATTACH;FMTTYPE=image/png:https://registrytheatre.com/wp-content/uploads/2025/10/Counterstasis-Kathryn-Landano-v01-Bartlomiej-Pilarczyk-SnrxJd.png
END:VEVENT
END:VCALENDAR