BEGIN:VCALENDAR
VERSION:2.0
PRODID:-//The Registry Theatre - ECPv6.15.20//NONSGML v1.0//EN
CALSCALE:GREGORIAN
METHOD:PUBLISH
X-ORIGINAL-URL:https://registrytheatre.com
X-WR-CALDESC:Events for The Registry Theatre
REFRESH-INTERVAL;VALUE=DURATION:PT1H
X-Robots-Tag:noindex
X-PUBLISHED-TTL:PT1H
BEGIN:VTIMEZONE
TZID:America/Toronto
BEGIN:DAYLIGHT
TZOFFSETFROM:-0500
TZOFFSETTO:-0400
TZNAME:EDT
DTSTART:20220313T070000
END:DAYLIGHT
BEGIN:STANDARD
TZOFFSETFROM:-0400
TZOFFSETTO:-0500
TZNAME:EST
DTSTART:20221106T060000
END:STANDARD
BEGIN:DAYLIGHT
TZOFFSETFROM:-0500
TZOFFSETTO:-0400
TZNAME:EDT
DTSTART:20230312T070000
END:DAYLIGHT
BEGIN:STANDARD
TZOFFSETFROM:-0400
TZOFFSETTO:-0500
TZNAME:EST
DTSTART:20231105T060000
END:STANDARD
BEGIN:DAYLIGHT
TZOFFSETFROM:-0500
TZOFFSETTO:-0400
TZNAME:EDT
DTSTART:20240310T070000
END:DAYLIGHT
BEGIN:STANDARD
TZOFFSETFROM:-0400
TZOFFSETTO:-0500
TZNAME:EST
DTSTART:20241103T060000
END:STANDARD
END:VTIMEZONE
BEGIN:VEVENT
DTSTART;TZID=America/Toronto:20230524T193000
DTEND;TZID=America/Toronto:20230524T220000
DTSTAMP:20260423T114806
CREATED:20251029T160722Z
LAST-MODIFIED:20251029T160722Z
UID:10000780-1684956600-1684965600@registrytheatre.com
SUMMARY:Over The Moon’s Chinook Waltz Tour
DESCRIPTION:Presented by Over The Moon\n\n\n\n\n\n\n\n\n\n\n\n \n\n\n\nAlberta’s JUNO nominated roots/swing duo “Over The Moon” are totally immersed in real cowboy country. Their music is a wild ride from 40’s western swing and Appalachian old time\, to cowboy blues\, all featuring their meant-to-be vocals and multiple acoustic instruments. Simple and sweet\, their music speaks of the Canadian west.  \n\n\n\nThey will be joined by Paul Chapman on acoustic guitar\, Burke Caroll on pedal steel and dobro and Rob Asselstien on piano and accordion. Also opening the show will be Kitchener’s own Paul Schultz! \n\n\n\n\n\nDoors open: 7:00pm \n\n\n\nTickets: $25 + GST \n\n\n\n\n\n \n\n\n\n \n\n\n\nPresented by:
URL:https://registrytheatre.com/event/over-the-moons-chinook-waltz-tour/
CATEGORIES:Rental Events
ATTACH;FMTTYPE=image/jpeg:https://registrytheatre.com/wp-content/uploads/2025/10/osac2019-169oldsepia-Operations-Manager-nydJTL.jpg
END:VEVENT
BEGIN:VEVENT
DTSTART;TZID=America/Toronto:20230525T200000
DTEND;TZID=America/Toronto:20230525T200000
DTSTAMP:20260423T114806
CREATED:20251029T160722Z
LAST-MODIFIED:20251029T160722Z
UID:10000778-1685044800-1685044800@registrytheatre.com
SUMMARY:THE BEGGARS BANQUET: A Rolling Stones Songbook
DESCRIPTION:Celebrate\, dance\, and enjoy! – The Music of The Rolling Stones with the band\, The Beggars Banquet\, and special guests at the Registry Theatre! The Beggars Banquet blokes are tuned up and ready to get “Right back at it!” The Beggars Banquet is one of the best Rolling Stones Revues around – as their audiences have said over the years\, “Close your eyes\, and you can’t tell the difference.” The front line of this powerfully accurate revue consists of bandleader and world-renowned guitar player – Mike ‘Mudfoot’ McDonald\, as KEEF “Keith Richards.” Beggars Banquet’s lead vocalist is one of North America’s premier interpreters of the vocal styling of legendary Mick Jagger. He has earned a solid reputation as a singer and performer. He has entertained thousands on countless stages for nearly 35 years and has devoted himself exclusively to portraying the legendary Rolling Stones frontman. Channelling the complete essence of the Rolling Stones Frontman – Glenn Pelletier\, as your “Mick Jagger.” \n\n\n\nDoors open at 7PM \n\n\n\n19+ this event is licensed. \n\n\n\n\n\nTickets: $28.25 \n\n\n\n\n\n \n\n\n\nPresented by:
URL:https://registrytheatre.com/event/the-beggars-banquet-a-rolling-stones-songbook/
CATEGORIES:Rental Events
END:VEVENT
BEGIN:VEVENT
DTSTART;TZID=America/Toronto:20230527T100000
DTEND;TZID=America/Toronto:20230527T120000
DTSTAMP:20260423T114806
CREATED:20251029T160722Z
LAST-MODIFIED:20251029T160722Z
UID:10000776-1685181600-1685188800@registrytheatre.com
SUMMARY:Live from The Registry! It's Saturday Morning!
DESCRIPTION:Do you love Working Moms\, Baroness Von Sketch and Kids in the Hall? \n\n\n\nDo you want to explore script writing with other funny people\, like we do? \n\n\n\nThen put on your big funny pants (not really)\, wait…yes please wear pants\, all the pants! And join us! \n\n\n\nPlayground: Comedy Collective Edition! \n\n\n\nWhen: Saturday May 27th\, 2023 10am – 12pm \n\n\n\nWhere: The Registry Theatre (122 Frederick Street Kitchener) \n\n\n\nIn this newly envisioned relaunch of Playground we are focusing on the craft of writing comedy scripts. Our goal is to create a safe space to be creative with like-minded\, comedy obsessed people and get the feel for what a writers room is like\, how to write collectively and make funny happen! \n\n\n\nWanna laugh your pants off? (seriously keep them on!) \n\n\n\nEmail us at : canadiancomedycollective@gmail.com \n\n\n\nPlease connect with us by: Sunday May 14th\, 2023 (as space is limited)
URL:https://registrytheatre.com/event/live-from-the-registry-its-saturday-morning/
ATTACH;FMTTYPE=image/png:https://registrytheatre.com/wp-content/uploads/2025/10/Image-Playground-2023-oNTWUA.png
END:VEVENT
BEGIN:VEVENT
DTSTART;TZID=America/Toronto:20230527T193000
DTEND;TZID=America/Toronto:20230527T193000
DTSTAMP:20260423T114806
CREATED:20251029T160722Z
LAST-MODIFIED:20251029T160722Z
UID:10000775-1685215800-1685215800@registrytheatre.com
SUMMARY:Onion Honey Album Release Concert
DESCRIPTION:Kitchener’s favourite local old-time folk band are excited to release their new original album\, Foul Weather Friends! They’ll be performing the songs from the album as well as gospel singalongs\, classic country and old-time covers\, and vintage Onion Honey favourites. \n\n\n\nMasks highly encouraged! \n\n\n\n\n\n$20 with album included or PWYC \n\n\n\n\n\n \n\n\n\nPresented by:
URL:https://registrytheatre.com/event/onion-honey-album-release-concert/
CATEGORIES:Rental Events
ATTACH;FMTTYPE=image/jpeg:https://registrytheatre.com/wp-content/uploads/2025/10/https-__cdn.evbuc_.com_images_475721379_1463220845493_1_original-Esther-Wheaton-fDXfF2.jpg
END:VEVENT
END:VCALENDAR