BEGIN:VCALENDAR
VERSION:2.0
PRODID:-//The Registry Theatre - ECPv6.15.20//NONSGML v1.0//EN
CALSCALE:GREGORIAN
METHOD:PUBLISH
X-ORIGINAL-URL:https://registrytheatre.com
X-WR-CALDESC:Events for The Registry Theatre
REFRESH-INTERVAL;VALUE=DURATION:PT1H
X-Robots-Tag:noindex
X-PUBLISHED-TTL:PT1H
BEGIN:VTIMEZONE
TZID:America/Toronto
BEGIN:DAYLIGHT
TZOFFSETFROM:-0500
TZOFFSETTO:-0400
TZNAME:EDT
DTSTART:20250309T070000
END:DAYLIGHT
BEGIN:STANDARD
TZOFFSETFROM:-0400
TZOFFSETTO:-0500
TZNAME:EST
DTSTART:20251102T060000
END:STANDARD
BEGIN:DAYLIGHT
TZOFFSETFROM:-0500
TZOFFSETTO:-0400
TZNAME:EDT
DTSTART:20260308T070000
END:DAYLIGHT
BEGIN:STANDARD
TZOFFSETFROM:-0400
TZOFFSETTO:-0500
TZNAME:EST
DTSTART:20261101T060000
END:STANDARD
BEGIN:DAYLIGHT
TZOFFSETFROM:-0500
TZOFFSETTO:-0400
TZNAME:EDT
DTSTART:20270314T070000
END:DAYLIGHT
BEGIN:STANDARD
TZOFFSETFROM:-0400
TZOFFSETTO:-0500
TZNAME:EST
DTSTART:20271107T060000
END:STANDARD
END:VTIMEZONE
BEGIN:VEVENT
DTSTART;TZID=America/Toronto:20260423T193000
DTEND;TZID=America/Toronto:20260423T213000
DTSTAMP:20260421T085537
CREATED:20260302T164854Z
LAST-MODIFIED:20260302T164856Z
UID:10001067-1776972600-1776979800@registrytheatre.com
SUMMARY:THAT 70's ROCK SHOW
DESCRIPTION:Presented by Kevin O’Donnell \n\n\n\n\n\n\n\n\n\nA Tribute to the greatest decade in Rock Music \n\n\n\n$30.00 plus fees\, online\, or $35 at the door\, \n\n\n\n\n\nPresented by:
URL:https://registrytheatre.com/event/that-70s-rock-show-2/
LOCATION:The Registry Theatre\, 122 Frederick Street\, Kitchener\, ON\, N2H 2L9\, Canada
CATEGORIES:Rental Events
ATTACH;FMTTYPE=image/png:https://registrytheatre.com/wp-content/uploads/2026/02/unnamed-3.png
ORGANIZER;CN="Kevin O'Donnell":MAILTO:info@that70srockshow.com
END:VEVENT
BEGIN:VEVENT
DTSTART;TZID=America/Toronto:20260424T190000
DTEND;TZID=America/Toronto:20260424T203000
DTSTAMP:20260421T085537
CREATED:20260312T144602Z
LAST-MODIFIED:20260415T170345Z
UID:10001073-1777057200-1777062600@registrytheatre.com
SUMMARY:HEARING HACKS
DESCRIPTION:Presented by The Registry Theatre in partnership with Listen Up!Produced by Unwrap Theatre\n\n\n\n\n\n\n\n\n\nThe Sound Within’s companion workshop\, Hearing Hacks\, is a welcoming\, hands-on space for musicians who are hard of hearing\, as well as collaborators\, teachers\, and curious community members. \n\n\n\nOver coffee and conversation\, participants connect through shared lived experience and learn directly from Listen Up! speakers\, including Michèle\, an audiologist who is also a professional acoustical engineer\, and a professional sound engineer. Together\, they explore practical\, accessible sound solutions like microphones\, monitors\, speaker placement\, and in-ear monitor (IEM) setups\, and test them in real musical contexts from rehearsal to ensemble playing to audience listening. \n\n\n\nThe goal is to build community and to identify affordable\, adaptable tools that make music more accessible without requiring musicians to abandon their artistry or identity. \n\n\n\nMade possible from a grant via Creative Connector. \n\n\n\n\n\nFor event information\, please contact:
URL:https://registrytheatre.com/event/hearing-hacks/
CATEGORIES:Registry Presents Events
ATTACH;FMTTYPE=image/jpeg:https://registrytheatre.com/wp-content/uploads/2026/03/Copy-of-Listen-Up_Unwrap-Theatre_C1-21-scaled-1.jpg
ORGANIZER;CN="The Registry Theatre Presents":MAILTO:info@registrytheatre.com
END:VEVENT
BEGIN:VEVENT
DTSTART;TZID=America/Toronto:20260425T150000
DTEND;TZID=America/Toronto:20260425T170000
DTSTAMP:20260421T085537
CREATED:20260226T215800Z
LAST-MODIFIED:20260310T170731Z
UID:10001066-1777129200-1777136400@registrytheatre.com
SUMMARY:THE SOUND WITHIN
DESCRIPTION:Presented by The Registry Theatre in partnership with Listen Up!Produced by Unwrap Theatre\n\n\n\n\n\n\n\n\n\nA concert celebrating hearing\, music\, and staying true to you.By Michèle Wilmot \n\n\n\nPart of the Listen Up! initiative\, The Sound Within concert celebrates staying true to yourself in the face of challenges. Pianist Michèle Wilmot shares her journey with hearing loss\, exploring how it shaped her music and inspired her groundbreaking research into how musicians hear\, perform\, and collaborate. This dynamic concert blends solo and ensemble performances\, storytelling\, and innovative sound experiments\, revealing the resilience\, creativity\, and joy that come from embracing your unique self. Discover how Michèle continues to navigate life as a Hard of Hearing pianist\, staying true to her art\, and inspiring audiences. Included is a glimpse of the Hearing Hacks workshop\, where her research meets practical solutions. \n\n\n\nTickets: $28 \n\n\n\n\n\nFor event information\, please contact:
URL:https://registrytheatre.com/event/the-sound-within/
CATEGORIES:Registry Presents Events
ATTACH;FMTTYPE=image/png:https://registrytheatre.com/wp-content/uploads/2026/02/RT_SoundWithin4.png
ORGANIZER;CN="The Registry Theatre Presents":MAILTO:info@registrytheatre.com
END:VEVENT
END:VCALENDAR