BEGIN:VCALENDAR
VERSION:2.0
PRODID:-//The Registry Theatre - ECPv6.15.20//NONSGML v1.0//EN
CALSCALE:GREGORIAN
METHOD:PUBLISH
X-WR-CALNAME:The Registry Theatre
X-ORIGINAL-URL:https://registrytheatre.com
X-WR-CALDESC:Events for The Registry Theatre
REFRESH-INTERVAL;VALUE=DURATION:PT1H
X-Robots-Tag:noindex
X-PUBLISHED-TTL:PT1H
BEGIN:VTIMEZONE
TZID:America/Toronto
BEGIN:DAYLIGHT
TZOFFSETFROM:-0500
TZOFFSETTO:-0400
TZNAME:EDT
DTSTART:20240310T070000
END:DAYLIGHT
BEGIN:STANDARD
TZOFFSETFROM:-0400
TZOFFSETTO:-0500
TZNAME:EST
DTSTART:20241103T060000
END:STANDARD
BEGIN:DAYLIGHT
TZOFFSETFROM:-0500
TZOFFSETTO:-0400
TZNAME:EDT
DTSTART:20250309T070000
END:DAYLIGHT
BEGIN:STANDARD
TZOFFSETFROM:-0400
TZOFFSETTO:-0500
TZNAME:EST
DTSTART:20251102T060000
END:STANDARD
BEGIN:DAYLIGHT
TZOFFSETFROM:-0500
TZOFFSETTO:-0400
TZNAME:EDT
DTSTART:20260308T070000
END:DAYLIGHT
BEGIN:STANDARD
TZOFFSETFROM:-0400
TZOFFSETTO:-0500
TZNAME:EST
DTSTART:20261101T060000
END:STANDARD
END:VTIMEZONE
BEGIN:VEVENT
DTSTART;TZID=America/Toronto:20250605T190000
DTEND;TZID=America/Toronto:20250605T210000
DTSTAMP:20260419T080810
CREATED:20251029T185504Z
LAST-MODIFIED:20251029T185504Z
UID:10000944-1749150000-1749157200@registrytheatre.com
SUMMARY:MIXTAPE
DESCRIPTION:Presented by Mixology A Cappella Chorus \n\n\n\n\n\n\n\n\n\nMixology A Cappella presents MIXTAPE! An evening of our favourite songs (from jazz to pop to showtunes and more!)\, sung for our favourite people at our favourite theatre. \n\n\n\n$29 General Admission; $39 VIP \n\n\n\n\n\nWho to contact for event info and inquiries:
URL:https://registrytheatre.com/event/mixtape/
CATEGORIES:Rental Events
ATTACH;FMTTYPE=image/jpeg:https://registrytheatre.com/wp-content/uploads/2025/10/0-1-Erin-Cooper-e1748272036626-LfR9XX.jpg
END:VEVENT
BEGIN:VEVENT
DTSTART;TZID=America/Toronto:20250606T183000
DTEND;TZID=America/Toronto:20250606T203000
DTSTAMP:20260419T080810
CREATED:20251029T185504Z
LAST-MODIFIED:20251029T185504Z
UID:10000945-1749234600-1749241800@registrytheatre.com
SUMMARY:WILD WILD WEST
DESCRIPTION:Presented by Our Studio \n\n\n\n\n\n\n\n\n\nJoin us for an evening at the Will Will West; A collection of country numbers by Our Studio!All ages \n\n\n\nTickets: $20 at the door
URL:https://registrytheatre.com/event/wild-wild-west/
CATEGORIES:Rental Events
ATTACH;FMTTYPE=image/jpeg:https://registrytheatre.com/wp-content/uploads/2025/10/Wild-Wild-West-Operations-Manager-scaled-kdKMUS.jpg
END:VEVENT
BEGIN:VEVENT
DTSTART;TZID=America/Toronto:20250615T150000
DTEND;TZID=America/Toronto:20250615T170000
DTSTAMP:20260419T080810
CREATED:20251029T185504Z
LAST-MODIFIED:20251101T161641Z
UID:10000941-1749999600-1750006800@registrytheatre.com
SUMMARY:HEATHER TAVES
DESCRIPTION:Classics @ The Registry and the KW Chamber Music Society\n\n\n\n\n\n\n\n\n\n\n\n\n\nMs. Taves’ final concert in her complete Beethoven Piano Sonata Cycle. Part 8 including Les Adieux \n\n\n\nTickets: $30 General Admission\, $10 Student \n\n\n\n\n\n \n\n\n\nWho to contact for event info and inquiries:\n\n\n\n\n\nSeries Sponsor:
URL:https://registrytheatre.com/event/heather-taves-3/
CATEGORIES:Classics,Registry Presents Events
END:VEVENT
BEGIN:VEVENT
DTSTART;TZID=America/Toronto:20250621T193000
DTEND;TZID=America/Toronto:20250621T213000
DTSTAMP:20260419T080810
CREATED:20251029T185504Z
LAST-MODIFIED:20251029T185504Z
UID:10000946-1750534200-1750541400@registrytheatre.com
SUMMARY:Improv-a-llama!
DESCRIPTION:Presented by TriCity Improv \n\n\n\n\n\n\n\n\n\nGet ready for the improv comedy event of the year! Improv-a-llama is a show featuring four local improv groups sharing the stage to bring you a full night of spontaneous comedy.  \n\n\n\nThis huge\, fast-paced show is like nothing you’ve ever seen before! It features improv sets from TriCity Improv\, After School Arcade\, Culturally Irrelevant and Thanks for Laughing\, followed by a grand finale that includes everyone. Each group has their own style and their own vibe\, and between them they guarantee an evening of good\, solid entertainment.  \n\n\n\nThe show will take place at The Registry Theatre in beautiful downtown Kitchener\, on Saturday June 21st. Doors open at 7\, and the show starts promptly at 7:30.  \n\n\n\nTickets are just $15 at the door\, but if you want to be sure of getting a spot we recommend you book on EventBrite (improvallama.eventbrite.ca) You definitely don’t want to miss this show! \n\n\n\n\n\nWho to contact for event info and inquiries:
URL:https://registrytheatre.com/event/improv-a-llama/
CATEGORIES:Rental Events
END:VEVENT
END:VCALENDAR