BEGIN:VCALENDAR
VERSION:2.0
PRODID:-//The Registry Theatre - ECPv6.15.20//NONSGML v1.0//EN
CALSCALE:GREGORIAN
METHOD:PUBLISH
X-ORIGINAL-URL:https://registrytheatre.com
X-WR-CALDESC:Events for The Registry Theatre
REFRESH-INTERVAL;VALUE=DURATION:PT1H
X-Robots-Tag:noindex
X-PUBLISHED-TTL:PT1H
BEGIN:VTIMEZONE
TZID:America/Toronto
BEGIN:DAYLIGHT
TZOFFSETFROM:-0500
TZOFFSETTO:-0400
TZNAME:EDT
DTSTART:20240310T070000
END:DAYLIGHT
BEGIN:STANDARD
TZOFFSETFROM:-0400
TZOFFSETTO:-0500
TZNAME:EST
DTSTART:20241103T060000
END:STANDARD
BEGIN:DAYLIGHT
TZOFFSETFROM:-0500
TZOFFSETTO:-0400
TZNAME:EDT
DTSTART:20250309T070000
END:DAYLIGHT
BEGIN:STANDARD
TZOFFSETFROM:-0400
TZOFFSETTO:-0500
TZNAME:EST
DTSTART:20251102T060000
END:STANDARD
BEGIN:DAYLIGHT
TZOFFSETFROM:-0500
TZOFFSETTO:-0400
TZNAME:EDT
DTSTART:20260308T070000
END:DAYLIGHT
BEGIN:STANDARD
TZOFFSETFROM:-0400
TZOFFSETTO:-0500
TZNAME:EST
DTSTART:20261101T060000
END:STANDARD
END:VTIMEZONE
BEGIN:VEVENT
DTSTART;TZID=America/Toronto:20250501T200000
DTEND;TZID=America/Toronto:20250501T220000
DTSTAMP:20260419T093511
CREATED:20240828T133304Z
LAST-MODIFIED:20251103T184508Z
UID:10000616-1746129600-1746136800@registrytheatre.com
SUMMARY:DANNY MICHEL
DESCRIPTION:Homegrown @ The Registry\n\n\n\n\n\n\n\n\n\n\n\nUp Close and Intimate\n\n\n\n\n\nMulti JUNO Award\, and Polaris Prize nominee\, Danny is one of Canada’s finest songwriters. With his unique human touch\, he is a musical chameleon\, adventurous and unbounded\, carefree and fearless. Be there and feel it live. \n\n\n\nTickets: $40  \n\n\n\nPLEASE NOTE: BOTH CONCERTS ARE NOW SOLD OUT (MAY 1 & 2) \n\n\n\n\n\n \n\n\n\nSeries Sponsor:\n\n\n\n\n\n\n\nWho to contact for event info and inquiries:
URL:https://registrytheatre.com/event/danny-michel/
CATEGORIES:Homegrown,Registry Presents Events
ATTACH;FMTTYPE=image/jpeg:https://registrytheatre.com/wp-content/uploads/2025/10/Danny-Michel-Home-Grown-24-25-p43BC3.jpg
ORGANIZER;CN="The Registry Theatre Presents":MAILTO:info@registrytheatre.com
END:VEVENT
BEGIN:VEVENT
DTSTART;TZID=America/Toronto:20250503T200000
DTEND;TZID=America/Toronto:20250503T220000
DTSTAMP:20260419T093511
CREATED:20230908T110400Z
LAST-MODIFIED:20251103T185051Z
UID:10000519-1746302400-1746309600@registrytheatre.com
SUMMARY:MARY CATHERINE PAZZANO
DESCRIPTION:One Night Only @ The Registry\n\n\n\n\n\n\n\n\n\n\n\nThe Divine One at One Hundred: Honouring Sarah Vaughan\n\n\n\n\n\nFrom her landmark Registry centennial concerts of Leonard Bernstein\, Doris Day\, and Judy Garland\, MC brings her vocal talents to celebrate Sarah Vaughan. So celebrated in her time\, she was known as The Divine One. \n\n\n\nTickets: $35 \n\n\n\n\n\n\n\n\n\nSeries Sponsor:\n\n\n\n\n\n\n\nWho to contact for event info and inquiries:\n\n\n\n\n\nSeries Sponsor:\n\n\n\nEquitable Life of Canada
URL:https://registrytheatre.com/event/mary-catherine-pazzano-2/
CATEGORIES:One Night Only,Registry Presents Events
ORGANIZER;CN="The Registry Theatre Presents":MAILTO:info@registrytheatre.com
END:VEVENT
BEGIN:VEVENT
DTSTART;TZID=America/Toronto:20250504T150000
DTEND;TZID=America/Toronto:20250504T170000
DTSTAMP:20260419T093511
CREATED:20240827T170832Z
LAST-MODIFIED:20251101T161641Z
UID:10000500-1746370800-1746378000@registrytheatre.com
SUMMARY:Mappa Mundi - Map of the World
DESCRIPTION:Classics @ The Registry and the KW Chamber Music Society\n\n\n\n\n\n\n\n\n\n\n\nCANADIAN GUITAR QUARTET\n\n\n\n\n\nCanada’s internationally renowned foursome perform from their latest album\, Mappa Mundi. Beautiful music by Bach\, Mozart\, Luiz Bonfa\, Antônio Carlos Jobim\, Isak Roux\, Renaud Côté-Giguère\, and Olga Amelkina-Vera. \n\n\n\nTickets: $30 General Admission\, $10 Student \n\n\n\n\n\n \n\n\n\nWho to contact for event info and inquiries:\n\n\n\n\n\nSeries Sponsor:
URL:https://registrytheatre.com/event/mappa-mundi/
CATEGORIES:Classics,Registry Presents Events
ATTACH;FMTTYPE=image/jpeg:https://registrytheatre.com/wp-content/uploads/2025/10/Canadian-Guitar-Quartet2-24-25-Classics-scaled-BdPeQx.jpg
ORGANIZER;CN="The Registry Theatre Presents":MAILTO:info@registrytheatre.com
END:VEVENT
BEGIN:VEVENT
DTSTART;TZID=America/Toronto:20250506T193000
DTEND;TZID=America/Toronto:20250506T210000
DTSTAMP:20260419T093511
CREATED:20241217T200656Z
LAST-MODIFIED:20251029T183122Z
UID:10000580-1746559800-1746565200@registrytheatre.com
SUMMARY:Green Gables Singalong Fundraiser
DESCRIPTION:Presented by Green Gables Ukuleles and Friends\n\n\n\nJoin Green Gables Ukuleles & Friends for their third community singalong/playalong to raise funds for the Registry Theatre.  The setlist includes songs by Peter Paul & Mary\, the Beatles\, Herman’s Hermits\, The Carpenters\, Tom Jones\, Anne Murray\, Gordon Lightfoot\, and many more.  Lyrics and chords will be displayed on a screen behind the group to make it easy to participate\, and of course you can simply bask in the community joy. \n\n\n\n\n\nTickets: Pay what you can
URL:https://registrytheatre.com/event/green-gables-singalong-fundraiser-3/
LOCATION:The Registry Theatre\, 122 Frederick Street\, Kitchener\, ON\, N2H 2L9\, Canada
CATEGORIES:Registry Presents Events
ORGANIZER;CN="Green Gables Ukuleles & Friends":MAILTO:len@musicatgreengables.com
END:VEVENT
BEGIN:VEVENT
DTSTART;TZID=America/Toronto:20250508T193000
DTEND;TZID=America/Toronto:20250508T220000
DTSTAMP:20260419T093511
CREATED:20240823T180636Z
LAST-MODIFIED:20251103T185124Z
UID:10000644-1746732600-1746741600@registrytheatre.com
SUMMARY:Sasha Tease & The Bombshell Babes Vol. 2
DESCRIPTION:Theatre @ The Registry\n\n\n\n\n\n\n\n\n\nA smokin’ hot drag show hosted by Sasha Tease and featuring some of Waterloo Region’s best drag artists. Not a show to miss! \n\n\n\nPlease Note: This show is recommended for audiences 18+. \n\n\n\nDoors at 7 pm. Show at 7:30 pm. \n\n\n\nTickets: $25 \n\n\n\n\n\n\n\n\n\nBar Service Provided by:
URL:https://registrytheatre.com/event/sasha-tease-the-bombshell-babes-2/
CATEGORIES:Theatre
ATTACH;FMTTYPE=image/jpeg:https://registrytheatre.com/wp-content/uploads/2025/10/Image-79-scaled-lMK25d.jpg
ORGANIZER;CN="The Registry Theatre Presents":MAILTO:info@registrytheatre.com
END:VEVENT
BEGIN:VEVENT
DTSTART;TZID=America/Toronto:20250509T200000
DTEND;TZID=America/Toronto:20250509T220000
DTSTAMP:20260419T093511
CREATED:20240828T133304Z
LAST-MODIFIED:20251103T184508Z
UID:10000504-1746820800-1746828000@registrytheatre.com
SUMMARY:DAN BEACOCK & LOCAL HEROES
DESCRIPTION:Homegrown @ The Registry\n\n\n\n\n\n\n\n\n\n\n\nCanadian Guitar Heroes \n\n\n\n\n\nMaster of any genre\, Dan’s superlative guitar and great vocals pay homage to some of Canada’s greats\, from Gordon Lightfoot and Rush’s Alex Lifeson\, to David Wilcox\, Frank Marino\, and national treasure Randy Bachman. Also featuring legendary guitar music from the Tragically Hip\, Domenic Troiano\, Sloan\, Our Lady Peace\, Max Webster\, and many others! \n\n\n\nNote: This event was originally set for March 21 but has been rescheduled. \n\n\n\nTickets: $30 \n\n\n\n\n\nSeries Sponsor:\n\n\n\n\n\n\n\nWho to contact for event info and inquiries:
URL:https://registrytheatre.com/event/dan-beacock-2/
CATEGORIES:Homegrown,Registry Presents Events
ATTACH;FMTTYPE=image/jpeg:https://registrytheatre.com/wp-content/uploads/2025/10/Dan-Beacock-Home-Grown-24-25-2vbWXS.jpg
ORGANIZER;CN="The Registry Theatre Presents":MAILTO:info@registrytheatre.com
END:VEVENT
BEGIN:VEVENT
DTSTART;TZID=America/Toronto:20250513T190000
DTEND;TZID=America/Toronto:20250513T210000
DTSTAMP:20260419T093511
CREATED:20250327T144632Z
LAST-MODIFIED:20251029T185503Z
UID:10000648-1747162800-1747170000@registrytheatre.com
SUMMARY:THAT 70's ROCK SHOW
DESCRIPTION:Presented by Kevin O’Donnell \n\n\n\n\n\n\n\n\n\nCelebrating the greatest decade in Rock Music.Join us for a fabulous evening of 70’s Classic Rock Music \n\n\n\n$30.00 plus fees\, available online and at the door\,
URL:https://registrytheatre.com/event/that-70s-rock-show/
LOCATION:The Registry Theatre\, 122 Frederick Street\, Kitchener\, ON\, N2H 2L9\, Canada
CATEGORIES:Rental Events
ATTACH;FMTTYPE=image/png:https://registrytheatre.com/wp-content/uploads/2025/03/That70s.png
ORGANIZER;CN="Kevin O'Donnell":MAILTO:knodonnell53@gmail.com
END:VEVENT
BEGIN:VEVENT
DTSTART;TZID=America/Toronto:20250516T190000
DTEND;TZID=America/Toronto:20250516T210000
DTSTAMP:20260419T093511
CREATED:20251029T185504Z
LAST-MODIFIED:20251029T185504Z
UID:10000943-1747422000-1747429200@registrytheatre.com
SUMMARY:PUFFS or Seven Eventful Years at a Certain School of Magic and Magic
DESCRIPTION:Presented by Playful Fox Productions \n\n\n\n\n\n\n\n\n\nPlayful Fox Productions is heading to a certain school of magic and magic this May as we present to you: \n\n\n\nPUFFS or Seven Eventful Years at a Certain School of Magic and Magic \n\n\n\nFor seven years a certain boy wizard went to a certain Wizard School and conquered evil. This\, however\, is not his story. This is the story of the Puffs… who just happened to be there too. \n\n\n\nA fun\, ridiculous\, and hilariously heartfelt parody that all Potterheads will love\, from the perspective of very unlikely protagonists – three potential heroes just trying to make it through a magic school that proves to be very dangerous for children. \n\n\n\nAlongside them are the Puffs\, a group of well-meaning\, loyal outsiders with a thing for badgers “who are so lovable and relatable\, you’ll leave the theater wishing they were in the stories all along” (Hollywood Life). Their “hilariously heartfelt!” (Metro) and epic journey takes the classic story to new places and reimagines what a boy wizard hero can be. \n\n\n\nPerformances will include some foul language and minor sexual innuendo/adult themes\, so parental discretion is strongly advised. \n\n\n\nFor the older witches and wizards\, if you’re in the mood for some adult humour\, you’ll love PUFFS. \n\n\n\nPUFFS is proudly sponsored by: The Little Red Cottage \n\n\n\nPlease note: PUFFS is licensed through special arrangement by Samuel French Inc & Concord Theatricals. \n\n\n\nPUFFS is not authorized\, sanctioned\, licensed or endorsed by “She who must not be named” (AKA J.K Rowling)\, Warner Bros. or any person or company associated with the Harry Potter books\, films or play. \n\n\n\n$35.20 general admission\, available online and at the door\,
URL:https://registrytheatre.com/event/puffs-or-seven-eventful-years-at-a-certain-school-of-magic-and-magic/
CATEGORIES:Rental Events
END:VEVENT
BEGIN:VEVENT
DTSTART;TZID=America/Toronto:20250521T193000
DTEND;TZID=America/Toronto:20250521T210000
DTSTAMP:20260419T093511
CREATED:20220916T133600Z
LAST-MODIFIED:20251103T184414Z
UID:10000522-1747855800-1747861200@registrytheatre.com
SUMMARY:Kiss the Stormy Sky
DESCRIPTION:Dance @ The Registry\n\n\n\n\n\n\n\n\n\nCreated and performed by Sid Ryan Eilers in a personal story of ancestry and identity through the ages. Eilers plays family members from the 18th century to the Russian revolution\, from Nazi Germany\, to present day #MeToo. \n\n\n\nTickets:$25 General Admission$15 Students/Seniors \n\n\n\n\n\n\n\n\n\nSeries Sponsor:\n\n\n\n\n\n\n\nFunding Support From:
URL:https://registrytheatre.com/event/kiss-the-stormy-sky/
LOCATION:The Registry Theatre\, 122 Frederick Street\, Kitchener\, ON\, N2H 2L9\, Canada
CATEGORIES:Dance
ATTACH;FMTTYPE=image/jpeg:https://registrytheatre.com/wp-content/uploads/2025/10/Kiss-The-Stormy-Sky-05-photo-Marlowe-PorterV2-hwkoxG.jpg
ORGANIZER;CN="The Registry Theatre Presents":MAILTO:info@registrytheatre.com
END:VEVENT
BEGIN:VEVENT
DTSTART;TZID=America/Toronto:20250523T200000
DTEND;TZID=America/Toronto:20250523T220000
DTSTAMP:20260419T093511
CREATED:20230908T110400Z
LAST-MODIFIED:20251103T185051Z
UID:10000520-1748030400-1748037600@registrytheatre.com
SUMMARY:KRUGER BROTHERS
DESCRIPTION:One Night Only @ The Registry\n\n\n\n\n\n\n\n\n\n\n\nBluegrass\, Americana\, and Beyond\n\n\n\n\n\nFrom Switzerland to North Carolina\, the Krugers are one of America’s foremost bluegrass groups. Music steeped in the traditional repertoire\, including their tribute to Doc Watson\, and their own classically influenced originals\, make the Krugers unique in the world of Americana.Special guest\, mandolin sensation Jonah Horton. \n\n\n\nTickets: $50 \n\n\n\n\n\n\n\n\n\nSeries Sponsor:\n\n\n\n\n\n\n\nWho to contact for event info and inquiries:\n\n\n\n\n\nSeries Sponsor:\n\n\n\nEquitable Life of Canada
URL:https://registrytheatre.com/event/kruger-brothers/
CATEGORIES:One Night Only,Registry Presents Events
ATTACH;FMTTYPE=image/webp:https://registrytheatre.com/wp-content/uploads/2025/10/Kruger-Brothers-Jonah-Horton-dqTqjk.webp
ORGANIZER;CN="The Registry Theatre Presents":MAILTO:info@registrytheatre.com
END:VEVENT
BEGIN:VEVENT
DTSTART;TZID=America/Toronto:20250524T150000
DTEND;TZID=America/Toronto:20250524T170000
DTSTAMP:20260419T093511
CREATED:20251029T172149Z
LAST-MODIFIED:20251101T161852Z
UID:10000916-1748098800-1748106000@registrytheatre.com
SUMMARY:LONDON’S BADDEST BIG BAND
DESCRIPTION:Jazz @ The Registry\n\n\n\nPart of the Spring Big Band Jazz Weekend\n\n\n\n\n\n\n\n\n\nTrombonist Seth McNall leads the BBB with a whose who of London\, Ontario’s jazz scene. They will present eclectic big band renditions of Mozart\, Greig and other classics. \n\n\n\n \n\n\n\nTickets: $40Special Offer: Buy Tickets to two shows in the Spring Big Band Jazz Weekend for $65\, or all three shows for $90! \n\n\n\n\n\n \n\n\n\nPresented with support from: \n\n\n\n\n\n\n\nWho to contact for event info and inquiries:
URL:https://registrytheatre.com/event/londons-baddest-big-band-2/
CATEGORIES:Jazz,Registry Presents Events
END:VEVENT
BEGIN:VEVENT
DTSTART;TZID=America/Toronto:20250524T200000
DTEND;TZID=America/Toronto:20250524T223000
DTSTAMP:20260419T093511
CREATED:20251029T183334Z
LAST-MODIFIED:20251101T161852Z
UID:10000939-1748116800-1748125800@registrytheatre.com
SUMMARY:HILARIO DURAN AND HIS LATIN JAZZ BIG BAND
DESCRIPTION:Jazz @ The Registry\n\n\n\nPart of the Spring Big Band Jazz Weekend\n\n\n\n\n\n\n\n\n\nJuno and Grammy Award-winning pianist\, composer\, arranger\, and musical director of remarkable virtuosity\, Hilario Durán\, is well recognized for his piano playing and composing skills. The music to be performed by this Orchestra blends milieus and motifs of the classic Cuban musical form\, American standards\, and the arrangement of the Frédéric Chopin composition Fantasia Impromptu. The music has been influenced by most of the traditional forms of Cuban music and the most modern contemporary harmonies. \n\n\n\n \n\n\n\nTickets: $40Special Offer: Buy Tickets to two shows in the Spring Big Band Jazz Weekend for $65\, or all three shows for $90! \n\n\n\n\n\n \n\n\n\nPresented with support from: \n\n\n\n\n\n\n\nWho to contact for event info and inquiries:
URL:https://registrytheatre.com/event/hilario-duran-and-his-latin-jazz-big-band/
CATEGORIES:Jazz,Registry Presents Events
ATTACH;FMTTYPE=image/jpeg:https://registrytheatre.com/wp-content/uploads/2025/10/HILARIO_DSC_2969-Cropped-scaled-mdxd2C.jpg
END:VEVENT
BEGIN:VEVENT
DTSTART;TZID=America/Toronto:20250525T150000
DTEND;TZID=America/Toronto:20250525T170000
DTSTAMP:20260419T093511
CREATED:20251029T172149Z
LAST-MODIFIED:20251101T161852Z
UID:10000917-1748185200-1748192400@registrytheatre.com
SUMMARY:KW BIG BAND THEORY
DESCRIPTION:Jazz @ The Registry\n\n\n\nPart of the Spring Big Band Jazz Weekend\n\n\n\n\n\n\n\n\n\nWaterloo Region’s finest jazz musicians with performances at the Waterloo Jazz Festival\, and The Registry\, and a live album with the great Canadian Don Thompson. Featuring original compositions and arrangements sure to thrill fans of big band music. \n\n\n\n \n\n\n\nTickets: $40Special Offer: Buy Tickets to two shows in the Spring Big Band Jazz Weekend for $65\, or all three shows for $90! \n\n\n\n\n\n \n\n\n\nPresented with support from: \n\n\n\n\n\n\n\nWho to contact for event info and inquiries:
URL:https://registrytheatre.com/event/kw-big-band-theory-2/
CATEGORIES:Jazz,Registry Presents Events
ATTACH;FMTTYPE=image/jpeg:https://registrytheatre.com/wp-content/uploads/2025/10/Big-Band-Theory3-Big-Band-Christmas-24-25-CJxNn9.jpg
END:VEVENT
BEGIN:VEVENT
DTSTART;TZID=America/Toronto:20250529T200000
DTEND;TZID=America/Toronto:20250529T220000
DTSTAMP:20260419T093511
CREATED:20250425T040231Z
LAST-MODIFIED:20251029T185504Z
UID:10000661-1748548800-1748556000@registrytheatre.com
SUMMARY:OPEN EARS 2025
DESCRIPTION:Open Ears presents an eclectic range of festival events from indie classical music to electroacoustic to sound installations. The festival explores the theme of integrating community through the use of unexpected musical settings. \n\n\n\nMay 29th: Null Point presents Relations\, not Blank Slates (performance) at 8pm May 31st: Piraran (performance) by Alejandro Briones at 4pm; performance by Erika Angell at 10pmJune 1st: Performance by Raphael Weinroth-Browne at 1pm \n\n\n\nTickets:$25 General Admission$5 with Valid Student ID \n\n\n\nTickets for each event will be available at the door up until the time of the event\, and will be available to purchase using cash or card (all cards accepted) via Square reader\, and in advance at openears.ca
URL:https://registrytheatre.com/event/open-ears-2025/
LOCATION:The Registry Theatre\, 122 Frederick Street\, Kitchener\, ON\, N2H 2L9\, Canada
CATEGORIES:Rental Events
ATTACH;FMTTYPE=image/jpeg:https://registrytheatre.com/wp-content/uploads/2025/04/Main-Graphic-General-Manager-scaled.jpg
ORGANIZER;CN="Open Ears Festival of Music and Sound":MAILTO:info@openears.ca
END:VEVENT
END:VCALENDAR