BEGIN:VCALENDAR
VERSION:2.0
PRODID:-//The Registry Theatre - ECPv6.15.20//NONSGML v1.0//EN
CALSCALE:GREGORIAN
METHOD:PUBLISH
X-ORIGINAL-URL:https://registrytheatre.com
X-WR-CALDESC:Events for The Registry Theatre
REFRESH-INTERVAL;VALUE=DURATION:PT1H
X-Robots-Tag:noindex
X-PUBLISHED-TTL:PT1H
BEGIN:VTIMEZONE
TZID:America/Toronto
BEGIN:DAYLIGHT
TZOFFSETFROM:-0500
TZOFFSETTO:-0400
TZNAME:EDT
DTSTART:20240310T070000
END:DAYLIGHT
BEGIN:STANDARD
TZOFFSETFROM:-0400
TZOFFSETTO:-0500
TZNAME:EST
DTSTART:20241103T060000
END:STANDARD
BEGIN:DAYLIGHT
TZOFFSETFROM:-0500
TZOFFSETTO:-0400
TZNAME:EDT
DTSTART:20250309T070000
END:DAYLIGHT
BEGIN:STANDARD
TZOFFSETFROM:-0400
TZOFFSETTO:-0500
TZNAME:EST
DTSTART:20251102T060000
END:STANDARD
BEGIN:DAYLIGHT
TZOFFSETFROM:-0500
TZOFFSETTO:-0400
TZNAME:EDT
DTSTART:20260308T070000
END:DAYLIGHT
BEGIN:STANDARD
TZOFFSETFROM:-0400
TZOFFSETTO:-0500
TZNAME:EST
DTSTART:20261101T060000
END:STANDARD
END:VTIMEZONE
BEGIN:VEVENT
DTSTART;TZID=America/Toronto:20250402T193000
DTEND;TZID=America/Toronto:20250402T220000
DTSTAMP:20260419T110343
CREATED:20240823T180636Z
LAST-MODIFIED:20251103T185124Z
UID:10000509-1743622200-1743631200@registrytheatre.com
SUMMARY:THIS IS THE STORY OF THE CHILD RULED BY FEAR
DESCRIPTION:Theatre @ The Registry\n\n\n\nPhoto by Mat Simpson\n\n\n\nStrange Victory Performance\n\n\n\n\n\nA play written and performed by David Gagnon Walker. The story of the rise and fall of an imaginary civilization in an imaginary land. A poetic fable about how to live with the slowly unfolding emergencies of our world. \n\n\n\n“I left the work with such a curious tenderness in my heart that lingered for days.” \n\n\n\n— Brian Paterson\, Vancouver \n\n\n\nTickets: $30\, $25 Students/Seniors \n\n\n\n\n\n\n\n\n\nPresented in Collaboration with:\n\n\n\n\n\n\n\n\n\nSupported by:
URL:https://registrytheatre.com/event/child-ruled-by-fear/
CATEGORIES:Theatre
ATTACH;FMTTYPE=image/jpeg:https://registrytheatre.com/wp-content/uploads/2025/10/This-is-the-Story-of-the-Child-Ruled-by-Fear-photo-Mat-Simpson-for-Theatre-at-The-Registry-eNmEpC.jpg
ORGANIZER;CN="The Registry Theatre Presents":MAILTO:info@registrytheatre.com
END:VEVENT
BEGIN:VEVENT
DTSTART;TZID=America/Toronto:20250403T193000
DTEND;TZID=America/Toronto:20250403T213000
DTSTAMP:20260419T110343
CREATED:20250331T184438Z
LAST-MODIFIED:20251029T185503Z
UID:10000649-1743708600-1743715800@registrytheatre.com
SUMMARY:FREEDOM & RELEASE
DESCRIPTION:Presented by IN.MOTION Dance School & Dust and Soul Dance Projects \n\n\n\n\n\n\n\nBridging pre professional and professional dance in the Waterloo region. Dance has the ability to make us feel alive\, inspired and deeply loved. Featuring performances by Tara Butler\, Willem Sadler & IMD’s aspiring artists. Choregraphy by Abby Pecora\, Karina Grzella\, Katie Lawless\, Kendra McAnuff and more. \n\n\n\n\n\nTickets: $20
URL:https://registrytheatre.com/event/freedom-release/
LOCATION:The Registry Theatre\, 122 Frederick Street\, Kitchener\, ON\, N2H 2L9\, Canada
CATEGORIES:Rental Events
ATTACH;FMTTYPE=image/jpeg:https://registrytheatre.com/wp-content/uploads/2025/10/Freedom-Release-Operations-Manager-xHRtha.jpg
END:VEVENT
BEGIN:VEVENT
DTSTART;TZID=America/Toronto:20250404T200000
DTEND;TZID=America/Toronto:20250404T220000
DTSTAMP:20260419T110343
CREATED:20240829T133236Z
LAST-MODIFIED:20251103T184826Z
UID:10000515-1743796800-1743804000@registrytheatre.com
SUMMARY:RITCHIE-PARRISH-RITCHIE
DESCRIPTION:Folk Night @ The Registry\n\n\n\n\n\n\n\n\n\n\n\nPart of the Registry Roots Weekend\n\n\n\n\n\nThe rhythm section heart of Tanglefoot. Brothers Rob and Steve\, and the other ‘brothers’ Al and Beaker. \n\n\n\nTickets: $28 in advance$30 at the door \n\n\n\n\n\n \n\n\n\nWho to Contact for Event Info and Inquiries:
URL:https://registrytheatre.com/event/ritchie-parish-ritchie/
CATEGORIES:Folk Night,Jazz
ATTACH;FMTTYPE=image/jpeg:https://registrytheatre.com/wp-content/uploads/2025/10/Ritchie-Parrish-RitchieV2-Roots-Weekend-2025-32BUm1.jpg
ORGANIZER;CN="Old Chestnuts Song Circle":MAILTO:jhcole@mgl.ca
END:VEVENT
BEGIN:VEVENT
DTSTART;TZID=America/Toronto:20250405T200000
DTEND;TZID=America/Toronto:20250405T220000
DTSTAMP:20260419T110343
CREATED:20240829T133236Z
LAST-MODIFIED:20251103T184826Z
UID:10000516-1743883200-1743890400@registrytheatre.com
SUMMARY:RUNA
DESCRIPTION:Folk Night @ The Registry\n\n\n\n\n\n\n\n\n\n\n\nPart of the Registry Roots Weekend\n\n\n\n\n\nBack at The Registry by popular demand . The new sound of Celtic music and Americana. \n\n\n\nTickets: $30 in advance$33 at the door$23 live stream \n\n\n\n\n\n \n\n\n\nWho to Contact for Event Info and Inquiries:
URL:https://registrytheatre.com/event/runa-2/
CATEGORIES:Folk Night,Jazz
ORGANIZER;CN="Old Chestnuts Song Circle":MAILTO:jhcole@mgl.ca
END:VEVENT
BEGIN:VEVENT
DTSTART;TZID=America/Toronto:20250407T183000
DTEND;TZID=America/Toronto:20250407T203000
DTSTAMP:20260419T110343
CREATED:20250312T014755Z
LAST-MODIFIED:20251029T185503Z
UID:10000645-1744050600-1744057800@registrytheatre.com
SUMMARY:FROM THE TOP STEP Creative Collective Showcase
DESCRIPTION:Presented by Growing In The Arts School of Dramatic & Expressive Arts \n\n\n\n\n\n\n\nA safe\, brave\, inclusive space for creative sparks to build self-esteem\, strengthen their craft\, and share the gift of performance. \n\n\n\nDoors open 30 minutes prior to show time. General seating. \n\n\n\n\n\nTickets:Adults: $20Youth (17&under): $15
URL:https://registrytheatre.com/event/from-the-top-step-creative-collective-showcase-2/
LOCATION:The Registry Theatre\, 122 Frederick Street\, Kitchener\, ON\, N2H 2L9\, Canada
CATEGORIES:Rental Events
ATTACH;FMTTYPE=image/png:https://registrytheatre.com/wp-content/uploads/2025/03/Screen-Shot-2025-03-11-at-9.07.42-PM.png
ORGANIZER;CN="Growing In The Arts School of Dramatic & Expressive Arts":MAILTO:growinginthearts@gmail.com
END:VEVENT
BEGIN:VEVENT
DTSTART;TZID=America/Toronto:20250409T193000
DTEND;TZID=America/Toronto:20250409T220000
DTSTAMP:20260419T110343
CREATED:20250121T174458Z
LAST-MODIFIED:20251029T183333Z
UID:10000613-1744227000-1744236000@registrytheatre.com
SUMMARY:JACOB MOON PLAYS PROG
DESCRIPTION:Jacob Moon brings his one-man-band approach to performances of the greatest progressive rock in history by Rush\, Pink Floyd and more! \n\n\n\nPrepare for a mesmerizing solo concert where Jacob Moon\, celebrated singer\, guitarist\, and live looping virtuoso\, takes you on a journey through the iconic world of progressive rock! Witness the magic as Jacob brings to life timeless anthems by legendary bands such as Rush\, Genesis\, Yes\, Pink Floyd\, Marillion\, Radiohead\, and Peter Gabriel. \n\n\n\nWith his signature loop artistry and soaring vocals\, Jacob reinvents these classics while staying true to their epic spirit. Whether you’re a prog rock enthusiast or a newcomer\, this intimate and electrifying performance will transport you to a realm where innovation and emotion collide. \n\n\n\nGet ready to experience the music you love like never before—up close and personal! \n\n\n\nTickets: $30
URL:https://registrytheatre.com/event/jacob-moon-plays-prog/
LOCATION:The Registry Theatre\, 122 Frederick Street\, Kitchener\, ON\, N2H 2L9\, Canada
CATEGORIES:Rental Events
ORGANIZER;CN="Jacob Moon":MAILTO:jacob@jacobmoon.com
END:VEVENT
BEGIN:VEVENT
DTSTART;TZID=America/Toronto:20250410T200000
DTEND;TZID=America/Toronto:20250410T220000
DTSTAMP:20260419T110343
CREATED:20240828T154644Z
LAST-MODIFIED:20251101T160928Z
UID:10000508-1744315200-1744322400@registrytheatre.com
SUMMARY:SAFETY LAST!
DESCRIPTION:VOC Silent Film Harmonic @ The Registry\n\n\n\n\n\n\n\n\n\nHarold Lloyd’s 1923 masterpiece. The one with Lloyd dangling from the skyscraper clock. \n\n\n\nTickets: $18$12 with food bank donation (only available at the door) \n\n\n\n\n\n \n\n\n\nWho to Contact for Event Info and Inquiries:
URL:https://registrytheatre.com/event/safety-last/
CATEGORIES:Registry Presents Events,VOC Silent Film
ORGANIZER;CN="The Registry Theatre Presents":MAILTO:info@registrytheatre.com
END:VEVENT
BEGIN:VEVENT
DTSTART;TZID=America/Toronto:20250411T200000
DTEND;TZID=America/Toronto:20250411T220000
DTSTAMP:20260419T110343
CREATED:20230908T115900Z
LAST-MODIFIED:20251101T161852Z
UID:10000536-1744401600-1744408800@registrytheatre.com
SUMMARY:TIM MOHER
DESCRIPTION:Jazz @ The Registry\n\n\n\n\n\n\n\n\n\n\n\nPaul Desmond Centennial Concert\n\n\n\n\n\nTim Moher and his stellar band celebrate the 100th birthday of one of the greats of the American saxophone. Tim shares the Paul Desmond story through his music and a multi-media presentation. \n\n\n\n \n\n\n\nTickets: $30 \n\n\n\n\n\n \n\n\n\nPresented with support from: \n\n\n\n\n\n\n\nWho to contact for event info and inquiries:
URL:https://registrytheatre.com/event/tim-moher/
CATEGORIES:Jazz,Registry Presents Events
ORGANIZER;CN="The Registry Theatre Presents":MAILTO:info@registrytheatre.com
END:VEVENT
BEGIN:VEVENT
DTSTART;TZID=America/Toronto:20250412T200000
DTEND;TZID=America/Toronto:20250412T200000
DTSTAMP:20260419T110343
CREATED:20250227T153856Z
LAST-MODIFIED:20251029T183334Z
UID:10000633-1744488000-1744488000@registrytheatre.com
SUMMARY:Harmonies for Hope and Healing
DESCRIPTION:The Waterloo Region Suicide Prevention Council and The Registry Theatre presents \n\n\n\n\n\n\n\n\n\n\n\nFundraiser in support of Waterloo Region Suicide Prevention Council\n\n\n\nAn Evening of Original Songs and Stories featuring:Russell Allen Scott with John & EllenJay MooreMichael Kelly Cavan \n\n\n\nTickets $25
URL:https://registrytheatre.com/event/harmonies-for-hope-and-healing/
LOCATION:The Registry Theatre\, 122 Frederick Street\, Kitchener\, ON\, N2H 2L9\, Canada
CATEGORIES:Registry Presents Events
ATTACH;FMTTYPE=image/jpeg:https://registrytheatre.com/wp-content/uploads/2025/10/April-12-Suicide-Prevention-Council-concert-poster-Mh6olb.jpg
ORGANIZER;CN="The Registry Theatre Presents":MAILTO:info@registrytheatre.com
END:VEVENT
BEGIN:VEVENT
DTSTART;TZID=America/Toronto:20250413T150000
DTEND;TZID=America/Toronto:20250413T170000
DTSTAMP:20260419T110343
CREATED:20240827T170832Z
LAST-MODIFIED:20251101T161641Z
UID:10000499-1744556400-1744563600@registrytheatre.com
SUMMARY:K-W SYMPHONY BRASS QUINTET
DESCRIPTION:Classics @ The Registry\n\n\n\n\n\n\n\n\n\n\n\nBrass Through the Ages\n\n\n\n\n\nA musical journey through the time. From the masterworks of the Venetian School’s Giovanni Gabrieli\, to a giant of the 20th century Leonard Bernstein. \n\n\n\nTickets: $30 General Admission\, $25 Student/Senior\, kids 12 and under FREE! \n\n\n\n\n\n \n\n\n\nWho to contact for event info and inquiries:\n\n\n\n\n\nSeries Sponsor:
URL:https://registrytheatre.com/event/kwsymphony-brass-quintet/
CATEGORIES:Classics,Registry Presents Events
ATTACH;FMTTYPE=image/png:https://registrytheatre.com/wp-content/uploads/2025/10/KWS-Brass-Classics-24-25-photo-y1nuRb.png
ORGANIZER;CN="The Registry Theatre Presents":MAILTO:info@registrytheatre.com
END:VEVENT
BEGIN:VEVENT
DTSTART;TZID=America/Toronto:20250417T110000
DTEND;TZID=America/Toronto:20250417T120000
DTSTAMP:20260419T110343
CREATED:20250411T160112Z
LAST-MODIFIED:20251029T185503Z
UID:10000651-1744887600-1744891200@registrytheatre.com
SUMMARY:POP! POP! A Carousel Player's Production 
DESCRIPTION:Presented by Cosmic Fishing Theatre as part of the DiSCoVeR children’s series \n\n\n\n\n\n\n\n\n\nDoors open at 10:30 am \n\n\n\nTwo characters who are very different from each other are exploring a strange new world and finding surprises in this colourful sensory experience. One instinctively hides\, the other instinctively seeks. Together they find lots of surprises that pop up everywhere!Pop! Pop! is a performance piece with sensory experiences\, music\, adorable puppets\, set in a coral reef – lots of fun for children and adults alike.This is a non-verbal\, physical theatre performance for very young audiences with puppetry and immersive audience engagement.Children ages 2-5 with caregivers and family members babies in arms welcome.50 minutes \n\n\n\n$15 for children$20 for adults2 for 1 deal available for all children and adult admissionsIndigenous people\, low income families and babies enter for free \n\n\n\n\n\nWho to contact for event info and inquiries:
URL:https://registrytheatre.com/event/pop-pop-a-carousel-players-production/
LOCATION:The Registry Theatre\, 122 Frederick Street\, Kitchener\, ON\, N2H 2L9\, Canada
CATEGORIES:Rental Events
ATTACH;FMTTYPE=image/jpeg:https://registrytheatre.com/wp-content/uploads/2025/10/Pop-Pop-IG-April-2-2025-JVFGa8.jpg
ORGANIZER;CN="Cosmic Fishing Theatre":MAILTO:cosmicfishingtheatre@gmail.com
END:VEVENT
BEGIN:VEVENT
DTSTART;TZID=America/Toronto:20250418T143000
DTEND;TZID=America/Toronto:20250418T153000
DTSTAMP:20260419T110343
CREATED:20250411T161211Z
LAST-MODIFIED:20251029T185503Z
UID:10000655-1744986600-1744990200@registrytheatre.com
SUMMARY:CHOOSE YOUR OWN Puppet Adventure By Shadows & Puppets Theatre
DESCRIPTION:Presented by Cosmic Fishing Theatre as part of the DiSCoVeR children’s series \n\n\n\n\n\n\n\n\n\n*Doors open at 2:00 pmThere once was a story with three places\, two characters and a thing.  What happens in the story? No one knows\, at least not until you\, the audience arrives.  \n\n\n\nPuppets and Shadows Theatre will guide you through an adventure where you choose what happens next.  \n\n\n\nPuppets & Shadows Theatres presents puppet shows and workshops for young audiences. Children ages 5+ with caregivers and family members\, babies in arms welcome50 minutes \n\n\n\n$15 for children$20 for adults2 for 1 deal available for all children and adult admissionsIndigenous people\, low income families and babies enter for free \n\n\n\n\n\nWho to contact for event info and inquiries:
URL:https://registrytheatre.com/event/choose-your-own-puppet-adventure-by-shadows-puppets-theatre/
LOCATION:The Registry Theatre\, 122 Frederick Street\, Kitchener\, ON\, N2H 2L9\, Canada
CATEGORIES:Rental Events
ATTACH;FMTTYPE=image/jpeg:https://registrytheatre.com/wp-content/uploads/2025/04/Choose-Your-Own-Puppet-IG-April-2-2025.jpg
ORGANIZER;CN="Cosmic Fishing Theatre":MAILTO:cosmicfishingtheatre@gmail.com
END:VEVENT
BEGIN:VEVENT
DTSTART;TZID=America/Toronto:20250419T160000
DTEND;TZID=America/Toronto:20250419T180000
DTSTAMP:20260419T110343
CREATED:20250411T172330Z
LAST-MODIFIED:20251029T185504Z
UID:10000657-1745078400-1745085600@registrytheatre.com
SUMMARY:Family Dance Party
DESCRIPTION:Presented by Cosmic Fishing Theatre in collaboration with Neruda Arts as part of the DiSCoVeR children’s series \n\n\n\n\n\n\n\n\n\nWe have been dreaming of throwing a family dance party at The Registry Theatre (our favourite spot in the tri-cities) for years\, and the moment is finally here! \n\n\n\nThis awesome event includes:A projection installation and a performance with 2 explorers you can join in on the adventure. Tasty sweet and savoury treats!Some special prizes available thanks to our special party partners – Princess Cinemas\, Funvilla and THEMUSEUM!Dancing!All ages\, babies and toddlers welcome\, 2 hours; drop-in style \n\n\n\nThis event is meant to build a community of families in a fun and easy way over the Easter long weekend\, in celebration of Spring and all related holidays\, including Eid. Please join us in dancing and meeting new friends at the theatre! \n\n\n\n$5 for children$15 for adults2 for 1 deal available for adult admissionsIndigenous people\, low income families and babies enter for free \n\n\n\n\n\nWho to contact for event info and inquiries:
URL:https://registrytheatre.com/event/family-dance-party/
LOCATION:The Registry Theatre\, 122 Frederick Street\, Kitchener\, ON\, N2H 2L9\, Canada
CATEGORIES:Rental Events
ATTACH;FMTTYPE=image/jpeg:https://registrytheatre.com/wp-content/uploads/2025/10/Family-Dance-Party-IG-April-2-2025-qs0OHL.jpg
ORGANIZER;CN="Cosmic Fishing Theatre":MAILTO:cosmicfishingtheatre@gmail.com
END:VEVENT
BEGIN:VEVENT
DTSTART;TZID=America/Toronto:20250420T143000
DTEND;TZID=America/Toronto:20250420T160000
DTSTAMP:20260419T110343
CREATED:20250411T175324Z
LAST-MODIFIED:20251029T185504Z
UID:10000658-1745159400-1745164800@registrytheatre.com
SUMMARY:Kids Space Explorers
DESCRIPTION:Presented by Cosmic Fishing Theatre as part of the DiSCoVeR children’s series \n\n\n\n\n\n\n\n\n\nKids Space Explorers is our most ambitious offer in the DiSCoVeR series! We are inviting children to create something special together. This is an experimental theatre lab for kids\, by kids.  \n\n\n\nThe kids will take the stage\, supported by professional theatre makers\, to plant the seeds for something extraordinary.90 minutesChildren ages 5+\, with caregivers and family members\, babies in arms welcomeLimited registration is available. Older kids and youth are welcome. \n\n\n\nFree – please get a ticket to register Donations welcome \n\n\n\n\n\nWho to contact for event info and inquiries:
URL:https://registrytheatre.com/event/kids-space-explorers/
LOCATION:The Registry Theatre\, 122 Frederick Street\, Kitchener\, ON\, N2H 2L9\, Canada
CATEGORIES:Rental Events
ATTACH;FMTTYPE=image/jpeg:https://registrytheatre.com/wp-content/uploads/2025/10/Kids-Space-Explorers-IG-April-2-2025-aW1Ax7.jpg
ORGANIZER;CN="Cosmic Fishing Theatre":MAILTO:cosmicfishingtheatre@gmail.com
END:VEVENT
BEGIN:VEVENT
DTSTART;TZID=America/Toronto:20250425T193000
DTEND;TZID=America/Toronto:20250425T213000
DTSTAMP:20260419T110344
CREATED:20250425T181019Z
LAST-MODIFIED:20251103T184325Z
UID:10000666-1745609400-1745616600@registrytheatre.com
SUMMARY:SOMETIMES IT SNOWS IN APRIL
DESCRIPTION:Presented by MT Space \n\n\n\n\n\n\n\n\n\na new work-in-developmenta technical residency between MT Space & Tottering Biped Theatre \n\n\n\nA stag hunter and his prey\, a young man and his lover\, an old man and his dog\, a woman\, a park bench\, a lamppost\, and an umbrella. These words begin to scratch the surface of a new work in progress: Sometimes It Snows in April. Performed by a mime and a mezzo (Trevor Copp and Bó Bárdos)\, Sometimes It Snows in April is a brief and wordless evocation of the mysterious process of grieving and loss.   \n\n\n\nMT Space is thrilled to welcome Tottering Biped Theatre for this exciting week-long technical residency. Each performance will be followed by a talkback. Your voice and feedback are vital to this creative process. We so look forward to sharing the space and bringing art to life with you.   \n\n\n\nNo registration or ticket purchase is required to attend. \n\n\n\nWe welcome payments of any amount (pay-what-you-choose) at the box office\, before or after the performance. 
URL:https://registrytheatre.com/event/sometimes-it-snows-in-april/
LOCATION:The Registry Theatre\, 122 Frederick Street\, Kitchener\, ON\, N2H 2L9\, Canada
CATEGORIES:Classics
ATTACH;FMTTYPE=image/png:https://registrytheatre.com/wp-content/uploads/2025/04/sometimes-it-snows-in-april-image-no-text-e1745463996881.png
ORGANIZER;CN="MT Space":MAILTO:tickets@mtspace.ca
END:VEVENT
END:VCALENDAR