BEGIN:VCALENDAR
VERSION:2.0
PRODID:-//The Registry Theatre - ECPv6.15.20//NONSGML v1.0//EN
CALSCALE:GREGORIAN
METHOD:PUBLISH
X-WR-CALNAME:The Registry Theatre
X-ORIGINAL-URL:https://registrytheatre.com
X-WR-CALDESC:Events for The Registry Theatre
REFRESH-INTERVAL;VALUE=DURATION:PT1H
X-Robots-Tag:noindex
X-PUBLISHED-TTL:PT1H
BEGIN:VTIMEZONE
TZID:America/Toronto
BEGIN:DAYLIGHT
TZOFFSETFROM:-0500
TZOFFSETTO:-0400
TZNAME:EDT
DTSTART:20230312T070000
END:DAYLIGHT
BEGIN:STANDARD
TZOFFSETFROM:-0400
TZOFFSETTO:-0500
TZNAME:EST
DTSTART:20231105T060000
END:STANDARD
BEGIN:DAYLIGHT
TZOFFSETFROM:-0500
TZOFFSETTO:-0400
TZNAME:EDT
DTSTART:20240310T070000
END:DAYLIGHT
BEGIN:STANDARD
TZOFFSETFROM:-0400
TZOFFSETTO:-0500
TZNAME:EST
DTSTART:20241103T060000
END:STANDARD
BEGIN:DAYLIGHT
TZOFFSETFROM:-0500
TZOFFSETTO:-0400
TZNAME:EDT
DTSTART:20250309T070000
END:DAYLIGHT
BEGIN:STANDARD
TZOFFSETFROM:-0400
TZOFFSETTO:-0500
TZNAME:EST
DTSTART:20251102T060000
END:STANDARD
END:VTIMEZONE
BEGIN:VEVENT
DTSTART;TZID=America/Toronto:20241003T193000
DTEND;TZID=America/Toronto:20241003T220000
DTSTAMP:20260420T025833
CREATED:20251029T170458Z
LAST-MODIFIED:20251103T185124Z
UID:10000903-1727983800-1727992800@registrytheatre.com
SUMMARY:Sasha Tease & The Bombshell Babes
DESCRIPTION:Theatre @ The Registry\n\n\n\n\n\n\n\n\n\nA smokin’ hot drag show hosted by Sasha Tease and featuring some of Waterloo Region’s best drag artists: Kara Melle\, Ultra Violet\, Elixxirr\, Peach Blossom\, & Melona. Not a show to miss! \n\n\n\nPlease Note: This show is recommended for audiences 18+. \n\n\n\nTickets: $25
URL:https://registrytheatre.com/event/sasha-tease-the-bombshell-babes/
CATEGORIES:Theatre
ATTACH;FMTTYPE=image/jpeg:https://registrytheatre.com/wp-content/uploads/2025/10/Sasha-Tease-the-bombshell-Babes-3-DxPaT9.jpg
END:VEVENT
BEGIN:VEVENT
DTSTART;TZID=America/Toronto:20241004T193000
DTEND;TZID=America/Toronto:20241004T220000
DTSTAMP:20260420T025833
CREATED:20251029T172149Z
LAST-MODIFIED:20251029T172149Z
UID:10000918-1728070200-1728079200@registrytheatre.com
SUMMARY:Rae Crossman Poetry Evening
DESCRIPTION:Reverence for Radiance\n\n\n\n\n\n\n\nwith accompaniment by Stephen Preece and Gerard Yun\n\n\n\n\n\nRae Crossman’s poems are clear\, accessible\, and celebratory. He presents nature\, love\, parenting\, birth\, death\, and our shared humanity. Musical accompaniment will augment what promises to be a thought-provoking evening.  \n\n\n\nPay what you Can at the Door
URL:https://registrytheatre.com/event/rae-crossman-poetry-evening/
CATEGORIES:Registry Presents Events
ATTACH;FMTTYPE=image/jpeg:https://registrytheatre.com/wp-content/uploads/2025/10/Rae-Crossman-Oct-4-poetry-evening-website-social-media-FOH-KhnYfV.jpg
END:VEVENT
BEGIN:VEVENT
DTSTART;TZID=America/Toronto:20241005T200000
DTEND;TZID=America/Toronto:20241005T220000
DTSTAMP:20260420T025833
CREATED:20251029T171043Z
LAST-MODIFIED:20251103T184508Z
UID:10000906-1728158400-1728165600@registrytheatre.com
SUMMARY:STEVE STRONGMAN
DESCRIPTION:Homegrown @ The Registry\n\n\n\n\n\n\n\n\n\n\n\nAcoustic Blues\n\n\n\n\n\nJUNO Award winner\, multiple Maple Blues Award winner\, and Memphis Blues Challenge Best Guitarist. Plus multi-talented Colin Lapsley bass\, and special guest fiddler Shane Guse of Western Swing Authority.  \n\n\n\nTickets: $40 \n\n\n\n\n\nSeries Sponsor:\n\n\n\n\n\n\n\nWho to contact for event info and inquiries:
URL:https://registrytheatre.com/event/steve-strongman/
CATEGORIES:Homegrown,Registry Presents Events
ATTACH;FMTTYPE=image/jpeg:https://registrytheatre.com/wp-content/uploads/2025/10/Steve-Strongman-Home-Grown-24-25-scaled-zfiF45.jpg
END:VEVENT
BEGIN:VEVENT
DTSTART;TZID=America/Toronto:20241011T183000
DTEND;TZID=America/Toronto:20241011T203000
DTSTAMP:20260420T025833
CREATED:20251029T172149Z
LAST-MODIFIED:20251029T172149Z
UID:10000920-1728671400-1728678600@registrytheatre.com
SUMMARY:MAGICAL COMEDY
DESCRIPTION:Presented by Strahinja Tadic\n\n\n\n\n\n\n\n\n\nPrepare to be amazed at the MAGIC SHOW! Join us for an unforgettable evening filled with mind-boggling tricks and illusions that will leave you in awe. This in-person event promises to be a magical experience like no other. Witness astonishing feats of magic performed by world-renowned magician\, who will keep you on the edge of your seat with his incredible skills and captivating performances. Don’t miss out on this enchanting opportunity to be part of the MAGIC SHOW – a night of wonder and excitement!  \n\n\n\nCome and join us for an amazing evening of magic and laughter that is fun for all ages. Stahinja Tadic\, creates a show that is truly unforgettable. With a dynamic stage presence and a charming personality\, he will take you on a journey of wonder and disbelief.  \n\n\n\nJOIN US FOR SPECTACULAR MAGIC COMEDY SHOW! \n\n\n\nTickets: CHILDREN: $35; ADULTS: $40This show is fun for all ages (4 and up)Psssst! 🤫 We will also have a special guest from the hat. 🎩 \n\n\n\n\n\n\n\n\n\nPresented by:
URL:https://registrytheatre.com/event/magical-comedy/
CATEGORIES:Rental Events
END:VEVENT
BEGIN:VEVENT
DTSTART;TZID=America/Toronto:20241016T193000
DTEND;TZID=America/Toronto:20241016T220000
DTSTAMP:20260420T025833
CREATED:20251029T170458Z
LAST-MODIFIED:20251029T170458Z
UID:10000900-1729107000-1729116000@registrytheatre.com
SUMMARY:The Songs of Robbie Robertson & The Band
DESCRIPTION:Presented by Classic Troubadours\n\n\n\n\n\n\n\n\n\nClassic Troubadours was created by Jacob Moon last year to bring his love for the great songwriters of our time to the stage. His six piece band will bring Robbie Robertson’s incredible songs to life\, both from his solo albums and the back catalog from his seminal work with The Band. Jacob Moon is joined by special guests Chris Chambers\, Bill Evans (keys)\, Selena Evangeline\, Sean O’Grady\, and Mark McIntyre. \n\n\n\nTickets: $40 \n\n\n\n\n\n\n\n\n\nPresented by:
URL:https://registrytheatre.com/event/the-songs-of-robbie-robertson-the-band/
CATEGORIES:Rental Events
ATTACH;FMTTYPE=image/jpeg:https://registrytheatre.com/wp-content/uploads/2025/10/Robbie-Robertson_Poster_85x11-tfde4T.jpg
END:VEVENT
BEGIN:VEVENT
DTSTART;TZID=America/Toronto:20241017T193000
DTEND;TZID=America/Toronto:20241017T213000
DTSTAMP:20260420T025833
CREATED:20251029T170458Z
LAST-MODIFIED:20251029T170458Z
UID:10000901-1729193400-1729200600@registrytheatre.com
SUMMARY:Becoming the Beatles: Unplugged
DESCRIPTION:Presented by Aurelia Productions\n\n\n\n\n\n\n\n\n\n“…AN AMAZING INSIGHT INTO ONE OF THE GREATEST BANDS OF ALL TIME. I WAS BLOWN AWAY…” – Ronnie Brown\, Oakville Centre for the Performing Arts  \n\n\n\nBecoming the Beatles is a captivating live musical documentary\, blending over 300 projections\, 20 live songs and intimate stories to unveil the journey of the legendary band. Led by Yale-educated musician and storyteller Haley Marie\, the show delves into the Beatles’ rise to fame\, their musical evolution and the personal struggles of each member.  \n\n\n\nThe show transcends mere tribute\, offering profound insights into the band’s origins\, their resilience against rejections and the cultural influences that shaped their iconic sound. From wartime hardships to triumphs on the global stage\, experience the untold tales of the Fab Four’s extraordinary legacy in this transformative theatrical experience.  \n\n\n\nHaley Marie holds a Master’s of Music from Yale University. She is a three-time Carnegie Hall performer\, a music historian and brings this live musical documentary to the stage with an intimate and captivating acoustic duo.  \n\n\n\nDirected by Mary-Lu Zahalan\, the world’s first graduate in the Beatles Master’s Program (Liverpool). \n\n\n\nTickets: $49-$54
URL:https://registrytheatre.com/event/becoming-the-beatles-unplugged/
CATEGORIES:Rental Events
ATTACH;FMTTYPE=image/png:https://registrytheatre.com/wp-content/uploads/2025/10/Screen-Shot-2024-08-16-at-10.57.34-AM-Haley-Marie-RUhQUK.png
END:VEVENT
BEGIN:VEVENT
DTSTART;TZID=America/Toronto:20241019T193000
DTEND;TZID=America/Toronto:20241019T213000
DTSTAMP:20260420T025833
CREATED:20251029T163913Z
LAST-MODIFIED:20251029T163913Z
UID:10000860-1729366200-1729373400@registrytheatre.com
SUMMARY:ELVIS TRIBUTE MEMPHIS to VEGAS
DESCRIPTION:Blue Suede Elvis Tribute Band \n\n\n\n\n\n\n\nThe Blue Suede Elvis tribute band is not your typical impersonator tribute. What sets them apart from other tribute bands is their focus on the sound and authenticity of Elvis Presley’s music. They prioritize delivering a true rock ‘n’ roll experience without relying on gimmicks\, fancy costumes\, or backtracks. Their goal is to transport the audience back to the golden era of music and capture the essence of Elvis’s live performances from Memphis to Vegas. By emphasizing the music itself\, the Blue Suede Elvis tribute band aims to create an immersive and memorable experience that pays tribute to the King of Rock ‘n’ Roll in the most authentic way possible. We don’t want to dress or look like him there was only one Elvis and no one could or will ever replace him. We want to honour him the best way we know how by performing his songs and carrying on his legacy for generations to come. Elvis Will Live On Forever! \n\n\n\n\nhttps://youtu.be/SVRiNYHofZU\n\n\n\n\n\n\nTickets: $45
URL:https://registrytheatre.com/event/elvis-tribute-memphis-to-vegas/
CATEGORIES:Rental Events
ATTACH;FMTTYPE=image/jpeg:https://registrytheatre.com/wp-content/uploads/2025/10/Registry-Theatre-Manny-Cabral-3HZHmC.jpg
END:VEVENT
BEGIN:VEVENT
DTSTART;TZID=America/Toronto:20241020T163000
DTEND;TZID=America/Toronto:20241020T183000
DTSTAMP:20260420T025833
CREATED:20251029T172149Z
LAST-MODIFIED:20251029T172149Z
UID:10000926-1729441800-1729449000@registrytheatre.com
SUMMARY:STUDENT WORKS & BIG BLUE WORLD
DESCRIPTION:Presented by Carousel Dance Company\n\n\n\n\n\n\n\n\n\n\n\nJoin the Carousel Dancers for our first performance of the season. Big Blue World was created at our Dance Performers program this summer and is a high energy performance enjoyable for all ages. Student works is a collection of new dance pieces created by Carousel students. Come out and see what these talented teens have been up to in the studios this fall. \n\n\n\nTickets: $15 adult\, $10 child/student/senior To purchase tickets call 519-746-8877 or visit the Carousel Dance Centre in person – payment may be made by cash\, debit or credit \n\n\n\n\n\nPresented by:
URL:https://registrytheatre.com/event/student-works-big-blue-world/
CATEGORIES:Rental Events
ATTACH;FMTTYPE=image/png:https://registrytheatre.com/wp-content/uploads/2025/10/20.10.2024-Big-Blue-World-Student-Works-Heidi-Churchill-Nhrtv7.png
END:VEVENT
BEGIN:VEVENT
DTSTART;TZID=America/Toronto:20241024T200000
DTEND;TZID=America/Toronto:20241024T220000
DTSTAMP:20260420T025833
CREATED:20251029T171043Z
LAST-MODIFIED:20251101T160928Z
UID:10000908-1729800000-1729807200@registrytheatre.com
SUMMARY:HÄXAN
DESCRIPTION:VOC Silent Film Harmonic @ The Registry\n\n\n\n\n\n\n\n\n\nBenjamin Christensen’s 1922 horror docudrama\, aka Witchcraft Through the Ages. From pagan roots to the witch hunts of Europe. \n\n\n\nTickets: $18$12 with food bank donation (only available at the door) \n\n\n\n\n\n \n\n\n\nWho to Contact for Event Info and Inquiries:
URL:https://registrytheatre.com/event/haxan/
CATEGORIES:Registry Presents Events,VOC Silent Film
END:VEVENT
BEGIN:VEVENT
DTSTART;TZID=America/Toronto:20241026T200000
DTEND;TZID=America/Toronto:20241026T220000
DTSTAMP:20260420T025833
CREATED:20251029T171043Z
LAST-MODIFIED:20251103T184826Z
UID:10000910-1729972800-1729980000@registrytheatre.com
SUMMARY:SCOTT COOK & PAMELA MAE
DESCRIPTION:Folk Night @ The Registry\n\n\n\n\n\n\n\n\n\n\n\nSpecial guest Jay Linden\n\n\n\n\n\nAlberta’s road warrior folk troubadour returns to Folk Night\, along with an opening set from a local favourite. \n\n\n\nTickets: $25 in advance$28 at the door$20 Live Stream \n\n\n\n\n\n \n\n\n\nWho to Contact for Event Info and Inquiries:
URL:https://registrytheatre.com/event/scott-cook-pamela-mae/
CATEGORIES:Folk Night,Jazz
ATTACH;FMTTYPE=image/webp:https://registrytheatre.com/wp-content/uploads/2025/10/Scott-Cook-24-25-FN-photo-Andy-Stanislav-14NhX2.webp
END:VEVENT
BEGIN:VEVENT
DTSTART;TZID=America/Toronto:20241027T150000
DTEND;TZID=America/Toronto:20241027T170000
DTSTAMP:20260420T025833
CREATED:20251029T170458Z
LAST-MODIFIED:20251101T161641Z
UID:10000904-1730041200-1730048400@registrytheatre.com
SUMMARY:AFTERNOON SOIRÉE: THE LESCHETIZKY CONCERT
DESCRIPTION:Classics @ The Registry\n\n\n\n\n\n\n\n\n\n\n\nTerry Kroetsch Remembered\n\n\n\n\n\nThe Ontario Chapter of the Leschetizky Association honours a multifaceted musician\, and a dedicated and beloved teacher. Featuring 15 Sinfonias by Bach\, and a reading of David Ives’ Philip Glass Buys a Loaf of Bread. A soirée in the Lyell Gustin tradition. \n\n\n\nPay What You Can at the Door \n\n\n\n\n\n \n\n\n\nWho to contact for event info and inquiries:\n\n\n\n\n\nSeries Sponsor:
URL:https://registrytheatre.com/event/afternoon-soiree-the-leschetizky-concert-2/
CATEGORIES:Classics,Registry Presents Events
ATTACH;FMTTYPE=image/jpeg:https://registrytheatre.com/wp-content/uploads/2025/10/Terry-KroetschV3-Classics-24-25-Leschetizky-SXkzWR.jpg
END:VEVENT
BEGIN:VEVENT
DTSTART;TZID=America/Toronto:20241027T190000
DTEND;TZID=America/Toronto:20241027T210000
DTSTAMP:20260420T025833
CREATED:20251029T183121Z
LAST-MODIFIED:20251029T183121Z
UID:10000927-1730055600-1730062800@registrytheatre.com
SUMMARY:FROM THE CITY OF BRIDGES TO THE CITY OF LIGHTS
DESCRIPTION:Presented by NUMUS Concerts \n\n\n\n\n\n\n\nWorld premiere Documentary by Nigel Baines – The Life and music of Boyd McDonald \n\n\n\nFour years in the making\, From the City of Bridges to the City of Lights traces thefascinating\, 9-decade-long musical journey of Boyd McDonald – one of Canada’s mostprolific\, talented and loved pianists/composers – from rural Saskatchewan to the greatconcert halls of Europe – and the important contributions he has made to the NewMusic\, Classical and Early Music scenes in Canada.To find out how\, against all the odds\, a farm boy and piano prodigy from Saskatchewancame to study at the legendary music teacher Nadia Boulanger in Paris and about theopera he is currently writing\, you will just have to attend the NUMUS World Premiere ofthis much anticipated film about the life and music of the inspiring and unstoppableBoyd McDonald.Featuring performances by Boyd McDonald\, Carolyn Arnason\, Guy Few\, ChristineVanderkooy\, Ben Bolt Martin\, Charmaine Fopoussi\, Joseph Petric and the PendereckiString Quartet. \n\n\n\n\n\nTickets: $40 (plus equity lens and student price – $10)Available online and at the door.
URL:https://registrytheatre.com/event/from-the-city-of-bridges-to-the-city-of-lights/
CATEGORIES:Rental Events
END:VEVENT
END:VCALENDAR