BEGIN:VCALENDAR
VERSION:2.0
PRODID:-//The Registry Theatre - ECPv6.15.20//NONSGML v1.0//EN
CALSCALE:GREGORIAN
METHOD:PUBLISH
X-WR-CALNAME:The Registry Theatre
X-ORIGINAL-URL:https://registrytheatre.com
X-WR-CALDESC:Events for The Registry Theatre
REFRESH-INTERVAL;VALUE=DURATION:PT1H
X-Robots-Tag:noindex
X-PUBLISHED-TTL:PT1H
BEGIN:VTIMEZONE
TZID:America/Toronto
BEGIN:DAYLIGHT
TZOFFSETFROM:-0500
TZOFFSETTO:-0400
TZNAME:EDT
DTSTART:20230312T070000
END:DAYLIGHT
BEGIN:STANDARD
TZOFFSETFROM:-0400
TZOFFSETTO:-0500
TZNAME:EST
DTSTART:20231105T060000
END:STANDARD
BEGIN:DAYLIGHT
TZOFFSETFROM:-0500
TZOFFSETTO:-0400
TZNAME:EDT
DTSTART:20240310T070000
END:DAYLIGHT
BEGIN:STANDARD
TZOFFSETFROM:-0400
TZOFFSETTO:-0500
TZNAME:EST
DTSTART:20241103T060000
END:STANDARD
BEGIN:DAYLIGHT
TZOFFSETFROM:-0500
TZOFFSETTO:-0400
TZNAME:EDT
DTSTART:20250309T070000
END:DAYLIGHT
BEGIN:STANDARD
TZOFFSETFROM:-0400
TZOFFSETTO:-0500
TZNAME:EST
DTSTART:20251102T060000
END:STANDARD
END:VTIMEZONE
BEGIN:VEVENT
DTSTART;TZID=America/Toronto:20240908T160000
DTEND;TZID=America/Toronto:20240908T190000
DTSTAMP:20260422T044332
CREATED:20251029T170207Z
LAST-MODIFIED:20251029T170207Z
UID:10000880-1725811200-1725822000@registrytheatre.com
SUMMARY:PEARL'S PSYCHEDELIC REVUE
DESCRIPTION:PRESENTED BY: Christina Leroux\, Dylan Wickens\, Jess Webber\n\n\n\n\n\n\n\n\n\nA ONE NIGHT ONLY groovy event.Christina Leroux presents Pearl: A Janis Joplin Experience – passionately recreating the greatest songs of this unforgettable icon launched into stardom during the summer of love. Performing timeless classics like: Piece of my Heart\, Cry Baby\, Me and Bobby McGee and many others you’ll be whisked back to the groovy years of peace and love like you never left! Featuring: Christina Leroux\, Dan Predhomme\, Brayden Hackl\, Caleb Bourgeois\, Nick Barkley\, Danielle Beck\, Don Featherstone\, Greg Dozois and Christopher Young.  \n\n\n\nCarry On: The music of Crosby\, Stills\, Nash and Young is a musical journey through time. With a catalogue spanning from their second appearance at Woodstock right up until the early 90’s\, this show features a variety of their catalogue\, leaving audiences at the edge of their seats. Featuring: Jesse Webber\, Jay Carraro\, Ryan Brohman and Craig McNair.  \n\n\n\nAcclaimed guitarist and songwriter\, Dylan Wickens continues to be on the move. Having performed across Canada for years and at too many festivals to count\, Wickens brings the fire. Every. Night. For this event\, he revives his electrifying tribute; Stone Free: The music of Jimi Hendrix. Featuring: Dylan Wickens\, Ryan Allen and Mike Rajna.  \n\n\n\nThis event is not to be missed!  \n\n\n\nPearl merch will be available and the event is licensed by our friends at the Duke of Wellington. \n\n\n\nDoors at 3 pm\, Show Starts at 4 pm \n\n\n\n4:00-4:45pm Carry On: The music of Crosby\, Stills\, Nash and Young 5:00-5:45pm Stone Free: The music of Jimi Hendrix 6:00-7:00pm- Pearl: A Janis Joplin Experience \n\n\n\n$50.00 – General Admission$65.00 VIPTickets are available online\, and through any of the musicians.
URL:https://registrytheatre.com/event/pearls-psychedelic-revue/
CATEGORIES:Rental Events
ATTACH;FMTTYPE=image/png:https://registrytheatre.com/wp-content/uploads/2025/10/Screen-Shot-2024-07-24-at-12.16.12-PM-rOQA03.png
END:VEVENT
BEGIN:VEVENT
DTSTART;TZID=America/Toronto:20240913T190000
DTEND;TZID=America/Toronto:20240913T210000
DTSTAMP:20260422T044332
CREATED:20251029T170458Z
LAST-MODIFIED:20251029T170458Z
UID:10000896-1726254000-1726261200@registrytheatre.com
SUMMARY:James Chapeskie LIVE #2
DESCRIPTION:Presented by J Music Records\n\n\n\n\n\n\n\n\n\nThe man\, the myth\, the legend James Chapeskie is back with an all new extravagant Live show where music\, dance\, and dazzling lights unite!  \n\n\n\nThis 2 hour concert features musical performances by James Chapeskie and the J Music singers! Performing 13 original songs including Fairy in the Night\, Feeling of Victory\, A Vision\, Was No More just to name a few\, as well as his newest songs from this year all in sync with eye catching lighting effects\, dancers\, comedy\, theatrical presentation\, and more! \n\n\n\nDoors open at 6:20 pm\, show begins at 7 pm. \n\n\n\nTickets:  \n\n\n\nOnline in Advance: $34.93Via Cash at the Door: $40 \n\n\n\n\n\n\n\n\n\nPresented by:
URL:https://registrytheatre.com/event/james-chapeskie-live-2/
CATEGORIES:Rental Events
ATTACH;FMTTYPE=image/jpeg:https://registrytheatre.com/wp-content/uploads/2025/10/eventbrite-James-Chapeskie-KOe1oD.jpg
END:VEVENT
BEGIN:VEVENT
DTSTART;TZID=America/Toronto:20240914T190000
DTEND;TZID=America/Toronto:20240914T220000
DTSTAMP:20260422T044332
CREATED:20251029T170207Z
LAST-MODIFIED:20251029T170207Z
UID:10000887-1726340400-1726351200@registrytheatre.com
SUMMARY:ROOTS NIGHT At The Registry
DESCRIPTION:Presented by Cats Cove Media \n\n\n\n\n\n\n\nCats Cove Media Presents: Roots Night At The Registry! Get ready for a night of fantastic performances at The Registry Theatre! Join us on Sat Sept 14\, 2024 at 6:30 PM for an extrodinary experience. With performances from incredibly talented folk acts: Katy Topham\, 7pmEric Jackson & The Willow River Band\, 7:45pm Onion Honey \, 9pmCome out\, sit back\, relax\, and enjoy a night of Folk you’ll not soon forget! Saturday\, Sept 14th\, 2024 The Registry Theatre Doors @ 6:30pm All Ages \n\n\n\n\n\n$25 ADVANCED SALE // $30 AT THE DOOR
URL:https://registrytheatre.com/event/roots-night-at-the-registry/
CATEGORIES:Rental Events
ATTACH;FMTTYPE=image/png:https://registrytheatre.com/wp-content/uploads/2025/10/ROOTS-NIGHT-@-THE-REGISTRY-Instagram-Post-Cats-Cove-Media-aaAsrA.png
END:VEVENT
BEGIN:VEVENT
DTSTART;TZID=America/Toronto:20240915T140000
DTEND;TZID=America/Toronto:20240915T160000
DTSTAMP:20260422T044332
CREATED:20251029T170207Z
LAST-MODIFIED:20251029T170207Z
UID:10000883-1726408800-1726416000@registrytheatre.com
SUMMARY:AN AFTERNOON WITH SPIRIT
DESCRIPTION:SHERRY GALLANT \n\n\n\n\n\n\n\nThe death of a loved one is one of life’s most difficult experiences. The struggle with many intense and frightening emotions\, including depression\, anger\, and guilt. Feeling isolated and alone in your grief\, but having someone to lean on can help you through the grieving process.  \n\n\n\nIn this live event\, Sherry will validate messages from loved ones who have crossed over to members of the audience and educate them that our loved ones are always with us.  \n\n\n\nShe creates a comfortable and welcoming atmosphere in order to ensure a peaceful and spiritual experience. She continues to encourage her sceptics to not let discomfort prevent them from receiving validation and loving messages from their loved ones who have crossed over.  \n\n\n\nSherry brings comfort\, hope and closure to people who are grieving the loss of their loved ones. She continues to help countless people. Having suffered a tremendous amount of grief herself\, Sherry understands the emptiness inside. Her inspiration and motivational communications with the spirt world has truly been unbelievable.  \n\n\n\nValidating messages to those grieving and helping them find peace is the most rewarding for Sherry. The closure and comfort her clients find is what keeps Sherry moving forward feeling fulfilled and grateful to have such a special gift. \n\n\n\n\n\nTickets: $49.99
URL:https://registrytheatre.com/event/an-afternoon-with-spirit/
CATEGORIES:Rental Events
END:VEVENT
BEGIN:VEVENT
DTSTART;TZID=America/Toronto:20240921T200000
DTEND;TZID=America/Toronto:20240921T220000
DTSTAMP:20260422T044332
CREATED:20251029T171043Z
LAST-MODIFIED:20251103T184826Z
UID:10000909-1726948800-1726956000@registrytheatre.com
SUMMARY:LYNN MILES
DESCRIPTION:Folk Night @ The Registry\n\n\n\n\n\n\n\n\n\nJUNO and Canadian Folk Music Award winner\, Lynn makes a welcome return to Folk Night. \n\n\n\nTickets: $25 in advance$28 at the door$20 Live Stream \n\n\n\n\n\n \n\n\n\nWho to Contact for Event Info and Inquiries:
URL:https://registrytheatre.com/event/lynn-miles/
CATEGORIES:Folk Night,Jazz
END:VEVENT
BEGIN:VEVENT
DTSTART;TZID=America/Toronto:20240922T193000
DTEND;TZID=America/Toronto:20240922T213000
DTSTAMP:20260422T044332
CREATED:20251029T170458Z
LAST-MODIFIED:20251029T170458Z
UID:10000899-1727033400-1727040600@registrytheatre.com
SUMMARY:Make Our Garden GRO
DESCRIPTION:Presented by Grand River Opera\n\n\n\n\n\n\n\n\n\nGrand River Opera presents a Gala Concert of opera excerpts at the Registry Theatre\, featuring some of the tremendous talent local to the Waterloo Region.  \n\n\n\nWe will also have a cash bar\, hors d’oeuvres\, and a silent auction featuring many local businesses. All proceeds will help make our November production of Hansel & Gretel possible. \n\n\n\nDoors @ 6:30 pm; Show @ 7:30 pm. \n\n\n\nTickets: $50 \n\n\n\n\n\n\n\n\n\nPresented by:
URL:https://registrytheatre.com/event/make-our-garden-gro/
CATEGORIES:Rental Events
END:VEVENT
BEGIN:VEVENT
DTSTART;TZID=America/Toronto:20240926T193000
DTEND;TZID=America/Toronto:20240926T213000
DTSTAMP:20260422T044332
CREATED:20251029T172149Z
LAST-MODIFIED:20251029T172149Z
UID:10000921-1727379000-1727386200@registrytheatre.com
SUMMARY:BLACK & RURAL
DESCRIPTION:Presented by MT Space \n\n\n\n\n\n\n\n\n\nBlack & Rural is the story of a lone Black country woman struggling to defy the monolith of what matters to Black lives. Derived from dozens of real-life interviews with Black folk tucked away on the countryside across Canada\, Shayna Jones weaves together a story of vulnerability\, quiet triumph\, and striking humanity. The show features Shayna’s unique storytelling voice\, interspersed with new folkloric tales and verbatim reflections from her interviewees. \n\n\n\nADVISORY INFORMATION: Black + Rural is drawn from the true stories of Black Canadians\, and explores their lived experiences with frankness and grace. This show features strong language. If you have any questions or concerns\, please reach out to info@pitheatre.com. \n\n\n\nTickets: $10-30 (free for Indigenous peoples to attend)Thursday\, September 26\, 2024 – 7:30 PM with ASL interpretationFriday\, September 27\, 2024 – 7:30 PM with TalkbackSaturday\, September 28\, 2024 – 7:30 PMSunday\, September 29\, 2024 – 2:00 PM with Talkback \n\n\n\n\nGet Tickets
URL:https://registrytheatre.com/event/black-rural/
CATEGORIES:Registry Presents Events
ATTACH;FMTTYPE=image/jpeg:https://registrytheatre.com/wp-content/uploads/2025/10/BlackandRural2023_photobySaraRace-4-MTSpaceTheatre-scaled-9tuFor.jpg
END:VEVENT
END:VCALENDAR